Workbook

Sheet Dashboard
A1: CONTROLE DE HORAS TRABALHADAS
A3: Jornada real, saldo e alocação por projeto sem dupla contagem.
A5: Mês de referência | B5: =Configuracoes!B6 -> 46296
A8: HORAS TRABALHADAS | D8: HORAS PREVISTAS | G8: HORAS EXTRAS | J8: DÉFICIT | M8: SALDO DO MÊS
A9: =SUMIFS(Jornada!$I$6:$I$300,Jornada!$A$6:$A$300,">="&EOMONTH($B$5,-1)+1,Jornada!$A$6:$A$300,"<="&EOMONTH($B$5,0)) -> 51.55 | D9: =SUMIFS(Jornada!$J$6:$J$300,Jornada!$A$6:$A$300,">="&EOMONTH($B$5,-1)+1,Jornada!$A$6:$A$300,"<="&EOMONTH($B$5,0)) -> 51.2 | G9: =SUMIFS(Jornada!$L$6:$L$300,Jornada!$A$6:$A$300,">="&EOMONTH($B$5,-1)+1,Jornada!$A$6:$A$300,"<="&EOMONTH($B$5,0)) -> 1.95 | J9: =SUMIFS(Jornada!$M$6:$M$300,Jornada!$A$6:$A$300,">="&EOMONTH($B$5,-1)+1,Jornada!$A$6:$A$300,"<="&EOMONTH($B$5,0)) -> 1.6 | M9: =A9-D9 -> 0.35
A14: Jornadas válidas | B14: Pendências na Jornada | C14: Horas apontadas | D14: Horas não alocadas | E14: Valor faturável
A15: =COUNTIFS(Jornada!$A$6:$A$300,">="&EOMONTH($B$5,-1)+1,Jornada!$A$6:$A$300,"<"&EOMONTH($B$5,0)+1,Jornada!$N$6:$N$300,"OK") -> 6 | B15: =COUNTIF(Jornada!$N$6:$N$300,"INCOMPLETO")+COUNTIF(Jornada!$N$6:$N$300,"VERIFICAR") -> 0 | C15: =SUMIFS(Apontamentos!$M$6:$M$400,Apontamentos!$A$6:$A$400,">="&EOMONTH($B$5,-1)+1,Apontamentos!$A$6:$A$400,"<"&EOMONTH($B$5,0)+1) -> 51.55 | D15: =SUMIFS(Jornada!$P$6:$P$300,Jornada!$A$6:$A$300,">="&EOMONTH($B$5,-1)+1,Jornada!$A$6:$A$300,"<"&EOMONTH($B$5,0)+1) -> 0 | E15: =SUMIFS(Apontamentos!$I$6:$I$400,Apontamentos!$A$6:$A$400,">="&EOMONTH($B$5,-1)+1,Apontamentos!$A$6:$A$400,"<"&EOMONTH($B$5,0)+1) -> 2382.5
A19: Colaborador | B19: Horas trabalhadas | C19: Saldo | E19: Projeto / Cliente | F19: Horas apontadas | G19: Valor faturável
A20: =A40 -> 001 · Ana Souza | B20: =B40 -> 8.8 | C20: =C40 -> 0 | E20: =E40 -> Projeto Alpha | F20: =F40 -> 13.5 | G20: =G40 -> 1282.5
A21: =A41 -> 002 · Bruno Lima | B21: =B41 -> 8.5 | C21: =C41 -> -0.3 | E21: =E41 -> Rotina Operacional | F21: =F41 -> 16.3 | G21: =G41 -> 0
A22: =A42 -> 003 · Carla Mendes | B22: =B42 -> 7.5 | C22: =C42 -> -1.3 | E22: =E42 -> Manutenção Preventiva | F22: =F42 -> 8.5 | G22: =G42 -> 0
A23: =A43 -> 004 · Diego Alves | B23: =B43 -> 16.75 | C23: =C43 -> 0.75 | E23: =E43 -> Consultoria SHE | F23: =F43 -> 10 | G23: =G43 -> 1100
A24: =A44 -> 005 · Elisa Rocha | B24: =B44 -> 10 | C24: =C44 -> 1.2 | E24: =E44 -> Gestão Interna | F24: =F44 -> 3.25 | G24: =G44 -> 0
A28: LEITURA GERENCIAL
A29: A aba Jornada controla presença e saldo sem dupla contagem. A aba Apontamentos distribui essas horas entre projetos. Se a soma dos apontamentos for menor que a jornada, o Dashboard mostra horas não alocadas; se exceder a jornada, a própria base sinaliza o problema.
A39: Colaborador (cadastro completo) | B39: Horas trabalhadas | C39: Saldo | E39: Projeto (cadastro completo) | F39: Horas apontadas | G39: Valor faturável
A40: =IF(Colaboradores!A6="","",Colaboradores!A6&" · "&Colaboradores!B6) -> 001 · Ana Souza | B40: =IF(A40="","",SUMIFS(Jornada!$I$6:$I$300,Jornada!$B$6:$B$300,Colaboradores!A6,Jornada!$A$6:$A$300,">="&EOMONTH($B$5,-1)+1,Jornada!$A$6:$A$300,"<"&EOMONTH($B$5,0)+1)) -> 8.8 | C40: =IF(A40="","",SUMIFS(Jornada!$K$6:$K$300,Jornada!$B$6:$B$300,Colaboradores!A6,Jornada!$A$6:$A$300,">="&EOMONTH($B$5,-1)+1,Jornada!$A$6:$A$300,"<"&EOMONTH($B$5,0)+1)) -> 0 | E40: =IF(Projetos!B6="","",Projetos!B6) -> Projeto Alpha | F40: =IF(E40="","",SUMIFS(Apontamentos!$M$6:$M$400,Apontamentos!$D$6:$D$400,E40,Apontamentos!$A$6:$A$400,">="&EOMONTH($B$5,-1)+1,Apontamentos!$A$6:$A$400,"<"&EOMONTH($B$5,0)+1)) -> 13.5 | G40: =IF(E40="","",SUMIFS(Apontamentos!$I$6:$I$400,Apontamentos!$D$6:$D$400,E40,Apontamentos!$A$6:$A$400,">="&EOMONTH($B$5,-1)+1,Apontamentos!$A$6:$A$400,"<"&EOMONTH($B$5,0)+1)) -> 1282.5
A41: =IF(Colaboradores!A7="","",Colaboradores!A7&" · "&Colaboradores!B7) -> 002 · Bruno Lima | B41: =IF(A41="","",SUMIFS(Jornada!$I$6:$I$300,Jornada!$B$6:$B$300,Colaboradores!A7,Jornada!$A$6:$A$300,">="&EOMONTH($B$5,-1)+1,Jornada!$A$6:$A$300,"<"&EOMONTH($B$5,0)+1)) -> 8.5 | C41: =IF(A41="","",SUMIFS(Jornada!$K$6:$K$300,Jornada!$B$6:$B$300,Colaboradores!A7,Jornada!$A$6:$A$300,">="&EOMONTH($B$5,-1)+1,Jornada!$A$6:$A$300,"<"&EOMONTH($B$5,0)+1)) -> -0.3 | E41: =IF(Projetos!B7="","",Projetos!B7) -> Rotina Operacional | F41: =IF(E41="","",SUMIFS(Apontamentos!$M$6:$M$400,Apontamentos!$D$6:$D$400,E41,Apontamentos!$A$6:$A$400,">="&EOMONTH($B$5,-1)+1,Apontamentos!$A$6:$A$400,"<"&EOMONTH($B$5,0)+1)) -> 16.3 | G41: =IF(E41="","",SUMIFS(Apontamentos!$I$6:$I$400,Apontamentos!$D$6:$D$400,E41,Apontamentos!$A$6:$A$400,">="&EOMONTH($B$5,-1)+1,Apontamentos!$A$6:$A$400,"<"&EOMONTH($B$5,0)+1)) -> 0
A42: =IF(Colaboradores!A8="","",Colaboradores!A8&" · "&Colaboradores!B8) -> 003 · Carla Mendes | B42: =IF(A42="","",SUMIFS(Jornada!$I$6:$I$300,Jornada!$B$6:$B$300,Colaboradores!A8,Jornada!$A$6:$A$300,">="&EOMONTH($B$5,-1)+1,Jornada!$A$6:$A$300,"<"&EOMONTH($B$5,0)+1)) -> 7.5 | C42: =IF(A42="","",SUMIFS(Jornada!$K$6:$K$300,Jornada!$B$6:$B$300,Colaboradores!A8,Jornada!$A$6:$A$300,">="&EOMONTH($B$5,-1)+1,Jornada!$A$6:$A$300,"<"&EOMONTH($B$5,0)+1)) -> -1.3 | E42: =IF(Projetos!B8="","",Projetos!B8) -> Manutenção Preventiva | F42: =IF(E42="","",SUMIFS(Apontamentos!$M$6:$M$400,Apontamentos!$D$6:$D$400,E42,Apontamentos!$A$6:$A$400,">="&EOMONTH($B$5,-1)+1,Apontamentos!$A$6:$A$400,"<"&EOMONTH($B$5,0)+1)) -> 8.5 | G42: =IF(E42="","",SUMIFS(Apontamentos!$I$6:$I$400,Apontamentos!$D$6:$D$400,E42,Apontamentos!$A$6:$A$400,">="&EOMONTH($B$5,-1)+1,Apontamentos!$A$6:$A$400,"<"&EOMONTH($B$5,0)+1)) -> 0
A43: =IF(Colaboradores!A9="","",Colaboradores!A9&" · "&Colaboradores!B9) -> 004 · Diego Alves | B43: =IF(A43="","",SUMIFS(Jornada!$I$6:$I$300,Jornada!$B$6:$B$300,Colaboradores!A9,Jornada!$A$6:$A$300,">="&EOMONTH($B$5,-1)+1,Jornada!$A$6:$A$300,"<"&EOMONTH($B$5,0)+1)) -> 16.75 | C43: =IF(A43="","",SUMIFS(Jornada!$K$6:$K$300,Jornada!$B$6:$B$300,Colaboradores!A9,Jornada!$A$6:$A$300,">="&EOMONTH($B$5,-1)+1,Jornada!$A$6:$A$300,"<"&EOMONTH($B$5,0)+1)) -> 0.75 | E43: =IF(Projetos!B9="","",Projetos!B9) -> Consultoria SHE | F43: =IF(E43="","",SUMIFS(Apontamentos!$M$6:$M$400,Apontamentos!$D$6:$D$400,E43,Apontamentos!$A$6:$A$400,">="&EOMONTH($B$5,-1)+1,Apontamentos!$A$6:$A$400,"<"&EOMONTH($B$5,0)+1)) -> 10 | G43: =IF(E43="","",SUMIFS(Apontamentos!$I$6:$I$400,Apontamentos!$D$6:$D$400,E43,Apontamentos!$A$6:$A$400,">="&EOMONTH($B$5,-1)+1,Apontamentos!$A$6:$A$400,"<"&EOMONTH($B$5,0)+1)) -> 1100
A44: =IF(Colaboradores!A10="","",Colaboradores!A10&" · "&Colaboradores!B10) -> 005 · Elisa Rocha | B44: =IF(A44="","",SUMIFS(Jornada!$I$6:$I$300,Jornada!$B$6:$B$300,Colaboradores!A10,Jornada!$A$6:$A$300,">="&EOMONTH($B$5,-1)+1,Jornada!$A$6:$A$300,"<"&EOMONTH($B$5,0)+1)) -> 10 | C44: =IF(A44="","",SUMIFS(Jornada!$K$6:$K$300,Jornada!$B$6:$B$300,Colaboradores!A10,Jornada!$A$6:$A$300,">="&EOMONTH($B$5,-1)+1,Jornada!$A$6:$A$300,"<"&EOMONTH($B$5,0)+1)) -> 1.2 | E44: =IF(Projetos!B10="","",Projetos!B10) -> Gestão Interna | F44: =IF(E44="","",SUMIFS(Apontamentos!$M$6:$M$400,Apontamentos!$D$6:$D$400,E44,Apontamentos!$A$6:$A$400,">="&EOMONTH($B$5,-1)+1,Apontamentos!$A$6:$A$400,"<"&EOMONTH($B$5,0)+1)) -> 3.25 | G44: =IF(E44="","",SUMIFS(Apontamentos!$I$6:$I$400,Apontamentos!$D$6:$D$400,E44,Apontamentos!$A$6:$A$400,">="&EOMONTH($B$5,-1)+1,Apontamentos!$A$6:$A$400,"<"&EOMONTH($B$5,0)+1)) -> 0
A45: =IF(Colaboradores!A11="","",Colaboradores!A11&" · "&Colaboradores!B11) | B45: =IF(A45="","",SUMIFS(Jornada!$I$6:$I$300,Jornada!$B$6:$B$300,Colaboradores!A11,Jornada!$A$6:$A$300,">="&EOMONTH($B$5,-1)+1,Jornada!$A$6:$A$300,"<"&EOMONTH($B$5,0)+1)) | C45: =IF(A45="","",SUMIFS(Jornada!$K$6:$K$300,Jornada!$B$6:$B$300,Colaboradores!A11,Jornada!$A$6:$A$300,">="&EOMONTH($B$5,-1)+1,Jornada!$A$6:$A$300,"<"&EOMONTH($B$5,0)+1)) | E45: =IF(Projetos!B11="","",Projetos!B11) | F45: =IF(E45="","",SUMIFS(Apontamentos!$M$6:$M$400,Apontamentos!$D$6:$D$400,E45,Apontamentos!$A$6:$A$400,">="&EOMONTH($B$5,-1)+1,Apontamentos!$A$6:$A$400,"<"&EOMONTH($B$5,0)+1)) | G45: =IF(E45="","",SUMIFS(Apontamentos!$I$6:$I$400,Apontamentos!$D$6:$D$400,E45,Apontamentos!$A$6:$A$400,">="&EOMONTH($B$5,-1)+1,Apontamentos!$A$6:$A$400,"<"&EOMONTH($B$5,0)+1))
A46: =IF(Colaboradores!A12="","",Colaboradores!A12&" · "&Colaboradores!B12) | B46: =IF(A46="","",SUMIFS(Jornada!$I$6:$I$300,Jornada!$B$6:$B$300,Colaboradores!A12,Jornada!$A$6:$A$300,">="&EOMONTH($B$5,-1)+1,Jornada!$A$6:$A$300,"<"&EOMONTH($B$5,0)+1)) | C46: =IF(A46="","",SUMIFS(Jornada!$K$6:$K$300,Jornada!$B$6:$B$300,Colaboradores!A12,Jornada!$A$6:$A$300,">="&EOMONTH($B$5,-1)+1,Jornada!$A$6:$A$300,"<"&EOMONTH($B$5,0)+1)) | E46: =IF(Projetos!B12="","",Projetos!B12) | F46: =IF(E46="","",SUMIFS(Apontamentos!$M$6:$M$400,Apontamentos!$D$6:$D$400,E46,Apontamentos!$A$6:$A$400,">="&EOMONTH($B$5,-1)+1,Apontamentos!$A$6:$A$400,"<"&EOMONTH($B$5,0)+1)) | G46: =IF(E46="","",SUMIFS(Apontamentos!$I$6:$I$400,Apontamentos!$D$6:$D$400,E46,Apontamentos!$A$6:$A$400,">="&EOMONTH($B$5,-1)+1,Apontamentos!$A$6:$A$400,"<"&EOMONTH($B$5,0)+1))
A47: =IF(Colaboradores!A13="","",Colaboradores!A13&" · "&Colaboradores!B13) | B47: =IF(A47="","",SUMIFS(Jornada!$I$6:$I$300,Jornada!$B$6:$B$300,Colaboradores!A13,Jornada!$A$6:$A$300,">="&EOMONTH($B$5,-1)+1,Jornada!$A$6:$A$300,"<"&EOMONTH($B$5,0)+1)) | C47: =IF(A47="","",SUMIFS(Jornada!$K$6:$K$300,Jornada!$B$6:$B$300,Colaboradores!A13,Jornada!$A$6:$A$300,">="&EOMONTH($B$5,-1)+1,Jornada!$A$6:$A$300,"<"&EOMONTH($B$5,0)+1)) | E47: =IF(Projetos!B13="","",Projetos!B13) | F47: =IF(E47="","",SUMIFS(Apontamentos!$M$6:$M$400,Apontamentos!$D$6:$D$400,E47,Apontamentos!$A$6:$A$400,">="&EOMONTH($B$5,-1)+1,Apontamentos!$A$6:$A$400,"<"&EOMONTH($B$5,0)+1)) | G47: =IF(E47="","",SUMIFS(Apontamentos!$I$6:$I$400,Apontamentos!$D$6:$D$400,E47,Apontamentos!$A$6:$A$400,">="&EOMONTH($B$5,-1)+1,Apontamentos!$A$6:$A$400,"<"&EOMONTH($B$5,0)+1))
A48: =IF(Colaboradores!A14="","",Colaboradores!A14&" · "&Colaboradores!B14) | B48: =IF(A48="","",SUMIFS(Jornada!$I$6:$I$300,Jornada!$B$6:$B$300,Colaboradores!A14,Jornada!$A$6:$A$300,">="&EOMONTH($B$5,-1)+1,Jornada!$A$6:$A$300,"<"&EOMONTH($B$5,0)+1)) | C48: =IF(A48="","",SUMIFS(Jornada!$K$6:$K$300,Jornada!$B$6:$B$300,Colaboradores!A14,Jornada!$A$6:$A$300,">="&EOMONTH($B$5,-1)+1,Jornada!$A$6:$A$300,"<"&EOMONTH($B$5,0)+1)) | E48: =IF(Projetos!B14="","",Projetos!B14) | F48: =IF(E48="","",SUMIFS(Apontamentos!$M$6:$M$400,Apontamentos!$D$6:$D$400,E48,Apontamentos!$A$6:$A$400,">="&EOMONTH($B$5,-1)+1,Apontamentos!$A$6:$A$400,"<"&EOMONTH($B$5,0)+1)) | G48: =IF(E48="","",SUMIFS(Apontamentos!$I$6:$I$400,Apontamentos!$D$6:$D$400,E48,Apontamentos!$A$6:$A$400,">="&EOMONTH($B$5,-1)+1,Apontamentos!$A$6:$A$400,"<"&EOMONTH($B$5,0)+1))
A49: =IF(Colaboradores!A15="","",Colaboradores!A15&" · "&Colaboradores!B15) | B49: =IF(A49="","",SUMIFS(Jornada!$I$6:$I$300,Jornada!$B$6:$B$300,Colaboradores!A15,Jornada!$A$6:$A$300,">="&EOMONTH($B$5,-1)+1,Jornada!$A$6:$A$300,"<"&EOMONTH($B$5,0)+1)) | C49: =IF(A49="","",SUMIFS(Jornada!$K$6:$K$300,Jornada!$B$6:$B$300,Colaboradores!A15,Jornada!$A$6:$A$300,">="&EOMONTH($B$5,-1)+1,Jornada!$A$6:$A$300,"<"&EOMONTH($B$5,0)+1)) | E49: =IF(Projetos!B15="","",Projetos!B15) | F49: =IF(E49="","",SUMIFS(Apontamentos!$M$6:$M$400,Apontamentos!$D$6:$D$400,E49,Apontamentos!$A$6:$A$400,">="&EOMONTH($B$5,-1)+1,Apontamentos!$A$6:$A$400,"<"&EOMONTH($B$5,0)+1)) | G49: =IF(E49="","",SUMIFS(Apontamentos!$I$6:$I$400,Apontamentos!$D$6:$D$400,E49,Apontamentos!$A$6:$A$400,">="&EOMONTH($B$5,-1)+1,Apontamentos!$A$6:$A$400,"<"&EOMONTH($B$5,0)+1))
A50: =IF(Colaboradores!A16="","",Colaboradores!A16&" · "&Colaboradores!B16) | B50: =IF(A50="","",SUMIFS(Jornada!$I$6:$I$300,Jornada!$B$6:$B$300,Colaboradores!A16,Jornada!$A$6:$A$300,">="&EOMONTH($B$5,-1)+1,Jornada!$A$6:$A$300,"<"&EOMONTH($B$5,0)+1)) | C50: =IF(A50="","",SUMIFS(Jornada!$K$6:$K$300,Jornada!$B$6:$B$300,Colaboradores!A16,Jornada!$A$6:$A$300,">="&EOMONTH($B$5,-1)+1,Jornada!$A$6:$A$300,"<"&EOMONTH($B$5,0)+1)) | E50: =IF(Projetos!B16="","",Projetos!B16) | F50: =IF(E50="","",SUMIFS(Apontamentos!$M$6:$M$400,Apontamentos!$D$6:$D$400,E50,Apontamentos!$A$6:$A$400,">="&EOMONTH($B$5,-1)+1,Apontamentos!$A$6:$A$400,"<"&EOMONTH($B$5,0)+1)) | G50: =IF(E50="","",SUMIFS(Apontamentos!$I$6:$I$400,Apontamentos!$D$6:$D$400,E50,Apontamentos!$A$6:$A$400,">="&EOMONTH($B$5,-1)+1,Apontamentos!$A$6:$A$400,"<"&EOMONTH($B$5,0)+1))
A51: =IF(Colaboradores!A17="","",Colaboradores!A17&" · "&Colaboradores!B17) | B51: =IF(A51="","",SUMIFS(Jornada!$I$6:$I$300,Jornada!$B$6:$B$300,Colaboradores!A17,Jornada!$A$6:$A$300,">="&EOMONTH($B$5,-1)+1,Jornada!$A$6:$A$300,"<"&EOMONTH($B$5,0)+1)) | C51: =IF(A51="","",SUMIFS(Jornada!$K$6:$K$300,Jornada!$B$6:$B$300,Colaboradores!A17,Jornada!$A$6:$A$300,">="&EOMONTH($B$5,-1)+1,Jornada!$A$6:$A$300,"<"&EOMONTH($B$5,0)+1)) | E51: =IF(Projetos!B17="","",Projetos!B17) | F51: =IF(E51="","",SUMIFS(Apontamentos!$M$6:$M$400,Apontamentos!$D$6:$D$400,E51,Apontamentos!$A$6:$A$400,">="&EOMONTH($B$5,-1)+1,Apontamentos!$A$6:$A$400,"<"&EOMONTH($B$5,0)+1)) | G51: =IF(E51="","",SUMIFS(Apontamentos!$I$6:$I$400,Apontamentos!$D$6:$D$400,E51,Apontamentos!$A$6:$A$400,">="&EOMONTH($B$5,-1)+1,Apontamentos!$A$6:$A$400,"<"&EOMONTH($B$5,0)+1))
... A234: =IF(Colaboradores!A200="","",Colaboradores!A200&" · "&Colaboradores!B200) | B234: =IF(A234="","",SUMIFS(Jornada!$I$6:$I$300,Jornada!$B$6:$B$300,Colaboradores!A200,Jornada!$A$6:$A$300,">="&EOMONTH($B$5,-1)+1,Jornada!$A$6:$A$300,"<"&EOMONTH($B$5,0)+1)) | C234: =IF(A234="","",SUMIFS(Jornada!$K$6:$K$300,Jornada!$B$6:$B$300,Colaboradores!A200,Jornada!$A$6:$A$300,">="&EOMONTH($B$5,-1)+1,Jornada!$A$6:$A$300,"<"&EOMONTH($B$5,0)+1)) | E234: =IF(Projetos!B200="","",Projetos!B200) | F234: =IF(E234="","",SUMIFS(Apontamentos!$M$6:$M$400,Apontamentos!$D$6:$D$400,E234,Apontamentos!$A$6:$A$400,">="&EOMONTH($B$5,-1)+1,Apontamentos!$A$6:$A$400,"<"&EOMONTH($B$5,0)+1)) | G234: =IF(E234="","",SUMIFS(Apontamentos!$I$6:$I$400,Apontamentos!$D$6:$D$400,E234,Apontamentos!$A$6:$A$400,">="&EOMONTH($B$5,-1)+1,Apontamentos!$A$6:$A$400,"<"&EOMONTH($B$5,0)+1))

Sheet Jornada
A1: JORNADA DIÁRIA
A3: Uma linha por colaborador/dia. Marcações geram jornada, saldo, hora extra e déficit.
A5: Data | B5: Matrícula | C5: Colaborador | D5: Entrada | E5: Saída intervalo | F5: Retorno intervalo | G5: Saída | H5: Intervalo (h) | I5: Horas trabalhadas | J5: Horas previstas | K5: Saldo (h) | L5: Hora extra | M5: Déficit | N5: Status | O5: Observações | P5: Horas não alocadas
A6: =Configuracoes!$B$6 -> 46296 | B6: 001 | C6: =IF(B6="","",IFERROR(VLOOKUP(B6,Colaboradores!$A$6:$B$200,2,FALSE),"")) -> Ana Souza | D6: 0.33333333 | E6: 0.5 | F6: 0.54166667 | G6: 0.74166667 | H6: =IF(N6<>"OK","",IF(E6="",0,MOD(F6-E6,1)*24)) -> 1 | I6: =IF(N6<>"OK","",ROUND(MOD(G6-D6,1)*24-H6,10)) -> 8.8 | J6: =IF(N6<>"OK","",IF(COUNTIFS(Colaboradores!$A$6:$A$200,B6,Colaboradores!$F$6:$F$200,"")=1,Configuracoes!$B$7,VLOOKUP(B6,Colaboradores!$A$6:$F$200,6,FALSE))) -> 8.8 | K6: =IF(N6<>"OK","",I6-J6) -> 0 | L6: =IF(N6<>"OK","",MAX(0,K6)) -> 0 | M6: =IF(N6<>"OK","",MAX(0,-K6)) -> 0 | N6: =IF(AND(A6="",B6="",D6="",E6="",F6="",G6=""),"",IF(OR(A6="",B6="",D6="",G6="",AND(E6="",F6<>""),AND(E6<>"",F6="")),"INCOMPLETO",IFERROR(IF(OR(NOT(ISNUMBER(A6)),A6<=0,A6<>INT(A6),COUNTIF(Colaboradores!$A$6:$A$200,B6)<>1,C6="",COUNTIFS($A$6:$A$300,A6,$B$6:$B$300,B6)<>1,NOT(ISNUMBER(D6)),D6<0,D6>=1,NOT(ISNUMBER(G6)),G6<0,G6>=1,AND(E6<>"",OR(NOT(ISNUMBER(E6)),E6<0,E6>=1,NOT(ISNUMBER(F6)),F6<0,F6>=1,MOD(E6-D6,1)>MOD(G6-D6,1),MOD(F6-D6,1)>MOD(G6-D6,1),MOD(F6-D6,1)<MOD(E6-D6,1))),NOT(ISNUMBER(IFERROR(IF(COUNTIFS(Colaboradores!$A$6:$A$200,B6,Colaboradores!$F$6:$F$200,"")=1,Configuracoes!$B$7,VLOOKUP(B6,Colaboradores!$A$6:$F$200,6,FALSE)),0))),IFERROR(IF(COUNTIFS(Colaboradores!$A$6:$A$200,B6,Colaboradores!$F$6:$F$200,"")=1,Configuracoes!$B$7,VLOOKUP(B6,Colaboradores!$A$6:$F$200,6,FALSE)),0)<0),"VERIFICAR","OK"),"VERIFICAR"))) -> OK | O6: Exemplo | P6: =IF(N6<>"OK","",MAX(0,I6-SUMIFS(Apontamentos!$M$6:$M$400,Apontamentos!$A$6:$A$400,A6,Apontamentos!$B$6:$B$400,B6))) -> 0
A7: =Configuracoes!$B$6+1 -> 46297 | B7: 004 | C7: =IF(B7="","",IFERROR(VLOOKUP(B7,Colaboradores!$A$6:$B$200,2,FALSE),"")) -> Diego Alves | D7: 0.35416667 | E7: 0.5 | F7: 0.54166667 | G7: 0.76041667 | H7: =IF(N7<>"OK","",IF(E7="",0,MOD(F7-E7,1)*24)) -> 1 | I7: =IF(N7<>"OK","",ROUND(MOD(G7-D7,1)*24-H7,10)) -> 8.75 | J7: =IF(N7<>"OK","",IF(COUNTIFS(Colaboradores!$A$6:$A$200,B7,Colaboradores!$F$6:$F$200,"")=1,Configuracoes!$B$7,VLOOKUP(B7,Colaboradores!$A$6:$F$200,6,FALSE))) -> 8 | K7: =IF(N7<>"OK","",I7-J7) -> 0.75 | L7: =IF(N7<>"OK","",MAX(0,K7)) -> 0.75 | M7: =IF(N7<>"OK","",MAX(0,-K7)) -> 0 | N7: =IF(AND(A7="",B7="",D7="",E7="",F7="",G7=""),"",IF(OR(A7="",B7="",D7="",G7="",AND(E7="",F7<>""),AND(E7<>"",F7="")),"INCOMPLETO",IFERROR(IF(OR(NOT(ISNUMBER(A7)),A7<=0,A7<>INT(A7),COUNTIF(Colaboradores!$A$6:$A$200,B7)<>1,C7="",COUNTIFS($A$6:$A$300,A7,$B$6:$B$300,B7)<>1,NOT(ISNUMBER(D7)),D7<0,D7>=1,NOT(ISNUMBER(G7)),G7<0,G7>=1,AND(E7<>"",OR(NOT(ISNUMBER(E7)),E7<0,E7>=1,NOT(ISNUMBER(F7)),F7<0,F7>=1,MOD(E7-D7,1)>MOD(G7-D7,1),MOD(F7-D7,1)>MOD(G7-D7,1),MOD(F7-D7,1)<MOD(E7-D7,1))),NOT(ISNUMBER(IFERROR(IF(COUNTIFS(Colaboradores!$A$6:$A$200,B7,Colaboradores!$F$6:$F$200,"")=1,Configuracoes!$B$7,VLOOKUP(B7,Colaboradores!$A$6:$F$200,6,FALSE)),0))),IFERROR(IF(COUNTIFS(Colaboradores!$A$6:$A$200,B7,Colaboradores!$F$6:$F$200,"")=1,Configuracoes!$B$7,VLOOKUP(B7,Colaboradores!$A$6:$F$200,6,FALSE)),0)<0),"VERIFICAR","OK"),"VERIFICAR"))) -> OK | O7: Exemplo | P7: =IF(N7<>"OK","",MAX(0,I7-SUMIFS(Apontamentos!$M$6:$M$400,Apontamentos!$A$6:$A$400,A7,Apontamentos!$B$6:$B$400,B7))) -> 0
A8: =Configuracoes!$B$6+2 -> 46298 | B8: 002 | C8: =IF(B8="","",IFERROR(VLOOKUP(B8,Colaboradores!$A$6:$B$200,2,FALSE),"")) -> Bruno Lima | D8: 0.3125 | E8: 0.5 | F8: 0.54166667 | G8: 0.70833333 | H8: =IF(N8<>"OK","",IF(E8="",0,MOD(F8-E8,1)*24)) -> 1 | I8: =IF(N8<>"OK","",ROUND(MOD(G8-D8,1)*24-H8,10)) -> 8.5 | J8: =IF(N8<>"OK","",IF(COUNTIFS(Colaboradores!$A$6:$A$200,B8,Colaboradores!$F$6:$F$200,"")=1,Configuracoes!$B$7,VLOOKUP(B8,Colaboradores!$A$6:$F$200,6,FALSE))) -> 8.8 | K8: =IF(N8<>"OK","",I8-J8) -> -0.3 | L8: =IF(N8<>"OK","",MAX(0,K8)) -> 0 | M8: =IF(N8<>"OK","",MAX(0,-K8)) -> 0.3 | N8: =IF(AND(A8="",B8="",D8="",E8="",F8="",G8=""),"",IF(OR(A8="",B8="",D8="",G8="",AND(E8="",F8<>""),AND(E8<>"",F8="")),"INCOMPLETO",IFERROR(IF(OR(NOT(ISNUMBER(A8)),A8<=0,A8<>INT(A8),COUNTIF(Colaboradores!$A$6:$A$200,B8)<>1,C8="",COUNTIFS($A$6:$A$300,A8,$B$6:$B$300,B8)<>1,NOT(ISNUMBER(D8)),D8<0,D8>=1,NOT(ISNUMBER(G8)),G8<0,G8>=1,AND(E8<>"",OR(NOT(ISNUMBER(E8)),E8<0,E8>=1,NOT(ISNUMBER(F8)),F8<0,F8>=1,MOD(E8-D8,1)>MOD(G8-D8,1),MOD(F8-D8,1)>MOD(G8-D8,1),MOD(F8-D8,1)<MOD(E8-D8,1))),NOT(ISNUMBER(IFERROR(IF(COUNTIFS(Colaboradores!$A$6:$A$200,B8,Colaboradores!$F$6:$F$200,"")=1,Configuracoes!$B$7,VLOOKUP(B8,Colaboradores!$A$6:$F$200,6,FALSE)),0))),IFERROR(IF(COUNTIFS(Colaboradores!$A$6:$A$200,B8,Colaboradores!$F$6:$F$200,"")=1,Configuracoes!$B$7,VLOOKUP(B8,Colaboradores!$A$6:$F$200,6,FALSE)),0)<0),"VERIFICAR","OK"),"VERIFICAR"))) -> OK | O8: Exemplo | P8: =IF(N8<>"OK","",MAX(0,I8-SUMIFS(Apontamentos!$M$6:$M$400,Apontamentos!$A$6:$A$400,A8,Apontamentos!$B$6:$B$400,B8))) -> 0
A9: =Configuracoes!$B$6+3 -> 46299 | B9: 005 | C9: =IF(B9="","",IFERROR(VLOOKUP(B9,Colaboradores!$A$6:$B$200,2,FALSE),"")) -> Elisa Rocha | D9: 0.33333333 | E9: 0.5 | F9: 0.54166667 | G9: 0.79166667 | H9: =IF(N9<>"OK","",IF(E9="",0,MOD(F9-E9,1)*24)) -> 1 | I9: =IF(N9<>"OK","",ROUND(MOD(G9-D9,1)*24-H9,10)) -> 10 | J9: =IF(N9<>"OK","",IF(COUNTIFS(Colaboradores!$A$6:$A$200,B9,Colaboradores!$F$6:$F$200,"")=1,Configuracoes!$B$7,VLOOKUP(B9,Colaboradores!$A$6:$F$200,6,FALSE))) -> 8.8 | K9: =IF(N9<>"OK","",I9-J9) -> 1.2 | L9: =IF(N9<>"OK","",MAX(0,K9)) -> 1.2 | M9: =IF(N9<>"OK","",MAX(0,-K9)) -> 0 | N9: =IF(AND(A9="",B9="",D9="",E9="",F9="",G9=""),"",IF(OR(A9="",B9="",D9="",G9="",AND(E9="",F9<>""),AND(E9<>"",F9="")),"INCOMPLETO",IFERROR(IF(OR(NOT(ISNUMBER(A9)),A9<=0,A9<>INT(A9),COUNTIF(Colaboradores!$A$6:$A$200,B9)<>1,C9="",COUNTIFS($A$6:$A$300,A9,$B$6:$B$300,B9)<>1,NOT(ISNUMBER(D9)),D9<0,D9>=1,NOT(ISNUMBER(G9)),G9<0,G9>=1,AND(E9<>"",OR(NOT(ISNUMBER(E9)),E9<0,E9>=1,NOT(ISNUMBER(F9)),F9<0,F9>=1,MOD(E9-D9,1)>MOD(G9-D9,1),MOD(F9-D9,1)>MOD(G9-D9,1),MOD(F9-D9,1)<MOD(E9-D9,1))),NOT(ISNUMBER(IFERROR(IF(COUNTIFS(Colaboradores!$A$6:$A$200,B9,Colaboradores!$F$6:$F$200,"")=1,Configuracoes!$B$7,VLOOKUP(B9,Colaboradores!$A$6:$F$200,6,FALSE)),0))),IFERROR(IF(COUNTIFS(Colaboradores!$A$6:$A$200,B9,Colaboradores!$F$6:$F$200,"")=1,Configuracoes!$B$7,VLOOKUP(B9,Colaboradores!$A$6:$F$200,6,FALSE)),0)<0),"VERIFICAR","OK"),"VERIFICAR"))) -> OK | O9: Exemplo | P9: =IF(N9<>"OK","",MAX(0,I9-SUMIFS(Apontamentos!$M$6:$M$400,Apontamentos!$A$6:$A$400,A9,Apontamentos!$B$6:$B$400,B9))) -> 0
A10: =Configuracoes!$B$6+4 -> 46300 | B10: 003 | C10: =IF(B10="","",IFERROR(VLOOKUP(B10,Colaboradores!$A$6:$B$200,2,FALSE),"")) -> Carla Mendes | D10: 0.33333333 | E10: 0.5 | F10: 0.54166667 | G10: 0.6875 | H10: =IF(N10<>"OK","",IF(E10="",0,MOD(F10-E10,1)*24)) -> 1 | I10: =IF(N10<>"OK","",ROUND(MOD(G10-D10,1)*24-H10,10)) -> 7.5 | J10: =IF(N10<>"OK","",IF(COUNTIFS(Colaboradores!$A$6:$A$200,B10,Colaboradores!$F$6:$F$200,"")=1,Configuracoes!$B$7,VLOOKUP(B10,Colaboradores!$A$6:$F$200,6,FALSE))) -> 8.8 | K10: =IF(N10<>"OK","",I10-J10) -> -1.3 | L10: =IF(N10<>"OK","",MAX(0,K10)) -> 0 | M10: =IF(N10<>"OK","",MAX(0,-K10)) -> 1.3 | N10: =IF(AND(A10="",B10="",D10="",E10="",F10="",G10=""),"",IF(OR(A10="",B10="",D10="",G10="",AND(E10="",F10<>""),AND(E10<>"",F10="")),"INCOMPLETO",IFERROR(IF(OR(NOT(ISNUMBER(A10)),A10<=0,A10<>INT(A10),COUNTIF(Colaboradores!$A$6:$A$200,B10)<>1,C10="",COUNTIFS($A$6:$A$300,A10,$B$6:$B$300,B10)<>1,NOT(ISNUMBER(D10)),D10<0,D10>=1,NOT(ISNUMBER(G10)),G10<0,G10>=1,AND(E10<>"",OR(NOT(ISNUMBER(E10)),E10<0,E10>=1,NOT(ISNUMBER(F10)),F10<0,F10>=1,MOD(E10-D10,1)>MOD(G10-D10,1),MOD(F10-D10,1)>MOD(G10-D10,1),MOD(F10-D10,1)<MOD(E10-D10,1))),NOT(ISNUMBER(IFERROR(IF(COUNTIFS(Colaboradores!$A$6:$A$200,B10,Colaboradores!$F$6:$F$200,"")=1,Configuracoes!$B$7,VLOOKUP(B10,Colaboradores!$A$6:$F$200,6,FALSE)),0))),IFERROR(IF(COUNTIFS(Colaboradores!$A$6:$A$200,B10,Colaboradores!$F$6:$F$200,"")=1,Configuracoes!$B$7,VLOOKUP(B10,Colaboradores!$A$6:$F$200,6,FALSE)),0)<0),"VERIFICAR","OK"),"VERIFICAR"))) -> OK | O10: Exemplo | P10: =IF(N10<>"OK","",MAX(0,I10-SUMIFS(Apontamentos!$M$6:$M$400,Apontamentos!$A$6:$A$400,A10,Apontamentos!$B$6:$B$400,B10))) -> 0
A11: =Configuracoes!$B$6+7 -> 46303 | B11: 004 | C11: =IF(B11="","",IFERROR(VLOOKUP(B11,Colaboradores!$A$6:$B$200,2,FALSE),"")) -> Diego Alves | D11: 0.375 | G11: 0.70833333 | H11: =IF(N11<>"OK","",IF(E11="",0,MOD(F11-E11,1)*24)) -> 0 | I11: =IF(N11<>"OK","",ROUND(MOD(G11-D11,1)*24-H11,10)) -> 8 | J11: =IF(N11<>"OK","",IF(COUNTIFS(Colaboradores!$A$6:$A$200,B11,Colaboradores!$F$6:$F$200,"")=1,Configuracoes!$B$7,VLOOKUP(B11,Colaboradores!$A$6:$F$200,6,FALSE))) -> 8 | K11: =IF(N11<>"OK","",I11-J11) -> 0 | L11: =IF(N11<>"OK","",MAX(0,K11)) -> 0 | M11: =IF(N11<>"OK","",MAX(0,-K11)) -> 0 | N11: =IF(AND(A11="",B11="",D11="",E11="",F11="",G11=""),"",IF(OR(A11="",B11="",D11="",G11="",AND(E11="",F11<>""),AND(E11<>"",F11="")),"INCOMPLETO",IFERROR(IF(OR(NOT(ISNUMBER(A11)),A11<=0,A11<>INT(A11),COUNTIF(Colaboradores!$A$6:$A$200,B11)<>1,C11="",COUNTIFS($A$6:$A$300,A11,$B$6:$B$300,B11)<>1,NOT(ISNUMBER(D11)),D11<0,D11>=1,NOT(ISNUMBER(G11)),G11<0,G11>=1,AND(E11<>"",OR(NOT(ISNUMBER(E11)),E11<0,E11>=1,NOT(ISNUMBER(F11)),F11<0,F11>=1,MOD(E11-D11,1)>MOD(G11-D11,1),MOD(F11-D11,1)>MOD(G11-D11,1),MOD(F11-D11,1)<MOD(E11-D11,1))),NOT(ISNUMBER(IFERROR(IF(COUNTIFS(Colaboradores!$A$6:$A$200,B11,Colaboradores!$F$6:$F$200,"")=1,Configuracoes!$B$7,VLOOKUP(B11,Colaboradores!$A$6:$F$200,6,FALSE)),0))),IFERROR(IF(COUNTIFS(Colaboradores!$A$6:$A$200,B11,Colaboradores!$F$6:$F$200,"")=1,Configuracoes!$B$7,VLOOKUP(B11,Colaboradores!$A$6:$F$200,6,FALSE)),0)<0),"VERIFICAR","OK"),"VERIFICAR"))) -> OK | O11: Exemplo | P11: =IF(N11<>"OK","",MAX(0,I11-SUMIFS(Apontamentos!$M$6:$M$400,Apontamentos!$A$6:$A$400,A11,Apontamentos!$B$6:$B$400,B11))) -> 0
C12: =IF(B12="","",IFERROR(VLOOKUP(B12,Colaboradores!$A$6:$B$200,2,FALSE),"")) | H12: =IF(N12<>"OK","",IF(E12="",0,MOD(F12-E12,1)*24)) | I12: =IF(N12<>"OK","",ROUND(MOD(G12-D12,1)*24-H12,10)) | J12: =IF(N12<>"OK","",IF(COUNTIFS(Colaboradores!$A$6:$A$200,B12,Colaboradores!$F$6:$F$200,"")=1,Configuracoes!$B$7,VLOOKUP(B12,Colaboradores!$A$6:$F$200,6,FALSE))) | K12: =IF(N12<>"OK","",I12-J12) | L12: =IF(N12<>"OK","",MAX(0,K12)) | M12: =IF(N12<>"OK","",MAX(0,-K12)) | N12: =IF(AND(A12="",B12="",D12="",E12="",F12="",G12=""),"",IF(OR(A12="",B12="",D12="",G12="",AND(E12="",F12<>""),AND(E12<>"",F12="")),"INCOMPLETO",IFERROR(IF(OR(NOT(ISNUMBER(A12)),A12<=0,A12<>INT(A12),COUNTIF(Colaboradores!$A$6:$A$200,B12)<>1,C12="",COUNTIFS($A$6:$A$300,A12,$B$6:$B$300,B12)<>1,NOT(ISNUMBER(D12)),D12<0,D12>=1,NOT(ISNUMBER(G12)),G12<0,G12>=1,AND(E12<>"",OR(NOT(ISNUMBER(E12)),E12<0,E12>=1,NOT(ISNUMBER(F12)),F12<0,F12>=1,MOD(E12-D12,1)>MOD(G12-D12,1),MOD(F12-D12,1)>MOD(G12-D12,1),MOD(F12-D12,1)<MOD(E12-D12,1))),NOT(ISNUMBER(IFERROR(IF(COUNTIFS(Colaboradores!$A$6:$A$200,B12,Colaboradores!$F$6:$F$200,"")=1,Configuracoes!$B$7,VLOOKUP(B12,Colaboradores!$A$6:$F$200,6,FALSE)),0))),IFERROR(IF(COUNTIFS(Colaboradores!$A$6:$A$200,B12,Colaboradores!$F$6:$F$200,"")=1,Configuracoes!$B$7,VLOOKUP(B12,Colaboradores!$A$6:$F$200,6,FALSE)),0)<0),"VERIFICAR","OK"),"VERIFICAR"))) | P12: =IF(N12<>"OK","",MAX(0,I12-SUMIFS(Apontamentos!$M$6:$M$400,Apontamentos!$A$6:$A$400,A12,Apontamentos!$B$6:$B$400,B12)))
C13: =IF(B13="","",IFERROR(VLOOKUP(B13,Colaboradores!$A$6:$B$200,2,FALSE),"")) | H13: =IF(N13<>"OK","",IF(E13="",0,MOD(F13-E13,1)*24)) | I13: =IF(N13<>"OK","",ROUND(MOD(G13-D13,1)*24-H13,10)) | J13: =IF(N13<>"OK","",IF(COUNTIFS(Colaboradores!$A$6:$A$200,B13,Colaboradores!$F$6:$F$200,"")=1,Configuracoes!$B$7,VLOOKUP(B13,Colaboradores!$A$6:$F$200,6,FALSE))) | K13: =IF(N13<>"OK","",I13-J13) | L13: =IF(N13<>"OK","",MAX(0,K13)) | M13: =IF(N13<>"OK","",MAX(0,-K13)) | N13: =IF(AND(A13="",B13="",D13="",E13="",F13="",G13=""),"",IF(OR(A13="",B13="",D13="",G13="",AND(E13="",F13<>""),AND(E13<>"",F13="")),"INCOMPLETO",IFERROR(IF(OR(NOT(ISNUMBER(A13)),A13<=0,A13<>INT(A13),COUNTIF(Colaboradores!$A$6:$A$200,B13)<>1,C13="",COUNTIFS($A$6:$A$300,A13,$B$6:$B$300,B13)<>1,NOT(ISNUMBER(D13)),D13<0,D13>=1,NOT(ISNUMBER(G13)),G13<0,G13>=1,AND(E13<>"",OR(NOT(ISNUMBER(E13)),E13<0,E13>=1,NOT(ISNUMBER(F13)),F13<0,F13>=1,MOD(E13-D13,1)>MOD(G13-D13,1),MOD(F13-D13,1)>MOD(G13-D13,1),MOD(F13-D13,1)<MOD(E13-D13,1))),NOT(ISNUMBER(IFERROR(IF(COUNTIFS(Colaboradores!$A$6:$A$200,B13,Colaboradores!$F$6:$F$200,"")=1,Configuracoes!$B$7,VLOOKUP(B13,Colaboradores!$A$6:$F$200,6,FALSE)),0))),IFERROR(IF(COUNTIFS(Colaboradores!$A$6:$A$200,B13,Colaboradores!$F$6:$F$200,"")=1,Configuracoes!$B$7,VLOOKUP(B13,Colaboradores!$A$6:$F$200,6,FALSE)),0)<0),"VERIFICAR","OK"),"VERIFICAR"))) | P13: =IF(N13<>"OK","",MAX(0,I13-SUMIFS(Apontamentos!$M$6:$M$400,Apontamentos!$A$6:$A$400,A13,Apontamentos!$B$6:$B$400,B13)))
C14: =IF(B14="","",IFERROR(VLOOKUP(B14,Colaboradores!$A$6:$B$200,2,FALSE),"")) | H14: =IF(N14<>"OK","",IF(E14="",0,MOD(F14-E14,1)*24)) | I14: =IF(N14<>"OK","",ROUND(MOD(G14-D14,1)*24-H14,10)) | J14: =IF(N14<>"OK","",IF(COUNTIFS(Colaboradores!$A$6:$A$200,B14,Colaboradores!$F$6:$F$200,"")=1,Configuracoes!$B$7,VLOOKUP(B14,Colaboradores!$A$6:$F$200,6,FALSE))) | K14: =IF(N14<>"OK","",I14-J14) | L14: =IF(N14<>"OK","",MAX(0,K14)) | M14: =IF(N14<>"OK","",MAX(0,-K14)) | N14: =IF(AND(A14="",B14="",D14="",E14="",F14="",G14=""),"",IF(OR(A14="",B14="",D14="",G14="",AND(E14="",F14<>""),AND(E14<>"",F14="")),"INCOMPLETO",IFERROR(IF(OR(NOT(ISNUMBER(A14)),A14<=0,A14<>INT(A14),COUNTIF(Colaboradores!$A$6:$A$200,B14)<>1,C14="",COUNTIFS($A$6:$A$300,A14,$B$6:$B$300,B14)<>1,NOT(ISNUMBER(D14)),D14<0,D14>=1,NOT(ISNUMBER(G14)),G14<0,G14>=1,AND(E14<>"",OR(NOT(ISNUMBER(E14)),E14<0,E14>=1,NOT(ISNUMBER(F14)),F14<0,F14>=1,MOD(E14-D14,1)>MOD(G14-D14,1),MOD(F14-D14,1)>MOD(G14-D14,1),MOD(F14-D14,1)<MOD(E14-D14,1))),NOT(ISNUMBER(IFERROR(IF(COUNTIFS(Colaboradores!$A$6:$A$200,B14,Colaboradores!$F$6:$F$200,"")=1,Configuracoes!$B$7,VLOOKUP(B14,Colaboradores!$A$6:$F$200,6,FALSE)),0))),IFERROR(IF(COUNTIFS(Colaboradores!$A$6:$A$200,B14,Colaboradores!$F$6:$F$200,"")=1,Configuracoes!$B$7,VLOOKUP(B14,Colaboradores!$A$6:$F$200,6,FALSE)),0)<0),"VERIFICAR","OK"),"VERIFICAR"))) | P14: =IF(N14<>"OK","",MAX(0,I14-SUMIFS(Apontamentos!$M$6:$M$400,Apontamentos!$A$6:$A$400,A14,Apontamentos!$B$6:$B$400,B14)))
C15: =IF(B15="","",IFERROR(VLOOKUP(B15,Colaboradores!$A$6:$B$200,2,FALSE),"")) | H15: =IF(N15<>"OK","",IF(E15="",0,MOD(F15-E15,1)*24)) | I15: =IF(N15<>"OK","",ROUND(MOD(G15-D15,1)*24-H15,10)) | J15: =IF(N15<>"OK","",IF(COUNTIFS(Colaboradores!$A$6:$A$200,B15,Colaboradores!$F$6:$F$200,"")=1,Configuracoes!$B$7,VLOOKUP(B15,Colaboradores!$A$6:$F$200,6,FALSE))) | K15: =IF(N15<>"OK","",I15-J15) | L15: =IF(N15<>"OK","",MAX(0,K15)) | M15: =IF(N15<>"OK","",MAX(0,-K15)) | N15: =IF(AND(A15="",B15="",D15="",E15="",F15="",G15=""),"",IF(OR(A15="",B15="",D15="",G15="",AND(E15="",F15<>""),AND(E15<>"",F15="")),"INCOMPLETO",IFERROR(IF(OR(NOT(ISNUMBER(A15)),A15<=0,A15<>INT(A15),COUNTIF(Colaboradores!$A$6:$A$200,B15)<>1,C15="",COUNTIFS($A$6:$A$300,A15,$B$6:$B$300,B15)<>1,NOT(ISNUMBER(D15)),D15<0,D15>=1,NOT(ISNUMBER(G15)),G15<0,G15>=1,AND(E15<>"",OR(NOT(ISNUMBER(E15)),E15<0,E15>=1,NOT(ISNUMBER(F15)),F15<0,F15>=1,MOD(E15-D15,1)>MOD(G15-D15,1),MOD(F15-D15,1)>MOD(G15-D15,1),MOD(F15-D15,1)<MOD(E15-D15,1))),NOT(ISNUMBER(IFERROR(IF(COUNTIFS(Colaboradores!$A$6:$A$200,B15,Colaboradores!$F$6:$F$200,"")=1,Configuracoes!$B$7,VLOOKUP(B15,Colaboradores!$A$6:$F$200,6,FALSE)),0))),IFERROR(IF(COUNTIFS(Colaboradores!$A$6:$A$200,B15,Colaboradores!$F$6:$F$200,"")=1,Configuracoes!$B$7,VLOOKUP(B15,Colaboradores!$A$6:$F$200,6,FALSE)),0)<0),"VERIFICAR","OK"),"VERIFICAR"))) | P15: =IF(N15<>"OK","",MAX(0,I15-SUMIFS(Apontamentos!$M$6:$M$400,Apontamentos!$A$6:$A$400,A15,Apontamentos!$B$6:$B$400,B15)))
C16: =IF(B16="","",IFERROR(VLOOKUP(B16,Colaboradores!$A$6:$B$200,2,FALSE),"")) | H16: =IF(N16<>"OK","",IF(E16="",0,MOD(F16-E16,1)*24)) | I16: =IF(N16<>"OK","",ROUND(MOD(G16-D16,1)*24-H16,10)) | J16: =IF(N16<>"OK","",IF(COUNTIFS(Colaboradores!$A$6:$A$200,B16,Colaboradores!$F$6:$F$200,"")=1,Configuracoes!$B$7,VLOOKUP(B16,Colaboradores!$A$6:$F$200,6,FALSE))) | K16: =IF(N16<>"OK","",I16-J16) | L16: =IF(N16<>"OK","",MAX(0,K16)) | M16: =IF(N16<>"OK","",MAX(0,-K16)) | N16: =IF(AND(A16="",B16="",D16="",E16="",F16="",G16=""),"",IF(OR(A16="",B16="",D16="",G16="",AND(E16="",F16<>""),AND(E16<>"",F16="")),"INCOMPLETO",IFERROR(IF(OR(NOT(ISNUMBER(A16)),A16<=0,A16<>INT(A16),COUNTIF(Colaboradores!$A$6:$A$200,B16)<>1,C16="",COUNTIFS($A$6:$A$300,A16,$B$6:$B$300,B16)<>1,NOT(ISNUMBER(D16)),D16<0,D16>=1,NOT(ISNUMBER(G16)),G16<0,G16>=1,AND(E16<>"",OR(NOT(ISNUMBER(E16)),E16<0,E16>=1,NOT(ISNUMBER(F16)),F16<0,F16>=1,MOD(E16-D16,1)>MOD(G16-D16,1),MOD(F16-D16,1)>MOD(G16-D16,1),MOD(F16-D16,1)<MOD(E16-D16,1))),NOT(ISNUMBER(IFERROR(IF(COUNTIFS(Colaboradores!$A$6:$A$200,B16,Colaboradores!$F$6:$F$200,"")=1,Configuracoes!$B$7,VLOOKUP(B16,Colaboradores!$A$6:$F$200,6,FALSE)),0))),IFERROR(IF(COUNTIFS(Colaboradores!$A$6:$A$200,B16,Colaboradores!$F$6:$F$200,"")=1,Configuracoes!$B$7,VLOOKUP(B16,Colaboradores!$A$6:$F$200,6,FALSE)),0)<0),"VERIFICAR","OK"),"VERIFICAR"))) | P16: =IF(N16<>"OK","",MAX(0,I16-SUMIFS(Apontamentos!$M$6:$M$400,Apontamentos!$A$6:$A$400,A16,Apontamentos!$B$6:$B$400,B16)))
C17: =IF(B17="","",IFERROR(VLOOKUP(B17,Colaboradores!$A$6:$B$200,2,FALSE),"")) | H17: =IF(N17<>"OK","",IF(E17="",0,MOD(F17-E17,1)*24)) | I17: =IF(N17<>"OK","",ROUND(MOD(G17-D17,1)*24-H17,10)) | J17: =IF(N17<>"OK","",IF(COUNTIFS(Colaboradores!$A$6:$A$200,B17,Colaboradores!$F$6:$F$200,"")=1,Configuracoes!$B$7,VLOOKUP(B17,Colaboradores!$A$6:$F$200,6,FALSE))) | K17: =IF(N17<>"OK","",I17-J17) | L17: =IF(N17<>"OK","",MAX(0,K17)) | M17: =IF(N17<>"OK","",MAX(0,-K17)) | N17: =IF(AND(A17="",B17="",D17="",E17="",F17="",G17=""),"",IF(OR(A17="",B17="",D17="",G17="",AND(E17="",F17<>""),AND(E17<>"",F17="")),"INCOMPLETO",IFERROR(IF(OR(NOT(ISNUMBER(A17)),A17<=0,A17<>INT(A17),COUNTIF(Colaboradores!$A$6:$A$200,B17)<>1,C17="",COUNTIFS($A$6:$A$300,A17,$B$6:$B$300,B17)<>1,NOT(ISNUMBER(D17)),D17<0,D17>=1,NOT(ISNUMBER(G17)),G17<0,G17>=1,AND(E17<>"",OR(NOT(ISNUMBER(E17)),E17<0,E17>=1,NOT(ISNUMBER(F17)),F17<0,F17>=1,MOD(E17-D17,1)>MOD(G17-D17,1),MOD(F17-D17,1)>MOD(G17-D17,1),MOD(F17-D17,1)<MOD(E17-D17,1))),NOT(ISNUMBER(IFERROR(IF(COUNTIFS(Colaboradores!$A$6:$A$200,B17,Colaboradores!$F$6:$F$200,"")=1,Configuracoes!$B$7,VLOOKUP(B17,Colaboradores!$A$6:$F$200,6,FALSE)),0))),IFERROR(IF(COUNTIFS(Colaboradores!$A$6:$A$200,B17,Colaboradores!$F$6:$F$200,"")=1,Configuracoes!$B$7,VLOOKUP(B17,Colaboradores!$A$6:$F$200,6,FALSE)),0)<0),"VERIFICAR","OK"),"VERIFICAR"))) | P17: =IF(N17<>"OK","",MAX(0,I17-SUMIFS(Apontamentos!$M$6:$M$400,Apontamentos!$A$6:$A$400,A17,Apontamentos!$B$6:$B$400,B17)))
C18: =IF(B18="","",IFERROR(VLOOKUP(B18,Colaboradores!$A$6:$B$200,2,FALSE),"")) | H18: =IF(N18<>"OK","",IF(E18="",0,MOD(F18-E18,1)*24)) | I18: =IF(N18<>"OK","",ROUND(MOD(G18-D18,1)*24-H18,10)) | J18: =IF(N18<>"OK","",IF(COUNTIFS(Colaboradores!$A$6:$A$200,B18,Colaboradores!$F$6:$F$200,"")=1,Configuracoes!$B$7,VLOOKUP(B18,Colaboradores!$A$6:$F$200,6,FALSE))) | K18: =IF(N18<>"OK","",I18-J18) | L18: =IF(N18<>"OK","",MAX(0,K18)) | M18: =IF(N18<>"OK","",MAX(0,-K18)) | N18: =IF(AND(A18="",B18="",D18="",E18="",F18="",G18=""),"",IF(OR(A18="",B18="",D18="",G18="",AND(E18="",F18<>""),AND(E18<>"",F18="")),"INCOMPLETO",IFERROR(IF(OR(NOT(ISNUMBER(A18)),A18<=0,A18<>INT(A18),COUNTIF(Colaboradores!$A$6:$A$200,B18)<>1,C18="",COUNTIFS($A$6:$A$300,A18,$B$6:$B$300,B18)<>1,NOT(ISNUMBER(D18)),D18<0,D18>=1,NOT(ISNUMBER(G18)),G18<0,G18>=1,AND(E18<>"",OR(NOT(ISNUMBER(E18)),E18<0,E18>=1,NOT(ISNUMBER(F18)),F18<0,F18>=1,MOD(E18-D18,1)>MOD(G18-D18,1),MOD(F18-D18,1)>MOD(G18-D18,1),MOD(F18-D18,1)<MOD(E18-D18,1))),NOT(ISNUMBER(IFERROR(IF(COUNTIFS(Colaboradores!$A$6:$A$200,B18,Colaboradores!$F$6:$F$200,"")=1,Configuracoes!$B$7,VLOOKUP(B18,Colaboradores!$A$6:$F$200,6,FALSE)),0))),IFERROR(IF(COUNTIFS(Colaboradores!$A$6:$A$200,B18,Colaboradores!$F$6:$F$200,"")=1,Configuracoes!$B$7,VLOOKUP(B18,Colaboradores!$A$6:$F$200,6,FALSE)),0)<0),"VERIFICAR","OK"),"VERIFICAR"))) | P18: =IF(N18<>"OK","",MAX(0,I18-SUMIFS(Apontamentos!$M$6:$M$400,Apontamentos!$A$6:$A$400,A18,Apontamentos!$B$6:$B$400,B18)))
C19: =IF(B19="","",IFERROR(VLOOKUP(B19,Colaboradores!$A$6:$B$200,2,FALSE),"")) | H19: =IF(N19<>"OK","",IF(E19="",0,MOD(F19-E19,1)*24)) | I19: =IF(N19<>"OK","",ROUND(MOD(G19-D19,1)*24-H19,10)) | J19: =IF(N19<>"OK","",IF(COUNTIFS(Colaboradores!$A$6:$A$200,B19,Colaboradores!$F$6:$F$200,"")=1,Configuracoes!$B$7,VLOOKUP(B19,Colaboradores!$A$6:$F$200,6,FALSE))) | K19: =IF(N19<>"OK","",I19-J19) | L19: =IF(N19<>"OK","",MAX(0,K19)) | M19: =IF(N19<>"OK","",MAX(0,-K19)) | N19: =IF(AND(A19="",B19="",D19="",E19="",F19="",G19=""),"",IF(OR(A19="",B19="",D19="",G19="",AND(E19="",F19<>""),AND(E19<>"",F19="")),"INCOMPLETO",IFERROR(IF(OR(NOT(ISNUMBER(A19)),A19<=0,A19<>INT(A19),COUNTIF(Colaboradores!$A$6:$A$200,B19)<>1,C19="",COUNTIFS($A$6:$A$300,A19,$B$6:$B$300,B19)<>1,NOT(ISNUMBER(D19)),D19<0,D19>=1,NOT(ISNUMBER(G19)),G19<0,G19>=1,AND(E19<>"",OR(NOT(ISNUMBER(E19)),E19<0,E19>=1,NOT(ISNUMBER(F19)),F19<0,F19>=1,MOD(E19-D19,1)>MOD(G19-D19,1),MOD(F19-D19,1)>MOD(G19-D19,1),MOD(F19-D19,1)<MOD(E19-D19,1))),NOT(ISNUMBER(IFERROR(IF(COUNTIFS(Colaboradores!$A$6:$A$200,B19,Colaboradores!$F$6:$F$200,"")=1,Configuracoes!$B$7,VLOOKUP(B19,Colaboradores!$A$6:$F$200,6,FALSE)),0))),IFERROR(IF(COUNTIFS(Colaboradores!$A$6:$A$200,B19,Colaboradores!$F$6:$F$200,"")=1,Configuracoes!$B$7,VLOOKUP(B19,Colaboradores!$A$6:$F$200,6,FALSE)),0)<0),"VERIFICAR","OK"),"VERIFICAR"))) | P19: =IF(N19<>"OK","",MAX(0,I19-SUMIFS(Apontamentos!$M$6:$M$400,Apontamentos!$A$6:$A$400,A19,Apontamentos!$B$6:$B$400,B19)))
C20: =IF(B20="","",IFERROR(VLOOKUP(B20,Colaboradores!$A$6:$B$200,2,FALSE),"")) | H20: =IF(N20<>"OK","",IF(E20="",0,MOD(F20-E20,1)*24)) | I20: =IF(N20<>"OK","",ROUND(MOD(G20-D20,1)*24-H20,10)) | J20: =IF(N20<>"OK","",IF(COUNTIFS(Colaboradores!$A$6:$A$200,B20,Colaboradores!$F$6:$F$200,"")=1,Configuracoes!$B$7,VLOOKUP(B20,Colaboradores!$A$6:$F$200,6,FALSE))) | K20: =IF(N20<>"OK","",I20-J20) | L20: =IF(N20<>"OK","",MAX(0,K20)) | M20: =IF(N20<>"OK","",MAX(0,-K20)) | N20: =IF(AND(A20="",B20="",D20="",E20="",F20="",G20=""),"",IF(OR(A20="",B20="",D20="",G20="",AND(E20="",F20<>""),AND(E20<>"",F20="")),"INCOMPLETO",IFERROR(IF(OR(NOT(ISNUMBER(A20)),A20<=0,A20<>INT(A20),COUNTIF(Colaboradores!$A$6:$A$200,B20)<>1,C20="",COUNTIFS($A$6:$A$300,A20,$B$6:$B$300,B20)<>1,NOT(ISNUMBER(D20)),D20<0,D20>=1,NOT(ISNUMBER(G20)),G20<0,G20>=1,AND(E20<>"",OR(NOT(ISNUMBER(E20)),E20<0,E20>=1,NOT(ISNUMBER(F20)),F20<0,F20>=1,MOD(E20-D20,1)>MOD(G20-D20,1),MOD(F20-D20,1)>MOD(G20-D20,1),MOD(F20-D20,1)<MOD(E20-D20,1))),NOT(ISNUMBER(IFERROR(IF(COUNTIFS(Colaboradores!$A$6:$A$200,B20,Colaboradores!$F$6:$F$200,"")=1,Configuracoes!$B$7,VLOOKUP(B20,Colaboradores!$A$6:$F$200,6,FALSE)),0))),IFERROR(IF(COUNTIFS(Colaboradores!$A$6:$A$200,B20,Colaboradores!$F$6:$F$200,"")=1,Configuracoes!$B$7,VLOOKUP(B20,Colaboradores!$A$6:$F$200,6,FALSE)),0)<0),"VERIFICAR","OK"),"VERIFICAR"))) | P20: =IF(N20<>"OK","",MAX(0,I20-SUMIFS(Apontamentos!$M$6:$M$400,Apontamentos!$A$6:$A$400,A20,Apontamentos!$B$6:$B$400,B20)))
C21: =IF(B21="","",IFERROR(VLOOKUP(B21,Colaboradores!$A$6:$B$200,2,FALSE),"")) | H21: =IF(N21<>"OK","",IF(E21="",0,MOD(F21-E21,1)*24)) | I21: =IF(N21<>"OK","",ROUND(MOD(G21-D21,1)*24-H21,10)) | J21: =IF(N21<>"OK","",IF(COUNTIFS(Colaboradores!$A$6:$A$200,B21,Colaboradores!$F$6:$F$200,"")=1,Configuracoes!$B$7,VLOOKUP(B21,Colaboradores!$A$6:$F$200,6,FALSE))) | K21: =IF(N21<>"OK","",I21-J21) | L21: =IF(N21<>"OK","",MAX(0,K21)) | M21: =IF(N21<>"OK","",MAX(0,-K21)) | N21: =IF(AND(A21="",B21="",D21="",E21="",F21="",G21=""),"",IF(OR(A21="",B21="",D21="",G21="",AND(E21="",F21<>""),AND(E21<>"",F21="")),"INCOMPLETO",IFERROR(IF(OR(NOT(ISNUMBER(A21)),A21<=0,A21<>INT(A21),COUNTIF(Colaboradores!$A$6:$A$200,B21)<>1,C21="",COUNTIFS($A$6:$A$300,A21,$B$6:$B$300,B21)<>1,NOT(ISNUMBER(D21)),D21<0,D21>=1,NOT(ISNUMBER(G21)),G21<0,G21>=1,AND(E21<>"",OR(NOT(ISNUMBER(E21)),E21<0,E21>=1,NOT(ISNUMBER(F21)),F21<0,F21>=1,MOD(E21-D21,1)>MOD(G21-D21,1),MOD(F21-D21,1)>MOD(G21-D21,1),MOD(F21-D21,1)<MOD(E21-D21,1))),NOT(ISNUMBER(IFERROR(IF(COUNTIFS(Colaboradores!$A$6:$A$200,B21,Colaboradores!$F$6:$F$200,"")=1,Configuracoes!$B$7,VLOOKUP(B21,Colaboradores!$A$6:$F$200,6,FALSE)),0))),IFERROR(IF(COUNTIFS(Colaboradores!$A$6:$A$200,B21,Colaboradores!$F$6:$F$200,"")=1,Configuracoes!$B$7,VLOOKUP(B21,Colaboradores!$A$6:$F$200,6,FALSE)),0)<0),"VERIFICAR","OK"),"VERIFICAR"))) | P21: =IF(N21<>"OK","",MAX(0,I21-SUMIFS(Apontamentos!$M$6:$M$400,Apontamentos!$A$6:$A$400,A21,Apontamentos!$B$6:$B$400,B21)))
C22: =IF(B22="","",IFERROR(VLOOKUP(B22,Colaboradores!$A$6:$B$200,2,FALSE),"")) | H22: =IF(N22<>"OK","",IF(E22="",0,MOD(F22-E22,1)*24)) | I22: =IF(N22<>"OK","",ROUND(MOD(G22-D22,1)*24-H22,10)) | J22: =IF(N22<>"OK","",IF(COUNTIFS(Colaboradores!$A$6:$A$200,B22,Colaboradores!$F$6:$F$200,"")=1,Configuracoes!$B$7,VLOOKUP(B22,Colaboradores!$A$6:$F$200,6,FALSE))) | K22: =IF(N22<>"OK","",I22-J22) | L22: =IF(N22<>"OK","",MAX(0,K22)) | M22: =IF(N22<>"OK","",MAX(0,-K22)) | N22: =IF(AND(A22="",B22="",D22="",E22="",F22="",G22=""),"",IF(OR(A22="",B22="",D22="",G22="",AND(E22="",F22<>""),AND(E22<>"",F22="")),"INCOMPLETO",IFERROR(IF(OR(NOT(ISNUMBER(A22)),A22<=0,A22<>INT(A22),COUNTIF(Colaboradores!$A$6:$A$200,B22)<>1,C22="",COUNTIFS($A$6:$A$300,A22,$B$6:$B$300,B22)<>1,NOT(ISNUMBER(D22)),D22<0,D22>=1,NOT(ISNUMBER(G22)),G22<0,G22>=1,AND(E22<>"",OR(NOT(ISNUMBER(E22)),E22<0,E22>=1,NOT(ISNUMBER(F22)),F22<0,F22>=1,MOD(E22-D22,1)>MOD(G22-D22,1),MOD(F22-D22,1)>MOD(G22-D22,1),MOD(F22-D22,1)<MOD(E22-D22,1))),NOT(ISNUMBER(IFERROR(IF(COUNTIFS(Colaboradores!$A$6:$A$200,B22,Colaboradores!$F$6:$F$200,"")=1,Configuracoes!$B$7,VLOOKUP(B22,Colaboradores!$A$6:$F$200,6,FALSE)),0))),IFERROR(IF(COUNTIFS(Colaboradores!$A$6:$A$200,B22,Colaboradores!$F$6:$F$200,"")=1,Configuracoes!$B$7,VLOOKUP(B22,Colaboradores!$A$6:$F$200,6,FALSE)),0)<0),"VERIFICAR","OK"),"VERIFICAR"))) | P22: =IF(N22<>"OK","",MAX(0,I22-SUMIFS(Apontamentos!$M$6:$M$400,Apontamentos!$A$6:$A$400,A22,Apontamentos!$B$6:$B$400,B22)))
C23: =IF(B23="","",IFERROR(VLOOKUP(B23,Colaboradores!$A$6:$B$200,2,FALSE),"")) | H23: =IF(N23<>"OK","",IF(E23="",0,MOD(F23-E23,1)*24)) | I23: =IF(N23<>"OK","",ROUND(MOD(G23-D23,1)*24-H23,10)) | J23: =IF(N23<>"OK","",IF(COUNTIFS(Colaboradores!$A$6:$A$200,B23,Colaboradores!$F$6:$F$200,"")=1,Configuracoes!$B$7,VLOOKUP(B23,Colaboradores!$A$6:$F$200,6,FALSE))) | K23: =IF(N23<>"OK","",I23-J23) | L23: =IF(N23<>"OK","",MAX(0,K23)) | M23: =IF(N23<>"OK","",MAX(0,-K23)) | N23: =IF(AND(A23="",B23="",D23="",E23="",F23="",G23=""),"",IF(OR(A23="",B23="",D23="",G23="",AND(E23="",F23<>""),AND(E23<>"",F23="")),"INCOMPLETO",IFERROR(IF(OR(NOT(ISNUMBER(A23)),A23<=0,A23<>INT(A23),COUNTIF(Colaboradores!$A$6:$A$200,B23)<>1,C23="",COUNTIFS($A$6:$A$300,A23,$B$6:$B$300,B23)<>1,NOT(ISNUMBER(D23)),D23<0,D23>=1,NOT(ISNUMBER(G23)),G23<0,G23>=1,AND(E23<>"",OR(NOT(ISNUMBER(E23)),E23<0,E23>=1,NOT(ISNUMBER(F23)),F23<0,F23>=1,MOD(E23-D23,1)>MOD(G23-D23,1),MOD(F23-D23,1)>MOD(G23-D23,1),MOD(F23-D23,1)<MOD(E23-D23,1))),NOT(ISNUMBER(IFERROR(IF(COUNTIFS(Colaboradores!$A$6:$A$200,B23,Colaboradores!$F$6:$F$200,"")=1,Configuracoes!$B$7,VLOOKUP(B23,Colaboradores!$A$6:$F$200,6,FALSE)),0))),IFERROR(IF(COUNTIFS(Colaboradores!$A$6:$A$200,B23,Colaboradores!$F$6:$F$200,"")=1,Configuracoes!$B$7,VLOOKUP(B23,Colaboradores!$A$6:$F$200,6,FALSE)),0)<0),"VERIFICAR","OK"),"VERIFICAR"))) | P23: =IF(N23<>"OK","",MAX(0,I23-SUMIFS(Apontamentos!$M$6:$M$400,Apontamentos!$A$6:$A$400,A23,Apontamentos!$B$6:$B$400,B23)))
... C300: =IF(B300="","",IFERROR(VLOOKUP(B300,Colaboradores!$A$6:$B$200,2,FALSE),"")) | H300: =IF(N300<>"OK","",IF(E300="",0,MOD(F300-E300,1)*24)) | I300: =IF(N300<>"OK","",ROUND(MOD(G300-D300,1)*24-H300,10)) | J300: =IF(N300<>"OK","",IF(COUNTIFS(Colaboradores!$A$6:$A$200,B300,Colaboradores!$F$6:$F$200,"")=1,Configuracoes!$B$7,VLOOKUP(B300,Colaboradores!$A$6:$F$200,6,FALSE))) | K300: =IF(N300<>"OK","",I300-J300) | L300: =IF(N300<>"OK","",MAX(0,K300)) | M300: =IF(N300<>"OK","",MAX(0,-K300)) | N300: =IF(AND(A300="",B300="",D300="",E300="",F300="",G300=""),"",IF(OR(A300="",B300="",D300="",G300="",AND(E300="",F300<>""),AND(E300<>"",F300="")),"INCOMPLETO",IFERROR(IF(OR(NOT(ISNUMBER(A300)),A300<=0,A300<>INT(A300),COUNTIF(Colaboradores!$A$6:$A$200,B300)<>1,C300="",COUNTIFS($A$6:$A$300,A300,$B$6:$B$300,B300)<>1,NOT(ISNUMBER(D300)),D300<0,D300>=1,NOT(ISNUMBER(G300)),G300<0,G300>=1,AND(E300<>"",OR(NOT(ISNUMBER(E300)),E300<0,E300>=1,NOT(ISNUMBER(F300)),F300<0,F300>=1,MOD(E300-D300,1)>MOD(G300-D300,1),MOD(F300-D300,1)>MOD(G300-D300,1),MOD(F300-D300,1)<MOD(E300-D300,1))),NOT(ISNUMBER(IFERROR(IF(COUNTIFS(Colaboradores!$A$6:$A$200,B300,Colaboradores!$F$6:$F$200,"")=1,Configuracoes!$B$7,VLOOKUP(B300,Colaboradores!$A$6:$F$200,6,FALSE)),0))),IFERROR(IF(COUNTIFS(Colaboradores!$A$6:$A$200,B300,Colaboradores!$F$6:$F$200,"")=1,Configuracoes!$B$7,VLOOKUP(B300,Colaboradores!$A$6:$F$200,6,FALSE)),0)<0),"VERIFICAR","OK"),"VERIFICAR"))) | P300: =IF(N300<>"OK","",MAX(0,I300-SUMIFS(Apontamentos!$M$6:$M$400,Apontamentos!$A$6:$A$400,A300,Apontamentos!$B$6:$B$400,B300)))

Sheet Apontamentos
A1: APONTAMENTOS POR PROJETO
A3: Distribua as horas trabalhadas entre projetos e clientes sem duplicar a jornada prevista.
A5: Data | B5: Matrícula | C5: Colaborador | D5: Projeto / Cliente | E5: Atividade | F5: Horas apontadas | G5: Faturável? | H5: Valor-hora | I5: Valor faturável | J5: % da jornada | K5: Status alocação | L5: Observações | M5: Horas válidas
A6: =Configuracoes!$B$6 -> 46296 | B6: 001 | C6: =IF(B6="","",IFERROR(VLOOKUP(B6,Colaboradores!$A$6:$B$200,2,FALSE),"")) -> Ana Souza | D6: Rotina Operacional | E6: Planejamento diário | F6: 8.8 | G6: =IF(D6="","",IFERROR(VLOOKUP(D6,Projetos!$B$6:$F$200,4,FALSE),"N/A")) -> NÃO | H6: =IF(D6="","",IFERROR(VLOOKUP(D6,Projetos!$B$6:$F$200,5,FALSE),0)) -> 0 | I6: =IFERROR(IF(AND(M6>0,G6="SIM",ISNUMBER(H6),H6>=0),M6*H6,0),0) -> 0 | J6: =IFERROR(M6/SUMIFS(Jornada!$I$6:$I$300,Jornada!$A$6:$A$300,A6,Jornada!$B$6:$B$300,B6),0) -> 1 | K6: =IF(AND(A6="",B6="",D6="",E6="",F6=""),"",IF(OR(A6="",B6="",D6="",F6=""),"INCOMPLETO",IFERROR(IF(OR(NOT(ISNUMBER(A6)),A6<=0,A6<>INT(A6),COUNTIF(Colaboradores!$A$6:$A$200,B6)<>1,C6="",COUNTIF(Projetos!$B$6:$B$200,D6)<>1,NOT(ISNUMBER(F6)),F6<0,NOT(ISNUMBER(H6)),H6<0),"VERIFICAR",IF(COUNTIFS(Jornada!$A$6:$A$300,A6,Jornada!$B$6:$B$300,B6,Jornada!$N$6:$N$300,"OK")<>1,"SEM JORNADA",IF(SUMIFS($M$6:$M$400,$A$6:$A$400,A6,$B$6:$B$400,B6)>SUMIFS(Jornada!$I$6:$I$300,Jornada!$A$6:$A$300,A6,Jornada!$B$6:$B$300,B6)+Configuracoes!$B$8,"EXCEDE JORNADA",IF(ABS(SUMIFS($M$6:$M$400,$A$6:$A$400,A6,$B$6:$B$400,B6)-SUMIFS(Jornada!$I$6:$I$300,Jornada!$A$6:$A$300,A6,Jornada!$B$6:$B$300,B6))<=Configuracoes!$B$8,"OK","PARCIAL")))),"VERIFICAR"))) -> OK | L6: Exemplo | M6: =IFERROR(IF(AND(ISNUMBER(A6),A6>0,A6=INT(A6),B6<>"",C6<>"",COUNTIF(Colaboradores!$A$6:$A$200,B6)=1,D6<>"",COUNTIF(Projetos!$B$6:$B$200,D6)=1,ISNUMBER(F6),F6>=0,COUNTIFS(Jornada!$A$6:$A$300,A6,Jornada!$B$6:$B$300,B6,Jornada!$N$6:$N$300,"OK")=1),F6,0),0) -> 8.8
A7: =Configuracoes!$B$6+1 -> 46297 | B7: 004 | C7: =IF(B7="","",IFERROR(VLOOKUP(B7,Colaboradores!$A$6:$B$200,2,FALSE),"")) -> Diego Alves | D7: Projeto Alpha | E7: Workshop e diagnóstico | F7: 5.5 | G7: =IF(D7="","",IFERROR(VLOOKUP(D7,Projetos!$B$6:$F$200,4,FALSE),"N/A")) -> SIM | H7: =IF(D7="","",IFERROR(VLOOKUP(D7,Projetos!$B$6:$F$200,5,FALSE),0)) -> 95 | I7: =IFERROR(IF(AND(M7>0,G7="SIM",ISNUMBER(H7),H7>=0),M7*H7,0),0) -> 522.5 | J7: =IFERROR(M7/SUMIFS(Jornada!$I$6:$I$300,Jornada!$A$6:$A$300,A7,Jornada!$B$6:$B$300,B7),0) -> 0.62857143 | K7: =IF(AND(A7="",B7="",D7="",E7="",F7=""),"",IF(OR(A7="",B7="",D7="",F7=""),"INCOMPLETO",IFERROR(IF(OR(NOT(ISNUMBER(A7)),A7<=0,A7<>INT(A7),COUNTIF(Colaboradores!$A$6:$A$200,B7)<>1,C7="",COUNTIF(Projetos!$B$6:$B$200,D7)<>1,NOT(ISNUMBER(F7)),F7<0,NOT(ISNUMBER(H7)),H7<0),"VERIFICAR",IF(COUNTIFS(Jornada!$A$6:$A$300,A7,Jornada!$B$6:$B$300,B7,Jornada!$N$6:$N$300,"OK")<>1,"SEM JORNADA",IF(SUMIFS($M$6:$M$400,$A$6:$A$400,A7,$B$6:$B$400,B7)>SUMIFS(Jornada!$I$6:$I$300,Jornada!$A$6:$A$300,A7,Jornada!$B$6:$B$300,B7)+Configuracoes!$B$8,"EXCEDE JORNADA",IF(ABS(SUMIFS($M$6:$M$400,$A$6:$A$400,A7,$B$6:$B$400,B7)-SUMIFS(Jornada!$I$6:$I$300,Jornada!$A$6:$A$300,A7,Jornada!$B$6:$B$300,B7))<=Configuracoes!$B$8,"OK","PARCIAL")))),"VERIFICAR"))) -> OK | L7: Exemplo | M7: =IFERROR(IF(AND(ISNUMBER(A7),A7>0,A7=INT(A7),B7<>"",C7<>"",COUNTIF(Colaboradores!$A$6:$A$200,B7)=1,D7<>"",COUNTIF(Projetos!$B$6:$B$200,D7)=1,ISNUMBER(F7),F7>=0,COUNTIFS(Jornada!$A$6:$A$300,A7,Jornada!$B$6:$B$300,B7,Jornada!$N$6:$N$300,"OK")=1),F7,0),0) -> 5.5
A8: =Configuracoes!$B$6+1 -> 46297 | B8: 004 | C8: =IF(B8="","",IFERROR(VLOOKUP(B8,Colaboradores!$A$6:$B$200,2,FALSE),"")) -> Diego Alves | D8: Gestão Interna | E8: Preparação e follow-up | F8: 3.25 | G8: =IF(D8="","",IFERROR(VLOOKUP(D8,Projetos!$B$6:$F$200,4,FALSE),"N/A")) -> NÃO | H8: =IF(D8="","",IFERROR(VLOOKUP(D8,Projetos!$B$6:$F$200,5,FALSE),0)) -> 0 | I8: =IFERROR(IF(AND(M8>0,G8="SIM",ISNUMBER(H8),H8>=0),M8*H8,0),0) -> 0 | J8: =IFERROR(M8/SUMIFS(Jornada!$I$6:$I$300,Jornada!$A$6:$A$300,A8,Jornada!$B$6:$B$300,B8),0) -> 0.37142857 | K8: =IF(AND(A8="",B8="",D8="",E8="",F8=""),"",IF(OR(A8="",B8="",D8="",F8=""),"INCOMPLETO",IFERROR(IF(OR(NOT(ISNUMBER(A8)),A8<=0,A8<>INT(A8),COUNTIF(Colaboradores!$A$6:$A$200,B8)<>1,C8="",COUNTIF(Projetos!$B$6:$B$200,D8)<>1,NOT(ISNUMBER(F8)),F8<0,NOT(ISNUMBER(H8)),H8<0),"VERIFICAR",IF(COUNTIFS(Jornada!$A$6:$A$300,A8,Jornada!$B$6:$B$300,B8,Jornada!$N$6:$N$300,"OK")<>1,"SEM JORNADA",IF(SUMIFS($M$6:$M$400,$A$6:$A$400,A8,$B$6:$B$400,B8)>SUMIFS(Jornada!$I$6:$I$300,Jornada!$A$6:$A$300,A8,Jornada!$B$6:$B$300,B8)+Configuracoes!$B$8,"EXCEDE JORNADA",IF(ABS(SUMIFS($M$6:$M$400,$A$6:$A$400,A8,$B$6:$B$400,B8)-SUMIFS(Jornada!$I$6:$I$300,Jornada!$A$6:$A$300,A8,Jornada!$B$6:$B$300,B8))<=Configuracoes!$B$8,"OK","PARCIAL")))),"VERIFICAR"))) -> OK | L8: Exemplo | M8: =IFERROR(IF(AND(ISNUMBER(A8),A8>0,A8=INT(A8),B8<>"",C8<>"",COUNTIF(Colaboradores!$A$6:$A$200,B8)=1,D8<>"",COUNTIF(Projetos!$B$6:$B$200,D8)=1,ISNUMBER(F8),F8>=0,COUNTIFS(Jornada!$A$6:$A$300,A8,Jornada!$B$6:$B$300,B8,Jornada!$N$6:$N$300,"OK")=1),F8,0),0) -> 3.25
A9: =Configuracoes!$B$6+2 -> 46298 | B9: 002 | C9: =IF(B9="","",IFERROR(VLOOKUP(B9,Colaboradores!$A$6:$B$200,2,FALSE),"")) -> Bruno Lima | D9: Manutenção Preventiva | E9: Preventiva compressor | F9: 8.5 | G9: =IF(D9="","",IFERROR(VLOOKUP(D9,Projetos!$B$6:$F$200,4,FALSE),"N/A")) -> NÃO | H9: =IF(D9="","",IFERROR(VLOOKUP(D9,Projetos!$B$6:$F$200,5,FALSE),0)) -> 0 | I9: =IFERROR(IF(AND(M9>0,G9="SIM",ISNUMBER(H9),H9>=0),M9*H9,0),0) -> 0 | J9: =IFERROR(M9/SUMIFS(Jornada!$I$6:$I$300,Jornada!$A$6:$A$300,A9,Jornada!$B$6:$B$300,B9),0) -> 1 | K9: =IF(AND(A9="",B9="",D9="",E9="",F9=""),"",IF(OR(A9="",B9="",D9="",F9=""),"INCOMPLETO",IFERROR(IF(OR(NOT(ISNUMBER(A9)),A9<=0,A9<>INT(A9),COUNTIF(Colaboradores!$A$6:$A$200,B9)<>1,C9="",COUNTIF(Projetos!$B$6:$B$200,D9)<>1,NOT(ISNUMBER(F9)),F9<0,NOT(ISNUMBER(H9)),H9<0),"VERIFICAR",IF(COUNTIFS(Jornada!$A$6:$A$300,A9,Jornada!$B$6:$B$300,B9,Jornada!$N$6:$N$300,"OK")<>1,"SEM JORNADA",IF(SUMIFS($M$6:$M$400,$A$6:$A$400,A9,$B$6:$B$400,B9)>SUMIFS(Jornada!$I$6:$I$300,Jornada!$A$6:$A$300,A9,Jornada!$B$6:$B$300,B9)+Configuracoes!$B$8,"EXCEDE JORNADA",IF(ABS(SUMIFS($M$6:$M$400,$A$6:$A$400,A9,$B$6:$B$400,B9)-SUMIFS(Jornada!$I$6:$I$300,Jornada!$A$6:$A$300,A9,Jornada!$B$6:$B$300,B9))<=Configuracoes!$B$8,"OK","PARCIAL")))),"VERIFICAR"))) -> OK | L9: Exemplo | M9: =IFERROR(IF(AND(ISNUMBER(A9),A9>0,A9=INT(A9),B9<>"",C9<>"",COUNTIF(Colaboradores!$A$6:$A$200,B9)=1,D9<>"",COUNTIF(Projetos!$B$6:$B$200,D9)=1,ISNUMBER(F9),F9>=0,COUNTIFS(Jornada!$A$6:$A$300,A9,Jornada!$B$6:$B$300,B9,Jornada!$N$6:$N$300,"OK")=1),F9,0),0) -> 8.5
A10: =Configuracoes!$B$6+3 -> 46299 | B10: 005 | C10: =IF(B10="","",IFERROR(VLOOKUP(B10,Colaboradores!$A$6:$B$200,2,FALSE),"")) -> Elisa Rocha | D10: Consultoria SHE | E10: Inspeção e relatório | F10: 10 | G10: =IF(D10="","",IFERROR(VLOOKUP(D10,Projetos!$B$6:$F$200,4,FALSE),"N/A")) -> SIM | H10: =IF(D10="","",IFERROR(VLOOKUP(D10,Projetos!$B$6:$F$200,5,FALSE),0)) -> 110 | I10: =IFERROR(IF(AND(M10>0,G10="SIM",ISNUMBER(H10),H10>=0),M10*H10,0),0) -> 1100 | J10: =IFERROR(M10/SUMIFS(Jornada!$I$6:$I$300,Jornada!$A$6:$A$300,A10,Jornada!$B$6:$B$300,B10),0) -> 1 | K10: =IF(AND(A10="",B10="",D10="",E10="",F10=""),"",IF(OR(A10="",B10="",D10="",F10=""),"INCOMPLETO",IFERROR(IF(OR(NOT(ISNUMBER(A10)),A10<=0,A10<>INT(A10),COUNTIF(Colaboradores!$A$6:$A$200,B10)<>1,C10="",COUNTIF(Projetos!$B$6:$B$200,D10)<>1,NOT(ISNUMBER(F10)),F10<0,NOT(ISNUMBER(H10)),H10<0),"VERIFICAR",IF(COUNTIFS(Jornada!$A$6:$A$300,A10,Jornada!$B$6:$B$300,B10,Jornada!$N$6:$N$300,"OK")<>1,"SEM JORNADA",IF(SUMIFS($M$6:$M$400,$A$6:$A$400,A10,$B$6:$B$400,B10)>SUMIFS(Jornada!$I$6:$I$300,Jornada!$A$6:$A$300,A10,Jornada!$B$6:$B$300,B10)+Configuracoes!$B$8,"EXCEDE JORNADA",IF(ABS(SUMIFS($M$6:$M$400,$A$6:$A$400,A10,$B$6:$B$400,B10)-SUMIFS(Jornada!$I$6:$I$300,Jornada!$A$6:$A$300,A10,Jornada!$B$6:$B$300,B10))<=Configuracoes!$B$8,"OK","PARCIAL")))),"VERIFICAR"))) -> OK | L10: Exemplo | M10: =IFERROR(IF(AND(ISNUMBER(A10),A10>0,A10=INT(A10),B10<>"",C10<>"",COUNTIF(Colaboradores!$A$6:$A$200,B10)=1,D10<>"",COUNTIF(Projetos!$B$6:$B$200,D10)=1,ISNUMBER(F10),F10>=0,COUNTIFS(Jornada!$A$6:$A$300,A10,Jornada!$B$6:$B$300,B10,Jornada!$N$6:$N$300,"OK")=1),F10,0),0) -> 10
A11: =Configuracoes!$B$6+4 -> 46300 | B11: 003 | C11: =IF(B11="","",IFERROR(VLOOKUP(B11,Colaboradores!$A$6:$B$200,2,FALSE),"")) -> Carla Mendes | D11: Rotina Operacional | E11: Inventário e organização | F11: 7.5 | G11: =IF(D11="","",IFERROR(VLOOKUP(D11,Projetos!$B$6:$F$200,4,FALSE),"N/A")) -> NÃO | H11: =IF(D11="","",IFERROR(VLOOKUP(D11,Projetos!$B$6:$F$200,5,FALSE),0)) -> 0 | I11: =IFERROR(IF(AND(M11>0,G11="SIM",ISNUMBER(H11),H11>=0),M11*H11,0),0) -> 0 | J11: =IFERROR(M11/SUMIFS(Jornada!$I$6:$I$300,Jornada!$A$6:$A$300,A11,Jornada!$B$6:$B$300,B11),0) -> 1 | K11: =IF(AND(A11="",B11="",D11="",E11="",F11=""),"",IF(OR(A11="",B11="",D11="",F11=""),"INCOMPLETO",IFERROR(IF(OR(NOT(ISNUMBER(A11)),A11<=0,A11<>INT(A11),COUNTIF(Colaboradores!$A$6:$A$200,B11)<>1,C11="",COUNTIF(Projetos!$B$6:$B$200,D11)<>1,NOT(ISNUMBER(F11)),F11<0,NOT(ISNUMBER(H11)),H11<0),"VERIFICAR",IF(COUNTIFS(Jornada!$A$6:$A$300,A11,Jornada!$B$6:$B$300,B11,Jornada!$N$6:$N$300,"OK")<>1,"SEM JORNADA",IF(SUMIFS($M$6:$M$400,$A$6:$A$400,A11,$B$6:$B$400,B11)>SUMIFS(Jornada!$I$6:$I$300,Jornada!$A$6:$A$300,A11,Jornada!$B$6:$B$300,B11)+Configuracoes!$B$8,"EXCEDE JORNADA",IF(ABS(SUMIFS($M$6:$M$400,$A$6:$A$400,A11,$B$6:$B$400,B11)-SUMIFS(Jornada!$I$6:$I$300,Jornada!$A$6:$A$300,A11,Jornada!$B$6:$B$300,B11))<=Configuracoes!$B$8,"OK","PARCIAL")))),"VERIFICAR"))) -> OK | L11: Exemplo | M11: =IFERROR(IF(AND(ISNUMBER(A11),A11>0,A11=INT(A11),B11<>"",C11<>"",COUNTIF(Colaboradores!$A$6:$A$200,B11)=1,D11<>"",COUNTIF(Projetos!$B$6:$B$200,D11)=1,ISNUMBER(F11),F11>=0,COUNTIFS(Jornada!$A$6:$A$300,A11,Jornada!$B$6:$B$300,B11,Jornada!$N$6:$N$300,"OK")=1),F11,0),0) -> 7.5
A12: =Configuracoes!$B$6+7 -> 46303 | B12: 004 | C12: =IF(B12="","",IFERROR(VLOOKUP(B12,Colaboradores!$A$6:$B$200,2,FALSE),"")) -> Diego Alves | D12: Projeto Alpha | E12: Análise de dados | F12: 8 | G12: =IF(D12="","",IFERROR(VLOOKUP(D12,Projetos!$B$6:$F$200,4,FALSE),"N/A")) -> SIM | H12: =IF(D12="","",IFERROR(VLOOKUP(D12,Projetos!$B$6:$F$200,5,FALSE),0)) -> 95 | I12: =IFERROR(IF(AND(M12>0,G12="SIM",ISNUMBER(H12),H12>=0),M12*H12,0),0) -> 760 | J12: =IFERROR(M12/SUMIFS(Jornada!$I$6:$I$300,Jornada!$A$6:$A$300,A12,Jornada!$B$6:$B$300,B12),0) -> 1 | K12: =IF(AND(A12="",B12="",D12="",E12="",F12=""),"",IF(OR(A12="",B12="",D12="",F12=""),"INCOMPLETO",IFERROR(IF(OR(NOT(ISNUMBER(A12)),A12<=0,A12<>INT(A12),COUNTIF(Colaboradores!$A$6:$A$200,B12)<>1,C12="",COUNTIF(Projetos!$B$6:$B$200,D12)<>1,NOT(ISNUMBER(F12)),F12<0,NOT(ISNUMBER(H12)),H12<0),"VERIFICAR",IF(COUNTIFS(Jornada!$A$6:$A$300,A12,Jornada!$B$6:$B$300,B12,Jornada!$N$6:$N$300,"OK")<>1,"SEM JORNADA",IF(SUMIFS($M$6:$M$400,$A$6:$A$400,A12,$B$6:$B$400,B12)>SUMIFS(Jornada!$I$6:$I$300,Jornada!$A$6:$A$300,A12,Jornada!$B$6:$B$300,B12)+Configuracoes!$B$8,"EXCEDE JORNADA",IF(ABS(SUMIFS($M$6:$M$400,$A$6:$A$400,A12,$B$6:$B$400,B12)-SUMIFS(Jornada!$I$6:$I$300,Jornada!$A$6:$A$300,A12,Jornada!$B$6:$B$300,B12))<=Configuracoes!$B$8,"OK","PARCIAL")))),"VERIFICAR"))) -> OK | L12: Exemplo | M12: =IFERROR(IF(AND(ISNUMBER(A12),A12>0,A12=INT(A12),B12<>"",C12<>"",COUNTIF(Colaboradores!$A$6:$A$200,B12)=1,D12<>"",COUNTIF(Projetos!$B$6:$B$200,D12)=1,ISNUMBER(F12),F12>=0,COUNTIFS(Jornada!$A$6:$A$300,A12,Jornada!$B$6:$B$300,B12,Jornada!$N$6:$N$300,"OK")=1),F12,0),0) -> 8
C13: =IF(B13="","",IFERROR(VLOOKUP(B13,Colaboradores!$A$6:$B$200,2,FALSE),"")) | G13: =IF(D13="","",IFERROR(VLOOKUP(D13,Projetos!$B$6:$F$200,4,FALSE),"N/A")) | H13: =IF(D13="","",IFERROR(VLOOKUP(D13,Projetos!$B$6:$F$200,5,FALSE),0)) | I13: =IFERROR(IF(AND(M13>0,G13="SIM",ISNUMBER(H13),H13>=0),M13*H13,0),0) -> 0 | J13: =IFERROR(M13/SUMIFS(Jornada!$I$6:$I$300,Jornada!$A$6:$A$300,A13,Jornada!$B$6:$B$300,B13),0) -> 0 | K13: =IF(AND(A13="",B13="",D13="",E13="",F13=""),"",IF(OR(A13="",B13="",D13="",F13=""),"INCOMPLETO",IFERROR(IF(OR(NOT(ISNUMBER(A13)),A13<=0,A13<>INT(A13),COUNTIF(Colaboradores!$A$6:$A$200,B13)<>1,C13="",COUNTIF(Projetos!$B$6:$B$200,D13)<>1,NOT(ISNUMBER(F13)),F13<0,NOT(ISNUMBER(H13)),H13<0),"VERIFICAR",IF(COUNTIFS(Jornada!$A$6:$A$300,A13,Jornada!$B$6:$B$300,B13,Jornada!$N$6:$N$300,"OK")<>1,"SEM JORNADA",IF(SUMIFS($M$6:$M$400,$A$6:$A$400,A13,$B$6:$B$400,B13)>SUMIFS(Jornada!$I$6:$I$300,Jornada!$A$6:$A$300,A13,Jornada!$B$6:$B$300,B13)+Configuracoes!$B$8,"EXCEDE JORNADA",IF(ABS(SUMIFS($M$6:$M$400,$A$6:$A$400,A13,$B$6:$B$400,B13)-SUMIFS(Jornada!$I$6:$I$300,Jornada!$A$6:$A$300,A13,Jornada!$B$6:$B$300,B13))<=Configuracoes!$B$8,"OK","PARCIAL")))),"VERIFICAR"))) | M13: =IFERROR(IF(AND(ISNUMBER(A13),A13>0,A13=INT(A13),B13<>"",C13<>"",COUNTIF(Colaboradores!$A$6:$A$200,B13)=1,D13<>"",COUNTIF(Projetos!$B$6:$B$200,D13)=1,ISNUMBER(F13),F13>=0,COUNTIFS(Jornada!$A$6:$A$300,A13,Jornada!$B$6:$B$300,B13,Jornada!$N$6:$N$300,"OK")=1),F13,0),0) -> 0
C14: =IF(B14="","",IFERROR(VLOOKUP(B14,Colaboradores!$A$6:$B$200,2,FALSE),"")) | G14: =IF(D14="","",IFERROR(VLOOKUP(D14,Projetos!$B$6:$F$200,4,FALSE),"N/A")) | H14: =IF(D14="","",IFERROR(VLOOKUP(D14,Projetos!$B$6:$F$200,5,FALSE),0)) | I14: =IFERROR(IF(AND(M14>0,G14="SIM",ISNUMBER(H14),H14>=0),M14*H14,0),0) -> 0 | J14: =IFERROR(M14/SUMIFS(Jornada!$I$6:$I$300,Jornada!$A$6:$A$300,A14,Jornada!$B$6:$B$300,B14),0) -> 0 | K14: =IF(AND(A14="",B14="",D14="",E14="",F14=""),"",IF(OR(A14="",B14="",D14="",F14=""),"INCOMPLETO",IFERROR(IF(OR(NOT(ISNUMBER(A14)),A14<=0,A14<>INT(A14),COUNTIF(Colaboradores!$A$6:$A$200,B14)<>1,C14="",COUNTIF(Projetos!$B$6:$B$200,D14)<>1,NOT(ISNUMBER(F14)),F14<0,NOT(ISNUMBER(H14)),H14<0),"VERIFICAR",IF(COUNTIFS(Jornada!$A$6:$A$300,A14,Jornada!$B$6:$B$300,B14,Jornada!$N$6:$N$300,"OK")<>1,"SEM JORNADA",IF(SUMIFS($M$6:$M$400,$A$6:$A$400,A14,$B$6:$B$400,B14)>SUMIFS(Jornada!$I$6:$I$300,Jornada!$A$6:$A$300,A14,Jornada!$B$6:$B$300,B14)+Configuracoes!$B$8,"EXCEDE JORNADA",IF(ABS(SUMIFS($M$6:$M$400,$A$6:$A$400,A14,$B$6:$B$400,B14)-SUMIFS(Jornada!$I$6:$I$300,Jornada!$A$6:$A$300,A14,Jornada!$B$6:$B$300,B14))<=Configuracoes!$B$8,"OK","PARCIAL")))),"VERIFICAR"))) | M14: =IFERROR(IF(AND(ISNUMBER(A14),A14>0,A14=INT(A14),B14<>"",C14<>"",COUNTIF(Colaboradores!$A$6:$A$200,B14)=1,D14<>"",COUNTIF(Projetos!$B$6:$B$200,D14)=1,ISNUMBER(F14),F14>=0,COUNTIFS(Jornada!$A$6:$A$300,A14,Jornada!$B$6:$B$300,B14,Jornada!$N$6:$N$300,"OK")=1),F14,0),0) -> 0
C15: =IF(B15="","",IFERROR(VLOOKUP(B15,Colaboradores!$A$6:$B$200,2,FALSE),"")) | G15: =IF(D15="","",IFERROR(VLOOKUP(D15,Projetos!$B$6:$F$200,4,FALSE),"N/A")) | H15: =IF(D15="","",IFERROR(VLOOKUP(D15,Projetos!$B$6:$F$200,5,FALSE),0)) | I15: =IFERROR(IF(AND(M15>0,G15="SIM",ISNUMBER(H15),H15>=0),M15*H15,0),0) -> 0 | J15: =IFERROR(M15/SUMIFS(Jornada!$I$6:$I$300,Jornada!$A$6:$A$300,A15,Jornada!$B$6:$B$300,B15),0) -> 0 | K15: =IF(AND(A15="",B15="",D15="",E15="",F15=""),"",IF(OR(A15="",B15="",D15="",F15=""),"INCOMPLETO",IFERROR(IF(OR(NOT(ISNUMBER(A15)),A15<=0,A15<>INT(A15),COUNTIF(Colaboradores!$A$6:$A$200,B15)<>1,C15="",COUNTIF(Projetos!$B$6:$B$200,D15)<>1,NOT(ISNUMBER(F15)),F15<0,NOT(ISNUMBER(H15)),H15<0),"VERIFICAR",IF(COUNTIFS(Jornada!$A$6:$A$300,A15,Jornada!$B$6:$B$300,B15,Jornada!$N$6:$N$300,"OK")<>1,"SEM JORNADA",IF(SUMIFS($M$6:$M$400,$A$6:$A$400,A15,$B$6:$B$400,B15)>SUMIFS(Jornada!$I$6:$I$300,Jornada!$A$6:$A$300,A15,Jornada!$B$6:$B$300,B15)+Configuracoes!$B$8,"EXCEDE JORNADA",IF(ABS(SUMIFS($M$6:$M$400,$A$6:$A$400,A15,$B$6:$B$400,B15)-SUMIFS(Jornada!$I$6:$I$300,Jornada!$A$6:$A$300,A15,Jornada!$B$6:$B$300,B15))<=Configuracoes!$B$8,"OK","PARCIAL")))),"VERIFICAR"))) | M15: =IFERROR(IF(AND(ISNUMBER(A15),A15>0,A15=INT(A15),B15<>"",C15<>"",COUNTIF(Colaboradores!$A$6:$A$200,B15)=1,D15<>"",COUNTIF(Projetos!$B$6:$B$200,D15)=1,ISNUMBER(F15),F15>=0,COUNTIFS(Jornada!$A$6:$A$300,A15,Jornada!$B$6:$B$300,B15,Jornada!$N$6:$N$300,"OK")=1),F15,0),0) -> 0
