Workbook

Sheet Dashboard
A1: DASHBOARD DA CARTEIRA
A2: ="Posição em "&TEXT(Metas!B4,"dd/mm/yyyy")&" | Valores em reais | Exemplos fictícios" -> Posição em 24/09/2026 | Valores em reais | Exemplos fictícios
A3: VALOR ATUAL | D3: CUSTO TOTAL | G3: RESULTADO + PROVENTOS | J3: RETORNO SIMPLES | M3: ATIVOS
A4: =IF(COUNTIF(Carteira!$W$5:$W$104,"Revisar dados")>0,"Revisar dados",SUM(Carteira!J5:J104)) -> 62048.95 | D4: =IF(COUNTIF(Carteira!$W$5:$W$104,"Revisar dados")>0,"Revisar dados",SUM(Carteira!I5:I104)) -> 57127.2 | G4: =IF(COUNTIF(Carteira!$W$5:$W$104,"Revisar dados")>0,"Revisar dados",SUM(Carteira!N5:N104)) -> 6722.75 | J4: =IF(COUNTIF(Carteira!$W$5:$W$104,"Revisar dados")>0,"Revisar dados",IF(SUM(Carteira!I5:I104)=0,0,SUM(Carteira!N5:N104)/SUM(Carteira!I5:I104))) -> 0.11768037 | M4: =COUNTA(Carteira!B5:B104) -> 8
A7: ALOCAÇÃO E APORTE POR CLASSE
A8: Classe | B8: Valor atual | C8: % atual | D8: % alvo | E8: Diferença p.p. | F8: Lacuna em R$ | G8: Aporte sugerido | I8: Classe | J8: % atual | K8: % alvo
A9: Ações Brasil | B9: =IF(ISNUMBER($A$4),SUMIF(Carteira!$A$5:$A$104,A9,Carteira!$J$5:$J$104),"") -> 6828 | C9: =IF(ISNUMBER($A$4),IF($A$4=0,0,B9/$A$4),"") -> 0.11004215 | D9: =IF(Metas!$F$13="OK",Metas!B10,"") -> 0.3 | E9: =IF(AND(ISNUMBER($A$4),Metas!$F$13="OK"),C9-D9,"") -> -0.18995785 | F9: =IF(AND(ISNUMBER($A$4),Metas!$F$13="OK"),MAX(0,($A$4+Metas!$B$6)*D9-B9),"") -> 12236.685 | G9: =IF(AND(ISNUMBER($A$4),Metas!$F$13="OK"),IF(SUM($F$9:$F$13)=0,0,Metas!$B$6*F9/SUM($F$9:$F$13)),"") -> 1286.478 | I9: =A9 -> Ações Brasil | J9: =IF(ISNUMBER($A$4),C9*100,"") -> 11.004215 | K9: =IF(Metas!$F$13="OK",D9*100,"") -> 30
A10: FIIs | B10: =IF(ISNUMBER($A$4),SUMIF(Carteira!$A$5:$A$104,A10,Carteira!$J$5:$J$104),"") -> 12696 | C10: =IF(ISNUMBER($A$4),IF($A$4=0,0,B10/$A$4),"") -> 0.20461265 | D10: =IF(Metas!$F$13="OK",Metas!B11,"") -> 0.2 | E10: =IF(AND(ISNUMBER($A$4),Metas!$F$13="OK"),C10-D10,"") -> 0.0046126486 | F10: =IF(AND(ISNUMBER($A$4),Metas!$F$13="OK"),MAX(0,($A$4+Metas!$B$6)*D10-B10),"") -> 13.79 | G10: =IF(AND(ISNUMBER($A$4),Metas!$F$13="OK"),IF(SUM($F$9:$F$13)=0,0,Metas!$B$6*F10/SUM($F$9:$F$13)),"") -> 1.4497825 | I10: =A10 -> FIIs | J10: =IF(ISNUMBER($A$4),C10*100,"") -> 20.461265 | K10: =IF(Metas!$F$13="OK",D10*100,"") -> 20
A11: Stocks | B11: =IF(ISNUMBER($A$4),SUMIF(Carteira!$A$5:$A$104,A11,Carteira!$J$5:$J$104),"") -> 11248.8 | C11: =IF(ISNUMBER($A$4),IF($A$4=0,0,B11/$A$4),"") -> 0.18128913 | D11: =IF(Metas!$F$13="OK",Metas!B12,"") -> 0.2 | E11: =IF(AND(ISNUMBER($A$4),Metas!$F$13="OK"),C11-D11,"") -> -0.018710873 | F11: =IF(AND(ISNUMBER($A$4),Metas!$F$13="OK"),MAX(0,($A$4+Metas!$B$6)*D11-B11),"") -> 1460.99 | G11: =IF(AND(ISNUMBER($A$4),Metas!$F$13="OK"),IF(SUM($F$9:$F$13)=0,0,Metas!$B$6*F11/SUM($F$9:$F$13)),"") -> 153.59809 | I11: =A11 -> Stocks | J11: =IF(ISNUMBER($A$4),C11*100,"") -> 18.128913 | K11: =IF(Metas!$F$13="OK",D11*100,"") -> 20
A12: ETFs | B12: =IF(ISNUMBER($A$4),SUMIF(Carteira!$A$5:$A$104,A12,Carteira!$J$5:$J$104),"") -> 8976.15 | C12: =IF(ISNUMBER($A$4),IF($A$4=0,0,B12/$A$4),"") -> 0.1446624 | D12: =IF(Metas!$F$13="OK",Metas!B13,"") -> 0.15 | E12: =IF(AND(ISNUMBER($A$4),Metas!$F$13="OK"),C12-D12,"") -> -0.0053376004 | F12: =IF(AND(ISNUMBER($A$4),Metas!$F$13="OK"),MAX(0,($A$4+Metas!$B$6)*D12-B12),"") -> 556.1925 | G12: =IF(AND(ISNUMBER($A$4),Metas!$F$13="OK"),IF(SUM($F$9:$F$13)=0,0,Metas!$B$6*F12/SUM($F$9:$F$13)),"") -> 58.474122 | I12: =A12 -> ETFs | J12: =IF(ISNUMBER($A$4),C12*100,"") -> 14.46624 | K12: =IF(Metas!$F$13="OK",D12*100,"") -> 15
A13: Renda Fixa | B13: =IF(ISNUMBER($A$4),SUMIF(Carteira!$A$5:$A$104,A13,Carteira!$J$5:$J$104),"") -> 22300 | C13: =IF(ISNUMBER($A$4),IF($A$4=0,0,B13/$A$4),"") -> 0.35939367 | D13: =IF(Metas!$F$13="OK",Metas!B14,"") -> 0.15 | E13: =IF(AND(ISNUMBER($A$4),Metas!$F$13="OK"),C13-D13,"") -> 0.20939367 | F13: =IF(AND(ISNUMBER($A$4),Metas!$F$13="OK"),MAX(0,($A$4+Metas!$B$6)*D13-B13),"") -> 0 | G13: =IF(AND(ISNUMBER($A$4),Metas!$F$13="OK"),IF(SUM($F$9:$F$13)=0,0,Metas!$B$6*F13/SUM($F$9:$F$13)),"") -> 0 | I13: =A13 -> Renda Fixa | J13: =IF(ISNUMBER($A$4),C13*100,"") -> 35.939367 | K13: =IF(Metas!$F$13="OK",D13*100,"") -> 15
A16: ATIVOS QUE PEDEM ATENÇÃO
A17: Ativo | B17: Classe | C17: Valor atual | D17: Rentabilidade | E17: % carteira | F17: Margem segurança | G17: Sinal de preço
A18: =Carteira!B5 -> ABCD3 | B18: =Carteira!A5 -> Ações Brasil | C18: =Carteira!J5 -> 3408 | D18: =Carteira!L5 -> 0.15918367 | E18: =Carteira!O5 -> 0.054924378 | F18: =Carteira!T5 -> 0.10915493 | G18: =Carteira!U5 -> APORTE PARCIAL
A19: =Carteira!B6 -> EFGH4 | B19: =Carteira!A6 -> Ações Brasil | C19: =Carteira!J6 -> 3420 | D19: =Carteira!L6 -> -0.06043956 | E19: =Carteira!O6 -> 0.055117774 | F19: =Carteira!T6 -> 0.16959064 | G19: =Carteira!U6 -> COMPRAR
A20: =Carteira!B7 -> FIIX11 | B20: =Carteira!A7 -> FIIs | C20: =Carteira!J7 -> 8120 | D20: =Carteira!L7 -> 0.057291667 | E20: =Carteira!O7 -> 0.13086442 | F20: =Carteira!T7 -> 0.034482759 | G20: =Carteira!U7 -> APORTE PARCIAL | I20: Como decidir: use o aporte sugerido para corrigir a alocação por classe. Depois, confira preço-teto e margem de segurança por ativo. A planilha organiza dados e cenários; não substitui análise de risco nem recomendação profissional.
A21: =Carteira!B8 -> FIIP11 | B21: =Carteira!A8 -> FIIs | C21: =Carteira!J8 -> 4576 | D21: =Carteira!L8 -> -0.054545455 | E21: =Carteira!O8 -> 0.073748226 | F21: =Carteira!T8 -> 0.081730769 | G21: =Carteira!U8 -> APORTE PARCIAL
A22: =Carteira!B9 -> TECH | B22: =Carteira!A9 -> Stocks | C22: =Carteira!J9 -> 11248.8 | D22: =Carteira!L9 -> 0.1862069 | E22: =Carteira!O9 -> 0.18128913 | F22: =Carteira!T9 -> 0.075581395 | G22: =Carteira!U9 -> APORTE PARCIAL
A23: =Carteira!B10 -> WORLD | B23: =Carteira!A10 -> ETFs | C23: =Carteira!J10 -> 8976.15 | D23: =Carteira!L10 -> 0.11585366 | E23: =Carteira!O10 -> 0.1446624 | F23: =Carteira!T10 -> 0.071038251 | G23: =Carteira!U10 -> APORTE PARCIAL
A24: =Carteira!B11 -> CDB 2028 | B24: =Carteira!A11 -> Renda Fixa | C24: =Carteira!J11 -> 13280 | D24: =Carteira!L11 -> 0.10666667 | E24: =Carteira!O11 -> 0.21402457 | F24: =Carteira!T11 | G24: =Carteira!U11 -> NÃO APLICÁVEL
A25: =Carteira!B12 -> Tesouro IPCA | B25: =Carteira!A12 -> Renda Fixa | C25: =Carteira!J12 -> 9020 | D25: =Carteira!L12 -> 0.061176471 | E25: =Carteira!O12 -> 0.1453691 | F25: =Carteira!T12 | G25: =Carteira!U12 -> NÃO APLICÁVEL
A26: Carteira: linhas a corrigir | D26: =COUNTIF(Carteira!W5:W104,"Revisar dados") -> 0
A27: Metas e aporte | D27: =Metas!F13 -> OK
A28: Histórico: linhas a corrigir | D28: =COUNTIF(Movimentacoes!M5:M204,"Revisar dados") -> 0

Sheet Carteira
A1: CARTEIRA DE INVESTIMENTOS
A2: Preencha as células amarelas. Valores consolidados, rentabilidade, alocação e sinais de rebalanceamento são calculados automaticamente.
A4: Classe | B4: Ativo | C4: Descrição | D4: Moeda | E4: Quantidade | F4: Preço médio | G4: Preço atual | H4: Câmbio | I4: Custo total BRL | J4: Valor atual BRL | K4: Resultado BRL | L4: Rentabilidade | M4: Proventos BRL | N4: Resultado + proventos | O4: % carteira | P4: % alvo classe | Q4: Diferença p.p. | R4: Status alocação | S4: Preço-teto | T4: Margem de segurança | U4: Sinal de preço | V4: Observações | W4: Conferência
A5: Ações Brasil | B5: ABCD3 | C5: Empresa industrial | D5: BRL | E5: 120 | F5: 24.5 | G5: 28.4 | H5: =IF(W5="","",IF(W5<>"OK","Revisar dados",IF(B5="","",IF(D5="BRL",1,IF(D5="USD",Metas!$B$5,""))))) -> 1 | I5: =IF(W5="","",IF(W5<>"OK","Revisar dados",IF(B5="","",E5*F5*H5))) -> 2940 | J5: =IF(W5="","",IF(W5<>"OK","Revisar dados",IF(B5="","",E5*G5*H5))) -> 3408 | K5: =IF(W5="","",IF(W5<>"OK","Revisar dados",IF(B5="","",J5-I5))) -> 468 | L5: =IF(W5="","",IF(W5<>"OK","Revisar dados",IF(OR(B5="",I5=0),"",K5/I5))) -> 0.15918367 | M5: 186 | N5: =IF(W5="","",IF(W5<>"OK","Revisar dados",IF(B5="","",K5+M5))) -> 654 | O5: =IF(W5="","",IF(W5<>"OK","Revisar dados",IF(OR(B5="",SUM($J$5:$J$104)=0),"",J5/SUM($J$5:$J$104)))) -> 0.054924378 | P5: =IF(W5="","",IF(W5<>"OK","Revisar dados",IF(B5="","",IF(A5="Ações Brasil",Metas!$B$10,IF(A5="FIIs",Metas!$B$11,IF(A5="Stocks",Metas!$B$12,IF(A5="ETFs",Metas!$B$13,IF(A5="Renda Fixa",Metas!$B$14,"")))))))) -> 0.3 | Q5: =IF(W5="","",IF(W5<>"OK","Revisar dados",IF(B5="","",SUMIF($A$5:$A$104,A5,$O$5:$O$104)-P5))) -> -0.18995785 | R5: =IF(W5="","",IF(W5<>"OK","Revisar dados",IF(B5="","",IF(Q5<-0.02,"ABAIXO DA META",IF(Q5>0.02,"ACIMA DA META","DENTRO DA FAIXA"))))) -> ABAIXO DA META | S5: 31.5 | T5: =IF(W5="","",IF(W5<>"OK","Revisar dados",IF(OR(B5="",S5=0,G5=0),"",S5/G5-1))) -> 0.10915493 | U5: =IF(W5="","",IF(W5<>"OK","Revisar dados",IF(OR(S5="",S5=0,G5=0),"NÃO APLICÁVEL",IF(G5<=S5*9/10,"COMPRAR",IF(G5<=S5,"APORTE PARCIAL","AGUARDAR"))))) -> APORTE PARCIAL | V5: Exemplo fictício | W5: =IF(COUNTA(A5:G5,M5,S5,V5)=0,"",IF(AND(COUNTIF(Listas!$A$4:$A$8,A5)=1,B5<>"",COUNTIF(Listas!$B$4:$B$5,D5)=1,ISNUMBER(E5),E5>0,ISNUMBER(F5),F5>=0,ISNUMBER(G5),G5>=0,OR(M5="",AND(ISNUMBER(M5),M5>=0)),OR(S5="",AND(ISNUMBER(S5),S5>=0)),OR(D5="BRL",AND(ISNUMBER(Metas!$B$5),Metas!$B$5>0))),"OK","Revisar dados")) -> OK
A6: Ações Brasil | B6: EFGH4 | C6: Banco digital | D6: BRL | E6: 200 | F6: 18.2 | G6: 17.1 | H6: =IF(W6="","",IF(W6<>"OK","Revisar dados",IF(B6="","",IF(D6="BRL",1,IF(D6="USD",Metas!$B$5,""))))) -> 1 | I6: =IF(W6="","",IF(W6<>"OK","Revisar dados",IF(B6="","",E6*F6*H6))) -> 3640 | J6: =IF(W6="","",IF(W6<>"OK","Revisar dados",IF(B6="","",E6*G6*H6))) -> 3420 | K6: =IF(W6="","",IF(W6<>"OK","Revisar dados",IF(B6="","",J6-I6))) -> -220 | L6: =IF(W6="","",IF(W6<>"OK","Revisar dados",IF(OR(B6="",I6=0),"",K6/I6))) -> -0.06043956 | M6: 240 | N6: =IF(W6="","",IF(W6<>"OK","Revisar dados",IF(B6="","",K6+M6))) -> 20 | O6: =IF(W6="","",IF(W6<>"OK","Revisar dados",IF(OR(B6="",SUM($J$5:$J$104)=0),"",J6/SUM($J$5:$J$104)))) -> 0.055117774 | P6: =IF(W6="","",IF(W6<>"OK","Revisar dados",IF(B6="","",IF(A6="Ações Brasil",Metas!$B$10,IF(A6="FIIs",Metas!$B$11,IF(A6="Stocks",Metas!$B$12,IF(A6="ETFs",Metas!$B$13,IF(A6="Renda Fixa",Metas!$B$14,"")))))))) -> 0.3 | Q6: =IF(W6="","",IF(W6<>"OK","Revisar dados",IF(B6="","",SUMIF($A$5:$A$104,A6,$O$5:$O$104)-P6))) -> -0.18995785 | R6: =IF(W6="","",IF(W6<>"OK","Revisar dados",IF(B6="","",IF(Q6<-0.02,"ABAIXO DA META",IF(Q6>0.02,"ACIMA DA META","DENTRO DA FAIXA"))))) -> ABAIXO DA META | S6: 20 | T6: =IF(W6="","",IF(W6<>"OK","Revisar dados",IF(OR(B6="",S6=0,G6=0),"",S6/G6-1))) -> 0.16959064 | U6: =IF(W6="","",IF(W6<>"OK","Revisar dados",IF(OR(S6="",S6=0,G6=0),"NÃO APLICÁVEL",IF(G6<=S6*9/10,"COMPRAR",IF(G6<=S6,"APORTE PARCIAL","AGUARDAR"))))) -> COMPRAR | V6: Exemplo fictício | W6: =IF(COUNTA(A6:G6,M6,S6,V6)=0,"",IF(AND(COUNTIF(Listas!$A$4:$A$8,A6)=1,B6<>"",COUNTIF(Listas!$B$4:$B$5,D6)=1,ISNUMBER(E6),E6>0,ISNUMBER(F6),F6>=0,ISNUMBER(G6),G6>=0,OR(M6="",AND(ISNUMBER(M6),M6>=0)),OR(S6="",AND(ISNUMBER(S6),S6>=0)),OR(D6="BRL",AND(ISNUMBER(Metas!$B$5),Metas!$B$5>0))),"OK","Revisar dados")) -> OK
A7: FIIs | B7: FIIX11 | C7: Fundo logístico | D7: BRL | E7: 80 | F7: 96 | G7: 101.5 | H7: =IF(W7="","",IF(W7<>"OK","Revisar dados",IF(B7="","",IF(D7="BRL",1,IF(D7="USD",Metas!$B$5,""))))) -> 1 | I7: =IF(W7="","",IF(W7<>"OK","Revisar dados",IF(B7="","",E7*F7*H7))) -> 7680 | J7: =IF(W7="","",IF(W7<>"OK","Revisar dados",IF(B7="","",E7*G7*H7))) -> 8120 | K7: =IF(W7="","",IF(W7<>"OK","Revisar dados",IF(B7="","",J7-I7))) -> 440 | L7: =IF(W7="","",IF(W7<>"OK","Revisar dados",IF(OR(B7="",I7=0),"",K7/I7))) -> 0.057291667 | M7: 680 | N7: =IF(W7="","",IF(W7<>"OK","Revisar dados",IF(B7="","",K7+M7))) -> 1120 | O7: =IF(W7="","",IF(W7<>"OK","Revisar dados",IF(OR(B7="",SUM($J$5:$J$104)=0),"",J7/SUM($J$5:$J$104)))) -> 0.13086442 | P7: =IF(W7="","",IF(W7<>"OK","Revisar dados",IF(B7="","",IF(A7="Ações Brasil",Metas!$B$10,IF(A7="FIIs",Metas!$B$11,IF(A7="Stocks",Metas!$B$12,IF(A7="ETFs",Metas!$B$13,IF(A7="Renda Fixa",Metas!$B$14,"")))))))) -> 0.2 | Q7: =IF(W7="","",IF(W7<>"OK","Revisar dados",IF(B7="","",SUMIF($A$5:$A$104,A7,$O$5:$O$104)-P7))) -> 0.0046126486 | R7: =IF(W7="","",IF(W7<>"OK","Revisar dados",IF(B7="","",IF(Q7<-0.02,"ABAIXO DA META",IF(Q7>0.02,"ACIMA DA META","DENTRO DA FAIXA"))))) -> DENTRO DA FAIXA | S7: 105 | T7: =IF(W7="","",IF(W7<>"OK","Revisar dados",IF(OR(B7="",S7=0,G7=0),"",S7/G7-1))) -> 0.034482759 | U7: =IF(W7="","",IF(W7<>"OK","Revisar dados",IF(OR(S7="",S7=0,G7=0),"NÃO APLICÁVEL",IF(G7<=S7*9/10,"COMPRAR",IF(G7<=S7,"APORTE PARCIAL","AGUARDAR"))))) -> APORTE PARCIAL | V7: Exemplo fictício | W7: =IF(COUNTA(A7:G7,M7,S7,V7)=0,"",IF(AND(COUNTIF(Listas!$A$4:$A$8,A7)=1,B7<>"",COUNTIF(Listas!$B$4:$B$5,D7)=1,ISNUMBER(E7),E7>0,ISNUMBER(F7),F7>=0,ISNUMBER(G7),G7>=0,OR(M7="",AND(ISNUMBER(M7),M7>=0)),OR(S7="",AND(ISNUMBER(S7),S7>=0)),OR(D7="BRL",AND(ISNUMBER(Metas!$B$5),Metas!$B$5>0))),"OK","Revisar dados")) -> OK
A8: FIIs | B8: FIIP11 | C8: Fundo de recebíveis | D8: BRL | E8: 55 | F8: 88 | G8: 83.2 | H8: =IF(W8="","",IF(W8<>"OK","Revisar dados",IF(B8="","",IF(D8="BRL",1,IF(D8="USD",Metas!$B$5,""))))) -> 1 | I8: =IF(W8="","",IF(W8<>"OK","Revisar dados",IF(B8="","",E8*F8*H8))) -> 4840 | J8: =IF(W8="","",IF(W8<>"OK","Revisar dados",IF(B8="","",E8*G8*H8))) -> 4576 | K8: =IF(W8="","",IF(W8<>"OK","Revisar dados",IF(B8="","",J8-I8))) -> -264 | L8: =IF(W8="","",IF(W8<>"OK","Revisar dados",IF(OR(B8="",I8=0),"",K8/I8))) -> -0.054545455 | M8: 390 | N8: =IF(W8="","",IF(W8<>"OK","Revisar dados",IF(B8="","",K8+M8))) -> 126 | O8: =IF(W8="","",IF(W8<>"OK","Revisar dados",IF(OR(B8="",SUM($J$5:$J$104)=0),"",J8/SUM($J$5:$J$104)))) -> 0.073748226 | P8: =IF(W8="","",IF(W8<>"OK","Revisar dados",IF(B8="","",IF(A8="Ações Brasil",Metas!$B$10,IF(A8="FIIs",Metas!$B$11,IF(A8="Stocks",Metas!$B$12,IF(A8="ETFs",Metas!$B$13,IF(A8="Renda Fixa",Metas!$B$14,"")))))))) -> 0.2 | Q8: =IF(W8="","",IF(W8<>"OK","Revisar dados",IF(B8="","",SUMIF($A$5:$A$104,A8,$O$5:$O$104)-P8))) -> 0.0046126486 | R8: =IF(W8="","",IF(W8<>"OK","Revisar dados",IF(B8="","",IF(Q8<-0.02,"ABAIXO DA META",IF(Q8>0.02,"ACIMA DA META","DENTRO DA FAIXA"))))) -> DENTRO DA FAIXA | S8: 90 | T8: =IF(W8="","",IF(W8<>"OK","Revisar dados",IF(OR(B8="",S8=0,G8=0),"",S8/G8-1))) -> 0.081730769 | U8: =IF(W8="","",IF(W8<>"OK","Revisar dados",IF(OR(S8="",S8=0,G8=0),"NÃO APLICÁVEL",IF(G8<=S8*9/10,"COMPRAR",IF(G8<=S8,"APORTE PARCIAL","AGUARDAR"))))) -> APORTE PARCIAL | V8: Exemplo fictício | W8: =IF(COUNTA(A8:G8,M8,S8,V8)=0,"",IF(AND(COUNTIF(Listas!$A$4:$A$8,A8)=1,B8<>"",COUNTIF(Listas!$B$4:$B$5,D8)=1,ISNUMBER(E8),E8>0,ISNUMBER(F8),F8>=0,ISNUMBER(G8),G8>=0,OR(M8="",AND(ISNUMBER(M8),M8>=0)),OR(S8="",AND(ISNUMBER(S8),S8>=0)),OR(D8="BRL",AND(ISNUMBER(Metas!$B$5),Metas!$B$5>0))),"OK","Revisar dados")) -> OK
A9: Stocks | B9: TECH | C9: Tecnologia global | D9: USD | E9: 12 | F9: 145 | G9: 172 | H9: =IF(W9="","",IF(W9<>"OK","Revisar dados",IF(B9="","",IF(D9="BRL",1,IF(D9="USD",Metas!$B$5,""))))) -> 5.45 | I9: =IF(W9="","",IF(W9<>"OK","Revisar dados",IF(B9="","",E9*F9*H9))) -> 9483 | J9: =IF(W9="","",IF(W9<>"OK","Revisar dados",IF(B9="","",E9*G9*H9))) -> 11248.8 | K9: =IF(W9="","",IF(W9<>"OK","Revisar dados",IF(B9="","",J9-I9))) -> 1765.8 | L9: =IF(W9="","",IF(W9<>"OK","Revisar dados",IF(OR(B9="",I9=0),"",K9/I9))) -> 0.1862069 | M9: 210 | N9: =IF(W9="","",IF(W9<>"OK","Revisar dados",IF(B9="","",K9+M9))) -> 1975.8 | O9: =IF(W9="","",IF(W9<>"OK","Revisar dados",IF(OR(B9="",SUM($J$5:$J$104)=0),"",J9/SUM($J$5:$J$104)))) -> 0.18128913 | P9: =IF(W9="","",IF(W9<>"OK","Revisar dados",IF(B9="","",IF(A9="Ações Brasil",Metas!$B$10,IF(A9="FIIs",Metas!$B$11,IF(A9="Stocks",Metas!$B$12,IF(A9="ETFs",Metas!$B$13,IF(A9="Renda Fixa",Metas!$B$14,"")))))))) -> 0.2 | Q9: =IF(W9="","",IF(W9<>"OK","Revisar dados",IF(B9="","",SUMIF($A$5:$A$104,A9,$O$5:$O$104)-P9))) -> -0.018710873 | R9: =IF(W9="","",IF(W9<>"OK","Revisar dados",IF(B9="","",IF(Q9<-0.02,"ABAIXO DA META",IF(Q9>0.02,"ACIMA DA META","DENTRO DA FAIXA"))))) -> DENTRO DA FAIXA | S9: 185 | T9: =IF(W9="","",IF(W9<>"OK","Revisar dados",IF(OR(B9="",S9=0,G9=0),"",S9/G9-1))) -> 0.075581395 | U9: =IF(W9="","",IF(W9<>"OK","Revisar dados",IF(OR(S9="",S9=0,G9=0),"NÃO APLICÁVEL",IF(G9<=S9*9/10,"COMPRAR",IF(G9<=S9,"APORTE PARCIAL","AGUARDAR"))))) -> APORTE PARCIAL | V9: Exemplo fictício | W9: =IF(COUNTA(A9:G9,M9,S9,V9)=0,"",IF(AND(COUNTIF(Listas!$A$4:$A$8,A9)=1,B9<>"",COUNTIF(Listas!$B$4:$B$5,D9)=1,ISNUMBER(E9),E9>0,ISNUMBER(F9),F9>=0,ISNUMBER(G9),G9>=0,OR(M9="",AND(ISNUMBER(M9),M9>=0)),OR(S9="",AND(ISNUMBER(S9),S9>=0)),OR(D9="BRL",AND(ISNUMBER(Metas!$B$5),Metas!$B$5>0))),"OK","Revisar dados")) -> OK
A10: ETFs | B10: WORLD | C10: ETF global | D10: USD | E10: 18 | F10: 82 | G10: 91.5 | H10: =IF(W10="","",IF(W10<>"OK","Revisar dados",IF(B10="","",IF(D10="BRL",1,IF(D10="USD",Metas!$B$5,""))))) -> 5.45 | I10: =IF(W10="","",IF(W10<>"OK","Revisar dados",IF(B10="","",E10*F10*H10))) -> 8044.2 | J10: =IF(W10="","",IF(W10<>"OK","Revisar dados",IF(B10="","",E10*G10*H10))) -> 8976.15 | K10: =IF(W10="","",IF(W10<>"OK","Revisar dados",IF(B10="","",J10-I10))) -> 931.95 | L10: =IF(W10="","",IF(W10<>"OK","Revisar dados",IF(OR(B10="",I10=0),"",K10/I10))) -> 0.11585366 | M10: 95 | N10: =IF(W10="","",IF(W10<>"OK","Revisar dados",IF(B10="","",K10+M10))) -> 1026.95 | O10: =IF(W10="","",IF(W10<>"OK","Revisar dados",IF(OR(B10="",SUM($J$5:$J$104)=0),"",J10/SUM($J$5:$J$104)))) -> 0.1446624 | P10: =IF(W10="","",IF(W10<>"OK","Revisar dados",IF(B10="","",IF(A10="Ações Brasil",Metas!$B$10,IF(A10="FIIs",Metas!$B$11,IF(A10="Stocks",Metas!$B$12,IF(A10="ETFs",Metas!$B$13,IF(A10="Renda Fixa",Metas!$B$14,"")))))))) -> 0.15 | Q10: =IF(W10="","",IF(W10<>"OK","Revisar dados",IF(B10="","",SUMIF($A$5:$A$104,A10,$O$5:$O$104)-P10))) -> -0.0053376004 | R10: =IF(W10="","",IF(W10<>"OK","Revisar dados",IF(B10="","",IF(Q10<-0.02,"ABAIXO DA META",IF(Q10>0.02,"ACIMA DA META","DENTRO DA FAIXA"))))) -> DENTRO DA FAIXA | S10: 98 | T10: =IF(W10="","",IF(W10<>"OK","Revisar dados",IF(OR(B10="",S10=0,G10=0),"",S10/G10-1))) -> 0.071038251 | U10: =IF(W10="","",IF(W10<>"OK","Revisar dados",IF(OR(S10="",S10=0,G10=0),"NÃO APLICÁVEL",IF(G10<=S10*9/10,"COMPRAR",IF(G10<=S10,"APORTE PARCIAL","AGUARDAR"))))) -> APORTE PARCIAL | V10: Exemplo fictício | W10: =IF(COUNTA(A10:G10,M10,S10,V10)=0,"",IF(AND(COUNTIF(Listas!$A$4:$A$8,A10)=1,B10<>"",COUNTIF(Listas!$B$4:$B$5,D10)=1,ISNUMBER(E10),E10>0,ISNUMBER(F10),F10>=0,ISNUMBER(G10),G10>=0,OR(M10="",AND(ISNUMBER(M10),M10>=0)),OR(S10="",AND(ISNUMBER(S10),S10>=0)),OR(D10="BRL",AND(ISNUMBER(Metas!$B$5),Metas!$B$5>0))),"OK","Revisar dados")) -> OK
A11: Renda Fixa | B11: CDB 2028 | C11: CDB pós-fixado | D11: BRL | E11: 1 | F11: 12000 | G11: 13280 | H11: =IF(W11="","",IF(W11<>"OK","Revisar dados",IF(B11="","",IF(D11="BRL",1,IF(D11="USD",Metas!$B$5,""))))) -> 1 | I11: =IF(W11="","",IF(W11<>"OK","Revisar dados",IF(B11="","",E11*F11*H11))) -> 12000 | J11: =IF(W11="","",IF(W11<>"OK","Revisar dados",IF(B11="","",E11*G11*H11))) -> 13280 | K11: =IF(W11="","",IF(W11<>"OK","Revisar dados",IF(B11="","",J11-I11))) -> 1280 | L11: =IF(W11="","",IF(W11<>"OK","Revisar dados",IF(OR(B11="",I11=0),"",K11/I11))) -> 0.10666667 | M11: 0 | N11: =IF(W11="","",IF(W11<>"OK","Revisar dados",IF(B11="","",K11+M11))) -> 1280 | O11: =IF(W11="","",IF(W11<>"OK","Revisar dados",IF(OR(B11="",SUM($J$5:$J$104)=0),"",J11/SUM($J$5:$J$104)))) -> 0.21402457 | P11: =IF(W11="","",IF(W11<>"OK","Revisar dados",IF(B11="","",IF(A11="Ações Brasil",Metas!$B$10,IF(A11="FIIs",Metas!$B$11,IF(A11="Stocks",Metas!$B$12,IF(A11="ETFs",Metas!$B$13,IF(A11="Renda Fixa",Metas!$B$14,"")))))))) -> 0.15 | Q11: =IF(W11="","",IF(W11<>"OK","Revisar dados",IF(B11="","",SUMIF($A$5:$A$104,A11,$O$5:$O$104)-P11))) -> 0.20939367 | R11: =IF(W11="","",IF(W11<>"OK","Revisar dados",IF(B11="","",IF(Q11<-0.02,"ABAIXO DA META",IF(Q11>0.02,"ACIMA DA META","DENTRO DA FAIXA"))))) -> ACIMA DA META | S11: 0 | T11: =IF(W11="","",IF(W11<>"OK","Revisar dados",IF(OR(B11="",S11=0,G11=0),"",S11/G11-1))) | U11: =IF(W11="","",IF(W11<>"OK","Revisar dados",IF(OR(S11="",S11=0,G11=0),"NÃO APLICÁVEL",IF(G11<=S11*9/10,"COMPRAR",IF(G11<=S11,"APORTE PARCIAL","AGUARDAR"))))) -> NÃO APLICÁVEL | V11: Valor por cota única | W11: =IF(COUNTA(A11:G11,M11,S11,V11)=0,"",IF(AND(COUNTIF(Listas!$A$4:$A$8,A11)=1,B11<>"",COUNTIF(Listas!$B$4:$B$5,D11)=1,ISNUMBER(E11),E11>0,ISNUMBER(F11),F11>=0,ISNUMBER(G11),G11>=0,OR(M11="",AND(ISNUMBER(M11),M11>=0)),OR(S11="",AND(ISNUMBER(S11),S11>=0)),OR(D11="BRL",AND(ISNUMBER(Metas!$B$5),Metas!$B$5>0))),"OK","Revisar dados")) -> OK
A12: Renda Fixa | B12: Tesouro IPCA | C12: Título público | D12: BRL | E12: 1 | F12: 8500 | G12: 9020 | H12: =IF(W12="","",IF(W12<>"OK","Revisar dados",IF(B12="","",IF(D12="BRL",1,IF(D12="USD",Metas!$B$5,""))))) -> 1 | I12: =IF(W12="","",IF(W12<>"OK","Revisar dados",IF(B12="","",E12*F12*H12))) -> 8500 | J12: =IF(W12="","",IF(W12<>"OK","Revisar dados",IF(B12="","",E12*G12*H12))) -> 9020 | K12: =IF(W12="","",IF(W12<>"OK","Revisar dados",IF(B12="","",J12-I12))) -> 520 | L12: =IF(W12="","",IF(W12<>"OK","Revisar dados",IF(OR(B12="",I12=0),"",K12/I12))) -> 0.061176471 | M12: 0 | N12: =IF(W12="","",IF(W12<>"OK","Revisar dados",IF(B12="","",K12+M12))) -> 520 | O12: =IF(W12="","",IF(W12<>"OK","Revisar dados",IF(OR(B12="",SUM($J$5:$J$104)=0),"",J12/SUM($J$5:$J$104)))) -> 0.1453691 | P12: =IF(W12="","",IF(W12<>"OK","Revisar dados",IF(B12="","",IF(A12="Ações Brasil",Metas!$B$10,IF(A12="FIIs",Metas!$B$11,IF(A12="Stocks",Metas!$B$12,IF(A12="ETFs",Metas!$B$13,IF(A12="Renda Fixa",Metas!$B$14,"")))))))) -> 0.15 | Q12: =IF(W12="","",IF(W12<>"OK","Revisar dados",IF(B12="","",SUMIF($A$5:$A$104,A12,$O$5:$O$104)-P12))) -> 0.20939367 | R12: =IF(W12="","",IF(W12<>"OK","Revisar dados",IF(B12="","",IF(Q12<-0.02,"ABAIXO DA META",IF(Q12>0.02,"ACIMA DA META","DENTRO DA FAIXA"))))) -> ACIMA DA META | S12: 0 | T12: =IF(W12="","",IF(W12<>"OK","Revisar dados",IF(OR(B12="",S12=0,G12=0),"",S12/G12-1))) | U12: =IF(W12="","",IF(W12<>"OK","Revisar dados",IF(OR(S12="",S12=0,G12=0),"NÃO APLICÁVEL",IF(G12<=S12*9/10,"COMPRAR",IF(G12<=S12,"APORTE PARCIAL","AGUARDAR"))))) -> NÃO APLICÁVEL | V12: Valor por cota única | W12: =IF(COUNTA(A12:G12,M12,S12,V12)=0,"",IF(AND(COUNTIF(Listas!$A$4:$A$8,A12)=1,B12<>"",COUNTIF(Listas!$B$4:$B$5,D12)=1,ISNUMBER(E12),E12>0,ISNUMBER(F12),F12>=0,ISNUMBER(G12),G12>=0,OR(M12="",AND(ISNUMBER(M12),M12>=0)),OR(S12="",AND(ISNUMBER(S12),S12>=0)),OR(D12="BRL",AND(ISNUMBER(Metas!$B$5),Metas!$B$5>0))),"OK","Revisar dados")) -> OK
H13: =IF(W13="","",IF(W13<>"OK","Revisar dados",IF(B13="","",IF(D13="BRL",1,IF(D13="USD",Metas!$B$5,""))))) | I13: =IF(W13="","",IF(W13<>"OK","Revisar dados",IF(B13="","",E13*F13*H13))) | J13: =IF(W13="","",IF(W13<>"OK","Revisar dados",IF(B13="","",E13*G13*H13))) | K13: =IF(W13="","",IF(W13<>"OK","Revisar dados",IF(B13="","",J13-I13))) | L13: =IF(W13="","",IF(W13<>"OK","Revisar dados",IF(OR(B13="",I13=0),"",K13/I13))) | N13: =IF(W13="","",IF(W13<>"OK","Revisar dados",IF(B13="","",K13+M13))) | O13: =IF(W13="","",IF(W13<>"OK","Revisar dados",IF(OR(B13="",SUM($J$5:$J$104)=0),"",J13/SUM($J$5:$J$104)))) | P13: =IF(W13="","",IF(W13<>"OK","Revisar dados",IF(B13="","",IF(A13="Ações Brasil",Metas!$B$10,IF(A13="FIIs",Metas!$B$11,IF(A13="Stocks",Metas!$B$12,IF(A13="ETFs",Metas!$B$13,IF(A13="Renda Fixa",Metas!$B$14,"")))))))) | Q13: =IF(W13="","",IF(W13<>"OK","Revisar dados",IF(B13="","",SUMIF($A$5:$A$104,A13,$O$5:$O$104)-P13))) | R13: =IF(W13="","",IF(W13<>"OK","Revisar dados",IF(B13="","",IF(Q13<-0.02,"ABAIXO DA META",IF(Q13>0.02,"ACIMA DA META","DENTRO DA FAIXA"))))) | T13: =IF(W13="","",IF(W13<>"OK","Revisar dados",IF(OR(B13="",S13=0,G13=0),"",S13/G13-1))) | U13: =IF(W13="","",IF(W13<>"OK","Revisar dados",IF(OR(S13="",S13=0,G13=0),"NÃO APLICÁVEL",IF(G13<=S13*9/10,"COMPRAR",IF(G13<=S13,"APORTE PARCIAL","AGUARDAR"))))) | W13: =IF(COUNTA(A13:G13,M13,S13,V13)=0,"",IF(AND(COUNTIF(Listas!$A$4:$A$8,A13)=1,B13<>"",COUNTIF(Listas!$B$4:$B$5,D13)=1,ISNUMBER(E13),E13>0,ISNUMBER(F13),F13>=0,ISNUMBER(G13),G13>=0,OR(M13="",AND(ISNUMBER(M13),M13>=0)),OR(S13="",AND(ISNUMBER(S13),S13>=0)),OR(D13="BRL",AND(ISNUMBER(Metas!$B$5),Metas!$B$5>0))),"OK","Revisar dados"))
H14: =IF(W14="","",IF(W14<>"OK","Revisar dados",IF(B14="","",IF(D14="BRL",1,IF(D14="USD",Metas!$B$5,""))))) | I14: =IF(W14="","",IF(W14<>"OK","Revisar dados",IF(B14="","",E14*F14*H14))) | J14: =IF(W14="","",IF(W14<>"OK","Revisar dados",IF(B14="","",E14*G14*H14))) | K14: =IF(W14="","",IF(W14<>"OK","Revisar dados",IF(B14="","",J14-I14))) | L14: =IF(W14="","",IF(W14<>"OK","Revisar dados",IF(OR(B14="",I14=0),"",K14/I14))) | N14: =IF(W14="","",IF(W14<>"OK","Revisar dados",IF(B14="","",K14+M14))) | O14: =IF(W14="","",IF(W14<>"OK","Revisar dados",IF(OR(B14="",SUM($J$5:$J$104)=0),"",J14/SUM($J$5:$J$104)))) | P14: =IF(W14="","",IF(W14<>"OK","Revisar dados",IF(B14="","",IF(A14="Ações Brasil",Metas!$B$10,IF(A14="FIIs",Metas!$B$11,IF(A14="Stocks",Metas!$B$12,IF(A14="ETFs",Metas!$B$13,IF(A14="Renda Fixa",Metas!$B$14,"")))))))) | Q14: =IF(W14="","",IF(W14<>"OK","Revisar dados",IF(B14="","",SUMIF($A$5:$A$104,A14,$O$5:$O$104)-P14))) | R14: =IF(W14="","",IF(W14<>"OK","Revisar dados",IF(B14="","",IF(Q14<-0.02,"ABAIXO DA META",IF(Q14>0.02,"ACIMA DA META","DENTRO DA FAIXA"))))) | T14: =IF(W14="","",IF(W14<>"OK","Revisar dados",IF(OR(B14="",S14=0,G14=0),"",S14/G14-1))) | U14: =IF(W14="","",IF(W14<>"OK","Revisar dados",IF(OR(S14="",S14=0,G14=0),"NÃO APLICÁVEL",IF(G14<=S14*9/10,"COMPRAR",IF(G14<=S14,"APORTE PARCIAL","AGUARDAR"))))) | W14: =IF(COUNTA(A14:G14,M14,S14,V14)=0,"",IF(AND(COUNTIF(Listas!$A$4:$A$8,A14)=1,B14<>"",COUNTIF(Listas!$B$4:$B$5,D14)=1,ISNUMBER(E14),E14>0,ISNUMBER(F14),F14>=0,ISNUMBER(G14),G14>=0,OR(M14="",AND(ISNUMBER(M14),M14>=0)),OR(S14="",AND(ISNUMBER(S14),S14>=0)),OR(D14="BRL",AND(ISNUMBER(Metas!$B$5),Metas!$B$5>0))),"OK","Revisar dados"))
H15: =IF(W15="","",IF(W15<>"OK","Revisar dados",IF(B15="","",IF(D15="BRL",1,IF(D15="USD",Metas!$B$5,""))))) | I15: =IF(W15="","",IF(W15<>"OK","Revisar dados",IF(B15="","",E15*F15*H15))) | J15: =IF(W15="","",IF(W15<>"OK","Revisar dados",IF(B15="","",E15*G15*H15))) | K15: =IF(W15="","",IF(W15<>"OK","Revisar dados",IF(B15="","",J15-I15))) | L15: =IF(W15="","",IF(W15<>"OK","Revisar dados",IF(OR(B15="",I15=0),"",K15/I15))) | N15: =IF(W15="","",IF(W15<>"OK","Revisar dados",IF(B15="","",K15+M15))) | O15: =IF(W15="","",IF(W15<>"OK","Revisar dados",IF(OR(B15="",SUM($J$5:$J$104)=0),"",J15/SUM($J$5:$J$104)))) | P15: =IF(W15="","",IF(W15<>"OK","Revisar dados",IF(B15="","",IF(A15="Ações Brasil",Metas!$B$10,IF(A15="FIIs",Metas!$B$11,IF(A15="Stocks",Metas!$B$12,IF(A15="ETFs",Metas!$B$13,IF(A15="Renda Fixa",Metas!$B$14,"")))))))) | Q15: =IF(W15="","",IF(W15<>"OK","Revisar dados",IF(B15="","",SUMIF($A$5:$A$104,A15,$O$5:$O$104)-P15))) | R15: =IF(W15="","",IF(W15<>"OK","Revisar dados",IF(B15="","",IF(Q15<-0.02,"ABAIXO DA META",IF(Q15>0.02,"ACIMA DA META","DENTRO DA FAIXA"))))) | T15: =IF(W15="","",IF(W15<>"OK","Revisar dados",IF(OR(B15="",S15=0,G15=0),"",S15/G15-1))) | U15: =IF(W15="","",IF(W15<>"OK","Revisar dados",IF(OR(S15="",S15=0,G15=0),"NÃO APLICÁVEL",IF(G15<=S15*9/10,"COMPRAR",IF(G15<=S15,"APORTE PARCIAL","AGUARDAR"))))) | W15: =IF(COUNTA(A15:G15,M15,S15,V15)=0,"",IF(AND(COUNTIF(Listas!$A$4:$A$8,A15)=1,B15<>"",COUNTIF(Listas!$B$4:$B$5,D15)=1,ISNUMBER(E15),E15>0,ISNUMBER(F15),F15>=0,ISNUMBER(G15),G15>=0,OR(M15="",AND(ISNUMBER(M15),M15>=0)),OR(S15="",AND(ISNUMBER(S15),S15>=0)),OR(D15="BRL",AND(ISNUMBER(Metas!$B$5),Metas!$B$5>0))),"OK","Revisar dados"))
H16: =IF(W16="","",IF(W16<>"OK","Revisar dados",IF(B16="","",IF(D16="BRL",1,IF(D16="USD",Metas!$B$5,""))))) | I16: =IF(W16="","",IF(W16<>"OK","Revisar dados",IF(B16="","",E16*F16*H16))) | J16: =IF(W16="","",IF(W16<>"OK","Revisar dados",IF(B16="","",E16*G16*H16))) | K16: =IF(W16="","",IF(W16<>"OK","Revisar dados",IF(B16="","",J16-I16))) | L16: =IF(W16="","",IF(W16<>"OK","Revisar dados",IF(OR(B16="",I16=0),"",K16/I16))) | N16: =IF(W16="","",IF(W16<>"OK","Revisar dados",IF(B16="","",K16+M16))) | O16: =IF(W16="","",IF(W16<>"OK","Revisar dados",IF(OR(B16="",SUM($J$5:$J$104)=0),"",J16/SUM($J$5:$J$104)))) | P16: =IF(W16="","",IF(W16<>"OK","Revisar dados",IF(B16="","",IF(A16="Ações Brasil",Metas!$B$10,IF(A16="FIIs",Metas!$B$11,IF(A16="Stocks",Metas!$B$12,IF(A16="ETFs",Metas!$B$13,IF(A16="Renda Fixa",Metas!$B$14,"")))))))) | Q16: =IF(W16="","",IF(W16<>"OK","Revisar dados",IF(B16="","",SUMIF($A$5:$A$104,A16,$O$5:$O$104)-P16))) | R16: =IF(W16="","",IF(W16<>"OK","Revisar dados",IF(B16="","",IF(Q16<-0.02,"ABAIXO DA META",IF(Q16>0.02,"ACIMA DA META","DENTRO DA FAIXA"))))) | T16: =IF(W16="","",IF(W16<>"OK","Revisar dados",IF(OR(B16="",S16=0,G16=0),"",S16/G16-1))) | U16: =IF(W16="","",IF(W16<>"OK","Revisar dados",IF(OR(S16="",S16=0,G16=0),"NÃO APLICÁVEL",IF(G16<=S16*9/10,"COMPRAR",IF(G16<=S16,"APORTE PARCIAL","AGUARDAR"))))) | W16: =IF(COUNTA(A16:G16,M16,S16,V16)=0,"",IF(AND(COUNTIF(Listas!$A$4:$A$8,A16)=1,B16<>"",COUNTIF(Listas!$B$4:$B$5,D16)=1,ISNUMBER(E16),E16>0,ISNUMBER(F16),F16>=0,ISNUMBER(G16),G16>=0,OR(M16="",AND(ISNUMBER(M16),M16>=0)),OR(S16="",AND(ISNUMBER(S16),S16>=0)),OR(D16="BRL",AND(ISNUMBER(Metas!$B$5),Metas!$B$5>0))),"OK","Revisar dados"))
H17: =IF(W17="","",IF(W17<>"OK","Revisar dados",IF(B17="","",IF(D17="BRL",1,IF(D17="USD",Metas!$B$5,""))))) | I17: =IF(W17="","",IF(W17<>"OK","Revisar dados",IF(B17="","",E17*F17*H17))) | J17: =IF(W17="","",IF(W17<>"OK","Revisar dados",IF(B17="","",E17*G17*H17))) | K17: =IF(W17="","",IF(W17<>"OK","Revisar dados",IF(B17="","",J17-I17))) | L17: =IF(W17="","",IF(W17<>"OK","Revisar dados",IF(OR(B17="",I17=0),"",K17/I17))) | N17: =IF(W17="","",IF(W17<>"OK","Revisar dados",IF(B17="","",K17+M17))) | O17: =IF(W17="","",IF(W17<>"OK","Revisar dados",IF(OR(B17="",SUM($J$5:$J$104)=0),"",J17/SUM($J$5:$J$104)))) | P17: =IF(W17="","",IF(W17<>"OK","Revisar dados",IF(B17="","",IF(A17="Ações Brasil",Metas!$B$10,IF(A17="FIIs",Metas!$B$11,IF(A17="Stocks",Metas!$B$12,IF(A17="ETFs",Metas!$B$13,IF(A17="Renda Fixa",Metas!$B$14,"")))))))) | Q17: =IF(W17="","",IF(W17<>"OK","Revisar dados",IF(B17="","",SUMIF($A$5:$A$104,A17,$O$5:$O$104)-P17))) | R17: =IF(W17="","",IF(W17<>"OK","Revisar dados",IF(B17="","",IF(Q17<-0.02,"ABAIXO DA META",IF(Q17>0.02,"ACIMA DA META","DENTRO DA FAIXA"))))) | T17: =IF(W17="","",IF(W17<>"OK","Revisar dados",IF(OR(B17="",S17=0,G17=0),"",S17/G17-1))) | U17: =IF(W17="","",IF(W17<>"OK","Revisar dados",IF(OR(S17="",S17=0,G17=0),"NÃO APLICÁVEL",IF(G17<=S17*9/10,"COMPRAR",IF(G17<=S17,"APORTE PARCIAL","AGUARDAR"))))) | W17: =IF(COUNTA(A17:G17,M17,S17,V17)=0,"",IF(AND(COUNTIF(Listas!$A$4:$A$8,A17)=1,B17<>"",COUNTIF(Listas!$B$4:$B$5,D17)=1,ISNUMBER(E17),E17>0,ISNUMBER(F17),F17>=0,ISNUMBER(G17),G17>=0,OR(M17="",AND(ISNUMBER(M17),M17>=0)),OR(S17="",AND(ISNUMBER(S17),S17>=0)),OR(D17="BRL",AND(ISNUMBER(Metas!$B$5),Metas!$B$5>0))),"OK","Revisar dados"))
H18: =IF(W18="","",IF(W18<>"OK","Revisar dados",IF(B18="","",IF(D18="BRL",1,IF(D18="USD",Metas!$B$5,""))))) | I18: =IF(W18="","",IF(W18<>"OK","Revisar dados",IF(B18="","",E18*F18*H18))) | J18: =IF(W18="","",IF(W18<>"OK","Revisar dados",IF(B18="","",E18*G18*H18))) | K18: =IF(W18="","",IF(W18<>"OK","Revisar dados",IF(B18="","",J18-I18))) | L18: =IF(W18="","",IF(W18<>"OK","Revisar dados",IF(OR(B18="",I18=0),"",K18/I18))) | N18: =IF(W18="","",IF(W18<>"OK","Revisar dados",IF(B18="","",K18+M18))) | O18: =IF(W18="","",IF(W18<>"OK","Revisar dados",IF(OR(B18="",SUM($J$5:$J$104)=0),"",J18/SUM($J$5:$J$104)))) | P18: =IF(W18="","",IF(W18<>"OK","Revisar dados",IF(B18="","",IF(A18="Ações Brasil",Metas!$B$10,IF(A18="FIIs",Metas!$B$11,IF(A18="Stocks",Metas!$B$12,IF(A18="ETFs",Metas!$B$13,IF(A18="Renda Fixa",Metas!$B$14,"")))))))) | Q18: =IF(W18="","",IF(W18<>"OK","Revisar dados",IF(B18="","",SUMIF($A$5:$A$104,A18,$O$5:$O$104)-P18))) | R18: =IF(W18="","",IF(W18<>"OK","Revisar dados",IF(B18="","",IF(Q18<-0.02,"ABAIXO DA META",IF(Q18>0.02,"ACIMA DA META","DENTRO DA FAIXA"))))) | T18: =IF(W18="","",IF(W18<>"OK","Revisar dados",IF(OR(B18="",S18=0,G18=0),"",S18/G18-1))) | U18: =IF(W18="","",IF(W18<>"OK","Revisar dados",IF(OR(S18="",S18=0,G18=0),"NÃO APLICÁVEL",IF(G18<=S18*9/10,"COMPRAR",IF(G18<=S18,"APORTE PARCIAL","AGUARDAR"))))) | W18: =IF(COUNTA(A18:G18,M18,S18,V18)=0,"",IF(AND(COUNTIF(Listas!$A$4:$A$8,A18)=1,B18<>"",COUNTIF(Listas!$B$4:$B$5,D18)=1,ISNUMBER(E18),E18>0,ISNUMBER(F18),F18>=0,ISNUMBER(G18),G18>=0,OR(M18="",AND(ISNUMBER(M18),M18>=0)),OR(S18="",AND(ISNUMBER(S18),S18>=0)),OR(D18="BRL",AND(ISNUMBER(Metas!$B$5),Metas!$B$5>0))),"OK","Revisar dados"))
H19: =IF(W19="","",IF(W19<>"OK","Revisar dados",IF(B19="","",IF(D19="BRL",1,IF(D19="USD",Metas!$B$5,""))))) | I19: =IF(W19="","",IF(W19<>"OK","Revisar dados",IF(B19="","",E19*F19*H19))) | J19: =IF(W19="","",IF(W19<>"OK","Revisar dados",IF(B19="","",E19*G19*H19))) | K19: =IF(W19="","",IF(W19<>"OK","Revisar dados",IF(B19="","",J19-I19))) | L19: =IF(W19="","",IF(W19<>"OK","Revisar dados",IF(OR(B19="",I19=0),"",K19/I19))) | N19: =IF(W19="","",IF(W19<>"OK","Revisar dados",IF(B19="","",K19+M19))) | O19: =IF(W19="","",IF(W19<>"OK","Revisar dados",IF(OR(B19="",SUM($J$5:$J$104)=0),"",J19/SUM($J$5:$J$104)))) | P19: =IF(W19="","",IF(W19<>"OK","Revisar dados",IF(B19="","",IF(A19="Ações Brasil",Metas!$B$10,IF(A19="FIIs",Metas!$B$11,IF(A19="Stocks",Metas!$B$12,IF(A19="ETFs",Metas!$B$13,IF(A19="Renda Fixa",Metas!$B$14,"")))))))) | Q19: =IF(W19="","",IF(W19<>"OK","Revisar dados",IF(B19="","",SUMIF($A$5:$A$104,A19,$O$5:$O$104)-P19))) | R19: =IF(W19="","",IF(W19<>"OK","Revisar dados",IF(B19="","",IF(Q19<-0.02,"ABAIXO DA META",IF(Q19>0.02,"ACIMA DA META","DENTRO DA FAIXA"))))) | T19: =IF(W19="","",IF(W19<>"OK","Revisar dados",IF(OR(B19="",S19=0,G19=0),"",S19/G19-1))) | U19: =IF(W19="","",IF(W19<>"OK","Revisar dados",IF(OR(S19="",S19=0,G19=0),"NÃO APLICÁVEL",IF(G19<=S19*9/10,"COMPRAR",IF(G19<=S19,"APORTE PARCIAL","AGUARDAR"))))) | W19: =IF(COUNTA(A19:G19,M19,S19,V19)=0,"",IF(AND(COUNTIF(Listas!$A$4:$A$8,A19)=1,B19<>"",COUNTIF(Listas!$B$4:$B$5,D19)=1,ISNUMBER(E19),E19>0,ISNUMBER(F19),F19>=0,ISNUMBER(G19),G19>=0,OR(M19="",AND(ISNUMBER(M19),M19>=0)),OR(S19="",AND(ISNUMBER(S19),S19>=0)),OR(D19="BRL",AND(ISNUMBER(Metas!$B$5),Metas!$B$5>0))),"OK","Revisar dados"))
H20: =IF(W20="","",IF(W20<>"OK","Revisar dados",IF(B20="","",IF(D20="BRL",1,IF(D20="USD",Metas!$B$5,""))))) | I20: =IF(W20="","",IF(W20<>"OK","Revisar dados",IF(B20="","",E20*F20*H20))) | J20: =IF(W20="","",IF(W20<>"OK","Revisar dados",IF(B20="","",E20*G20*H20))) | K20: =IF(W20="","",IF(W20<>"OK","Revisar dados",IF(B20="","",J20-I20))) | L20: =IF(W20="","",IF(W20<>"OK","Revisar dados",IF(OR(B20="",I20=0),"",K20/I20))) | N20: =IF(W20="","",IF(W20<>"OK","Revisar dados",IF(B20="","",K20+M20))) | O20: =IF(W20="","",IF(W20<>"OK","Revisar dados",IF(OR(B20="",SUM($J$5:$J$104)=0),"",J20/SUM($J$5:$J$104)))) | P20: =IF(W20="","",IF(W20<>"OK","Revisar dados",IF(B20="","",IF(A20="Ações Brasil",Metas!$B$10,IF(A20="FIIs",Metas!$B$11,IF(A20="Stocks",Metas!$B$12,IF(A20="ETFs",Metas!$B$13,IF(A20="Renda Fixa",Metas!$B$14,"")))))))) | Q20: =IF(W20="","",IF(W20<>"OK","Revisar dados",IF(B20="","",SUMIF($A$5:$A$104,A20,$O$5:$O$104)-P20))) | R20: =IF(W20="","",IF(W20<>"OK","Revisar dados",IF(B20="","",IF(Q20<-0.02,"ABAIXO DA META",IF(Q20>0.02,"ACIMA DA META","DENTRO DA FAIXA"))))) | T20: =IF(W20="","",IF(W20<>"OK","Revisar dados",IF(OR(B20="",S20=0,G20=0),"",S20/G20-1))) | U20: =IF(W20="","",IF(W20<>"OK","Revisar dados",IF(OR(S20="",S20=0,G20=0),"NÃO APLICÁVEL",IF(G20<=S20*9/10,"COMPRAR",IF(G20<=S20,"APORTE PARCIAL","AGUARDAR"))))) | W20: =IF(COUNTA(A20:G20,M20,S20,V20)=0,"",IF(AND(COUNTIF(Listas!$A$4:$A$8,A20)=1,B20<>"",COUNTIF(Listas!$B$4:$B$5,D20)=1,ISNUMBER(E20),E20>0,ISNUMBER(F20),F20>=0,ISNUMBER(G20),G20>=0,OR(M20="",AND(ISNUMBER(M20),M20>=0)),OR(S20="",AND(ISNUMBER(S20),S20>=0)),OR(D20="BRL",AND(ISNUMBER(Metas!$B$5),Metas!$B$5>0))),"OK","Revisar dados"))
H21: =IF(W21="","",IF(W21<>"OK","Revisar dados",IF(B21="","",IF(D21="BRL",1,IF(D21="USD",Metas!$B$5,""))))) | I21: =IF(W21="","",IF(W21<>"OK","Revisar dados",IF(B21="","",E21*F21*H21))) | J21: =IF(W21="","",IF(W21<>"OK","Revisar dados",IF(B21="","",E21*G21*H21))) | K21: =IF(W21="","",IF(W21<>"OK","Revisar dados",IF(B21="","",J21-I21))) | L21: =IF(W21="","",IF(W21<>"OK","Revisar dados",IF(OR(B21="",I21=0),"",K21/I21))) | N21: =IF(W21="","",IF(W21<>"OK","Revisar dados",IF(B21="","",K21+M21))) | O21: =IF(W21="","",IF(W21<>"OK","Revisar dados",IF(OR(B21="",SUM($J$5:$J$104)=0),"",J21/SUM($J$5:$J$104)))) | P21: =IF(W21="","",IF(W21<>"OK","Revisar dados",IF(B21="","",IF(A21="Ações Brasil",Metas!$B$10,IF(A21="FIIs",Metas!$B$11,IF(A21="Stocks",Metas!$B$12,IF(A21="ETFs",Metas!$B$13,IF(A21="Renda Fixa",Metas!$B$14,"")))))))) | Q21: =IF(W21="","",IF(W21<>"OK","Revisar dados",IF(B21="","",SUMIF($A$5:$A$104,A21,$O$5:$O$104)-P21))) | R21: =IF(W21="","",IF(W21<>"OK","Revisar dados",IF(B21="","",IF(Q21<-0.02,"ABAIXO DA META",IF(Q21>0.02,"ACIMA DA META","DENTRO DA FAIXA"))))) | T21: =IF(W21="","",IF(W21<>"OK","Revisar dados",IF(OR(B21="",S21=0,G21=0),"",S21/G21-1))) | U21: =IF(W21="","",IF(W21<>"OK","Revisar dados",IF(OR(S21="",S21=0,G21=0),"NÃO APLICÁVEL",IF(G21<=S21*9/10,"COMPRAR",IF(G21<=S21,"APORTE PARCIAL","AGUARDAR"))))) | W21: =IF(COUNTA(A21:G21,M21,S21,V21)=0,"",IF(AND(COUNTIF(Listas!$A$4:$A$8,A21)=1,B21<>"",COUNTIF(Listas!$B$4:$B$5,D21)=1,ISNUMBER(E21),E21>0,ISNUMBER(F21),F21>=0,ISNUMBER(G21),G21>=0,OR(M21="",AND(ISNUMBER(M21),M21>=0)),OR(S21="",AND(ISNUMBER(S21),S21>=0)),OR(D21="BRL",AND(ISNUMBER(Metas!$B$5),Metas!$B$5>0))),"OK","Revisar dados"))
H22: =IF(W22="","",IF(W22<>"OK","Revisar dados",IF(B22="","",IF(D22="BRL",1,IF(D22="USD",Metas!$B$5,""))))) | I22: =IF(W22="","",IF(W22<>"OK","Revisar dados",IF(B22="","",E22*F22*H22))) | J22: =IF(W22="","",IF(W22<>"OK","Revisar dados",IF(B22="","",E22*G22*H22))) | K22: =IF(W22="","",IF(W22<>"OK","Revisar dados",IF(B22="","",J22-I22))) | L22: =IF(W22="","",IF(W22<>"OK","Revisar dados",IF(OR(B22="",I22=0),"",K22/I22))) | N22: =IF(W22="","",IF(W22<>"OK","Revisar dados",IF(B22="","",K22+M22))) | O22: =IF(W22="","",IF(W22<>"OK","Revisar dados",IF(OR(B22="",SUM($J$5:$J$104)=0),"",J22/SUM($J$5:$J$104)))) | P22: =IF(W22="","",IF(W22<>"OK","Revisar dados",IF(B22="","",IF(A22="Ações Brasil",Metas!$B$10,IF(A22="FIIs",Metas!$B$11,IF(A22="Stocks",Metas!$B$12,IF(A22="ETFs",Metas!$B$13,IF(A22="Renda Fixa",Metas!$B$14,"")))))))) | Q22: =IF(W22="","",IF(W22<>"OK","Revisar dados",IF(B22="","",SUMIF($A$5:$A$104,A22,$O$5:$O$104)-P22))) | R22: =IF(W22="","",IF(W22<>"OK","Revisar dados",IF(B22="","",IF(Q22<-0.02,"ABAIXO DA META",IF(Q22>0.02,"ACIMA DA META","DENTRO DA FAIXA"))))) | T22: =IF(W22="","",IF(W22<>"OK","Revisar dados",IF(OR(B22="",S22=0,G22=0),"",S22/G22-1))) | U22: =IF(W22="","",IF(W22<>"OK","Revisar dados",IF(OR(S22="",S22=0,G22=0),"NÃO APLICÁVEL",IF(G22<=S22*9/10,"COMPRAR",IF(G22<=S22,"APORTE PARCIAL","AGUARDAR"))))) | W22: =IF(COUNTA(A22:G22,M22,S22,V22)=0,"",IF(AND(COUNTIF(Listas!$A$4:$A$8,A22)=1,B22<>"",COUNTIF(Listas!$B$4:$B$5,D22)=1,ISNUMBER(E22),E22>0,ISNUMBER(F22),F22>=0,ISNUMBER(G22),G22>=0,OR(M22="",AND(ISNUMBER(M22),M22>=0)),OR(S22="",AND(ISNUMBER(S22),S22>=0)),OR(D22="BRL",AND(ISNUMBER(Metas!$B$5),Metas!$B$5>0))),"OK","Revisar dados"))
H23: =IF(W23="","",IF(W23<>"OK","Revisar dados",IF(B23="","",IF(D23="BRL",1,IF(D23="USD",Metas!$B$5,""))))) | I23: =IF(W23="","",IF(W23<>"OK","Revisar dados",IF(B23="","",E23*F23*H23))) | J23: =IF(W23="","",IF(W23<>"OK","Revisar dados",IF(B23="","",E23*G23*H23))) | K23: =IF(W23="","",IF(W23<>"OK","Revisar dados",IF(B23="","",J23-I23))) | L23: =IF(W23="","",IF(W23<>"OK","Revisar dados",IF(OR(B23="",I23=0),"",K23/I23))) | N23: =IF(W23="","",IF(W23<>"OK","Revisar dados",IF(B23="","",K23+M23))) | O23: =IF(W23="","",IF(W23<>"OK","Revisar dados",IF(OR(B23="",SUM($J$5:$J$104)=0),"",J23/SUM($J$5:$J$104)))) | P23: =IF(W23="","",IF(W23<>"OK","Revisar dados",IF(B23="","",IF(A23="Ações Brasil",Metas!$B$10,IF(A23="FIIs",Metas!$B$11,IF(A23="Stocks",Metas!$B$12,IF(A23="ETFs",Metas!$B$13,IF(A23="Renda Fixa",Metas!$B$14,"")))))))) | Q23: =IF(W23="","",IF(W23<>"OK","Revisar dados",IF(B23="","",SUMIF($A$5:$A$104,A23,$O$5:$O$104)-P23))) | R23: =IF(W23="","",IF(W23<>"OK","Revisar dados",IF(B23="","",IF(Q23<-0.02,"ABAIXO DA META",IF(Q23>0.02,"ACIMA DA META","DENTRO DA FAIXA"))))) | T23: =IF(W23="","",IF(W23<>"OK","Revisar dados",IF(OR(B23="",S23=0,G23=0),"",S23/G23-1))) | U23: =IF(W23="","",IF(W23<>"OK","Revisar dados",IF(OR(S23="",S23=0,G23=0),"NÃO APLICÁVEL",IF(G23<=S23*9/10,"COMPRAR",IF(G23<=S23,"APORTE PARCIAL","AGUARDAR"))))) | W23: =IF(COUNTA(A23:G23,M23,S23,V23)=0,"",IF(AND(COUNTIF(Listas!$A$4:$A$8,A23)=1,B23<>"",COUNTIF(Listas!$B$4:$B$5,D23)=1,ISNUMBER(E23),E23>0,ISNUMBER(F23),F23>=0,ISNUMBER(G23),G23>=0,OR(M23="",AND(ISNUMBER(M23),M23>=0)),OR(S23="",AND(ISNUMBER(S23),S23>=0)),OR(D23="BRL",AND(ISNUMBER(Metas!$B$5),Metas!$B$5>0))),"OK","Revisar dados"))
H24: =IF(W24="","",IF(W24<>"OK","Revisar dados",IF(B24="","",IF(D24="BRL",1,IF(D24="USD",Metas!$B$5,""))))) | I24: =IF(W24="","",IF(W24<>"OK","Revisar dados",IF(B24="","",E24*F24*H24))) | J24: =IF(W24="","",IF(W24<>"OK","Revisar dados",IF(B24="","",E24*G24*H24))) | K24: =IF(W24="","",IF(W24<>"OK","Revisar dados",IF(B24="","",J24-I24))) | L24: =IF(W24="","",IF(W24<>"OK","Revisar dados",IF(OR(B24="",I24=0),"",K24/I24))) | N24: =IF(W24="","",IF(W24<>"OK","Revisar dados",IF(B24="","",K24+M24))) | O24: =IF(W24="","",IF(W24<>"OK","Revisar dados",IF(OR(B24="",SUM($J$5:$J$104)=0),"",J24/SUM($J$5:$J$104)))) | P24: =IF(W24="","",IF(W24<>"OK","Revisar dados",IF(B24="","",IF(A24="Ações Brasil",Metas!$B$10,IF(A24="FIIs",Metas!$B$11,IF(A24="Stocks",Metas!$B$12,IF(A24="ETFs",Metas!$B$13,IF(A24="Renda Fixa",Metas!$B$14,"")))))))) | Q24: =IF(W24="","",IF(W24<>"OK","Revisar dados",IF(B24="","",SUMIF($A$5:$A$104,A24,$O$5:$O$104)-P24))) | R24: =IF(W24="","",IF(W24<>"OK","Revisar dados",IF(B24="","",IF(Q24<-0.02,"ABAIXO DA META",IF(Q24>0.02,"ACIMA DA META","DENTRO DA FAIXA"))))) | T24: =IF(W24="","",IF(W24<>"OK","Revisar dados",IF(OR(B24="",S24=0,G24=0),"",S24/G24-1))) | U24: =IF(W24="","",IF(W24<>"OK","Revisar dados",IF(OR(S24="",S24=0,G24=0),"NÃO APLICÁVEL",IF(G24<=S24*9/10,"COMPRAR",IF(G24<=S24,"APORTE PARCIAL","AGUARDAR"))))) | W24: =IF(COUNTA(A24:G24,M24,S24,V24)=0,"",IF(AND(COUNTIF(Listas!$A$4:$A$8,A24)=1,B24<>"",COUNTIF(Listas!$B$4:$B$5,D24)=1,ISNUMBER(E24),E24>0,ISNUMBER(F24),F24>=0,ISNUMBER(G24),G24>=0,OR(M24="",AND(ISNUMBER(M24),M24>=0)),OR(S24="",AND(ISNUMBER(S24),S24>=0)),OR(D24="BRL",AND(ISNUMBER(Metas!$B$5),Metas!$B$5>0))),"OK","Revisar dados"))
... H104: =IF(W104="","",IF(W104<>"OK","Revisar dados",IF(B104="","",IF(D104="BRL",1,IF(D104="USD",Metas!$B$5,""))))) | I104: =IF(W104="","",IF(W104<>"OK","Revisar dados",IF(B104="","",E104*F104*H104))) | J104: =IF(W104="","",IF(W104<>"OK","Revisar dados",IF(B104="","",E104*G104*H104))) | K104: =IF(W104="","",IF(W104<>"OK","Revisar dados",IF(B104="","",J104-I104))) | L104: =IF(W104="","",IF(W104<>"OK","Revisar dados",IF(OR(B104="",I104=0),"",K104/I104))) | N104: =IF(W104="","",IF(W104<>"OK","Revisar dados",IF(B104="","",K104+M104))) | O104: =IF(W104="","",IF(W104<>"OK","Revisar dados",IF(OR(B104="",SUM($J$5:$J$104)=0),"",J104/SUM($J$5:$J$104)))) | P104: =IF(W104="","",IF(W104<>"OK","Revisar dados",IF(B104="","",IF(A104="Ações Brasil",Metas!$B$10,IF(A104="FIIs",Metas!$B$11,IF(A104="Stocks",Metas!$B$12,IF(A104="ETFs",Metas!$B$13,IF(A104="Renda Fixa",Metas!$B$14,"")))))))) | Q104: =IF(W104="","",IF(W104<>"OK","Revisar dados",IF(B104="","",SUMIF($A$5:$A$104,A104,$O$5:$O$104)-P104))) | R104: =IF(W104="","",IF(W104<>"OK","Revisar dados",IF(B104="","",IF(Q104<-0.02,"ABAIXO DA META",IF(Q104>0.02,"ACIMA DA META","DENTRO DA FAIXA"))))) | T104: =IF(W104="","",IF(W104<>"OK","Revisar dados",IF(OR(B104="",S104=0,G104=0),"",S104/G104-1))) | U104: =IF(W104="","",IF(W104<>"OK","Revisar dados",IF(OR(S104="",S104=0,G104=0),"NÃO APLICÁVEL",IF(G104<=S104*9/10,"COMPRAR",IF(G104<=S104,"APORTE PARCIAL","AGUARDAR"))))) | W104: =IF(COUNTA(A104:G104,M104,S104,V104)=0,"",IF(AND(COUNTIF(Listas!$A$4:$A$8,A104)=1,B104<>"",COUNTIF(Listas!$B$4:$B$5,D104)=1,ISNUMBER(E104),E104>0,ISNUMBER(F104),F104>=0,ISNUMBER(G104),G104>=0,OR(M104="",AND(ISNUMBER(M104),M104>=0)),OR(S104="",AND(ISNUMBER(S104),S104>=0)),OR(D104="BRL",AND(ISNUMBER(Metas!$B$5),Metas!$B$5>0))),"OK","Revisar dados"))

Sheet Movimentacoes
A1: HISTÓRICO DE MOVIMENTAÇÕES
A2: Registre compras, vendas e proventos. O valor em reais é calculado pelo câmbio informado na própria movimentação.
A4: Data | B4: Ativo | C4: Classe | D4: Evento | E4: Quantidade | F4: Preço/valor | G4: Moeda | H4: Câmbio | I4: Taxas | J4: Valor bruto BRL | K4: Impacto caixa BRL | L4: Observações | M4: Conferência
A5: 46032 | B5: ABCD3 | C5: Ações Brasil | D5: COMPRA | E5: 100 | F5: 23.8 | G5: BRL | H5: 1 | I5: 4.9 | J5: =IF(M5="","",IF(M5<>"OK","Revisar dados",IF(B5="","",IF(D5="PROVENTO",F5*H5,E5*F5*H5)))) -> 2380 | K5: =IF(M5="","",IF(M5<>"OK","Revisar dados",IF(B5="","",IF(D5="COMPRA",-(J5+I5),IF(D5="VENDA",J5-I5,IF(D5="PROVENTO",J5-I5,0)))))) -> -2384.9 | M5: =IF(COUNTA(A5:I5,L5)=0,"",IF(AND(ISNUMBER(A5),A5>0,B5<>"",COUNTIF(Listas!$A$4:$A$8,C5)=1,COUNTIF(Listas!$C$4:$C$6,D5)=1,ISNUMBER(E5),IF(D5="PROVENTO",E5>=0,E5>0),ISNUMBER(F5),F5>=0,COUNTIF(Listas!$B$4:$B$5,G5)=1,ISNUMBER(H5),H5>0,IF(G5="BRL",H5=1,TRUE),OR(I5="",AND(ISNUMBER(I5),I5>=0))),"OK","Revisar dados")) -> OK
A6: 46071 | B6: FIIX11 | C6: FIIs | D6: COMPRA | E6: 80 | F6: 96 | G6: BRL | H6: 1 | I6: 3.5 | J6: =IF(M6="","",IF(M6<>"OK","Revisar dados",IF(B6="","",IF(D6="PROVENTO",F6*H6,E6*F6*H6)))) -> 7680 | K6: =IF(M6="","",IF(M6<>"OK","Revisar dados",IF(B6="","",IF(D6="COMPRA",-(J6+I6),IF(D6="VENDA",J6-I6,IF(D6="PROVENTO",J6-I6,0)))))) -> -7683.5 | M6: =IF(COUNTA(A6:I6,L6)=0,"",IF(AND(ISNUMBER(A6),A6>0,B6<>"",COUNTIF(Listas!$A$4:$A$8,C6)=1,COUNTIF(Listas!$C$4:$C$6,D6)=1,ISNUMBER(E6),IF(D6="PROVENTO",E6>=0,E6>0),ISNUMBER(F6),F6>=0,COUNTIF(Listas!$B$4:$B$5,G6)=1,ISNUMBER(H6),H6>0,IF(G6="BRL",H6=1,TRUE),OR(I6="",AND(ISNUMBER(I6),I6>=0))),"OK","Revisar dados")) -> OK
A7: 46086 | B7: TECH | C7: Stocks | D7: COMPRA | E7: 12 | F7: 145 | G7: USD | H7: 5.05 | I7: 8.5 | J7: =IF(M7="","",IF(M7<>"OK","Revisar dados",IF(B7="","",IF(D7="PROVENTO",F7*H7,E7*F7*H7)))) -> 8787 | K7: =IF(M7="","",IF(M7<>"OK","Revisar dados",IF(B7="","",IF(D7="COMPRA",-(J7+I7),IF(D7="VENDA",J7-I7,IF(D7="PROVENTO",J7-I7,0)))))) -> -8795.5 | M7: =IF(COUNTA(A7:I7,L7)=0,"",IF(AND(ISNUMBER(A7),A7>0,B7<>"",COUNTIF(Listas!$A$4:$A$8,C7)=1,COUNTIF(Listas!$C$4:$C$6,D7)=1,ISNUMBER(E7),IF(D7="PROVENTO",E7>=0,E7>0),ISNUMBER(F7),F7>=0,COUNTIF(Listas!$B$4:$B$5,G7)=1,ISNUMBER(H7),H7>0,IF(G7="BRL",H7=1,TRUE),OR(I7="",AND(ISNUMBER(I7),I7>=0))),"OK","Revisar dados")) -> OK
A8: 46124 | B8: ABCD3 | C8: Ações Brasil | D8: PROVENTO | E8: 0 | F8: 95 | G8: BRL | H8: 1 | I8: 0 | J8: =IF(M8="","",IF(M8<>"OK","Revisar dados",IF(B8="","",IF(D8="PROVENTO",F8*H8,E8*F8*H8)))) -> 95 | K8: =IF(M8="","",IF(M8<>"OK","Revisar dados",IF(B8="","",IF(D8="COMPRA",-(J8+I8),IF(D8="VENDA",J8-I8,IF(D8="PROVENTO",J8-I8,0)))))) -> 95 | M8: =IF(COUNTA(A8:I8,L8)=0,"",IF(AND(ISNUMBER(A8),A8>0,B8<>"",COUNTIF(Listas!$A$4:$A$8,C8)=1,COUNTIF(Listas!$C$4:$C$6,D8)=1,ISNUMBER(E8),IF(D8="PROVENTO",E8>=0,E8>0),ISNUMBER(F8),F8>=0,COUNTIF(Listas!$B$4:$B$5,G8)=1,ISNUMBER(H8),H8>0,IF(G8="BRL",H8=1,TRUE),OR(I8="",AND(ISNUMBER(I8),I8>=0))),"OK","Revisar dados")) -> OK
A9: 46162 | B9: WORLD | C9: ETFs | D9: COMPRA | E9: 18 | F9: 82 | G9: USD | H9: 5.18 | I9: 7.9 | J9: =IF(M9="","",IF(M9<>"OK","Revisar dados",IF(B9="","",IF(D9="PROVENTO",F9*H9,E9*F9*H9)))) -> 7645.68 | K9: =IF(M9="","",IF(M9<>"OK","Revisar dados",IF(B9="","",IF(D9="COMPRA",-(J9+I9),IF(D9="VENDA",J9-I9,IF(D9="PROVENTO",J9-I9,0)))))) -> -7653.58 | M9: =IF(COUNTA(A9:I9,L9)=0,"",IF(AND(ISNUMBER(A9),A9>0,B9<>"",COUNTIF(Listas!$A$4:$A$8,C9)=1,COUNTIF(Listas!$C$4:$C$6,D9)=1,ISNUMBER(E9),IF(D9="PROVENTO",E9>=0,E9>0),ISNUMBER(F9),F9>=0,COUNTIF(Listas!$B$4:$B$5,G9)=1,ISNUMBER(H9),H9>0,IF(G9="BRL",H9=1,TRUE),OR(I9="",AND(ISNUMBER(I9),I9>=0))),"OK","Revisar dados")) -> OK
A10: 46188 | B10: FIIX11 | C10: FIIs | D10: PROVENTO | E10: 0 | F10: 210 | G10: BRL | H10: 1 | I10: 0 | J10: =IF(M10="","",IF(M10<>"OK","Revisar dados",IF(B10="","",IF(D10="PROVENTO",F10*H10,E10*F10*H10)))) -> 210 | K10: =IF(M10="","",IF(M10<>"OK","Revisar dados",IF(B10="","",IF(D10="COMPRA",-(J10+I10),IF(D10="VENDA",J10-I10,IF(D10="PROVENTO",J10-I10,0)))))) -> 210 | M10: =IF(COUNTA(A10:I10,L10)=0,"",IF(AND(ISNUMBER(A10),A10>0,B10<>"",COUNTIF(Listas!$A$4:$A$8,C10)=1,COUNTIF(Listas!$C$4:$C$6,D10)=1,ISNUMBER(E10),IF(D10="PROVENTO",E10>=0,E10>0),ISNUMBER(F10),F10>=0,COUNTIF(Listas!$B$4:$B$5,G10)=1,ISNUMBER(H10),H10>0,IF(G10="BRL",H10=1,TRUE),OR(I10="",AND(ISNUMBER(I10),I10>=0))),"OK","Revisar dados")) -> OK
A11: 46225 | B11: EFGH4 | C11: Ações Brasil | D11: COMPRA | E11: 200 | F11: 18.2 | G11: BRL | H11: 1 | I11: 4.9 | J11: =IF(M11="","",IF(M11<>"OK","Revisar dados",IF(B11="","",IF(D11="PROVENTO",F11*H11,E11*F11*H11)))) -> 3640 | K11: =IF(M11="","",IF(M11<>"OK","Revisar dados",IF(B11="","",IF(D11="COMPRA",-(J11+I11),IF(D11="VENDA",J11-I11,IF(D11="PROVENTO",J11-I11,0)))))) -> -3644.9 | M11: =IF(COUNTA(A11:I11,L11)=0,"",IF(AND(ISNUMBER(A11),A11>0,B11<>"",COUNTIF(Listas!$A$4:$A$8,C11)=1,COUNTIF(Listas!$C$4:$C$6,D11)=1,ISNUMBER(E11),IF(D11="PROVENTO",E11>=0,E11>0),ISNUMBER(F11),F11>=0,COUNTIF(Listas!$B$4:$B$5,G11)=1,ISNUMBER(H11),H11>0,IF(G11="BRL",H11=1,TRUE),OR(I11="",AND(ISNUMBER(I11),I11>=0))),"OK","Revisar dados")) -> OK
A12: 46244 | B12: TECH | C12: Stocks | D12: PROVENTO | E12: 0 | F12: 18 | G12: USD | H12: 5.42 | I12: 0 | J12: =IF(M12="","",IF(M12<>"OK","Revisar dados",IF(B12="","",IF(D12="PROVENTO",F12*H12,E12*F12*H12)))) -> 97.56 | K12: =IF(M12="","",IF(M12<>"OK","Revisar dados",IF(B12="","",IF(D12="COMPRA",-(J12+I12),IF(D12="VENDA",J12-I12,IF(D12="PROVENTO",J12-I12,0)))))) -> 97.56 | M12: =IF(COUNTA(A12:I12,L12)=0,"",IF(AND(ISNUMBER(A12),A12>0,B12<>"",COUNTIF(Listas!$A$4:$A$8,C12)=1,COUNTIF(Listas!$C$4:$C$6,D12)=1,ISNUMBER(E12),IF(D12="PROVENTO",E12>=0,E12>0),ISNUMBER(F12),F12>=0,COUNTIF(Listas!$B$4:$B$5,G12)=1,ISNUMBER(H12),H12>0,IF(G12="BRL",H12=1,TRUE),OR(I12="",AND(ISNUMBER(I12),I12>=0))),"OK","Revisar dados")) -> OK
J13: =IF(M13="","",IF(M13<>"OK","Revisar dados",IF(B13="","",IF(D13="PROVENTO",F13*H13,E13*F13*H13)))) | K13: =IF(M13="","",IF(M13<>"OK","Revisar dados",IF(B13="","",IF(D13="COMPRA",-(J13+I13),IF(D13="VENDA",J13-I13,IF(D13="PROVENTO",J13-I13,0)))))) | M13: =IF(COUNTA(A13:I13,L13)=0,"",IF(AND(ISNUMBER(A13),A13>0,B13<>"",COUNTIF(Listas!$A$4:$A$8,C13)=1,COUNTIF(Listas!$C$4:$C$6,D13)=1,ISNUMBER(E13),IF(D13="PROVENTO",E13>=0,E13>0),ISNUMBER(F13),F13>=0,COUNTIF(Listas!$B$4:$B$5,G13)=1,ISNUMBER(H13),H13>0,IF(G13="BRL",H13=1,TRUE),OR(I13="",AND(ISNUMBER(I13),I13>=0))),"OK","Revisar dados"))
J14: =IF(M14="","",IF(M14<>"OK","Revisar dados",IF(B14="","",IF(D14="PROVENTO",F14*H14,E14*F14*H14)))) | K14: =IF(M14="","",IF(M14<>"OK","Revisar dados",IF(B14="","",IF(D14="COMPRA",-(J14+I14),IF(D14="VENDA",J14-I14,IF(D14="PROVENTO",J14-I14,0)))))) | M14: =IF(COUNTA(A14:I14,L14)=0,"",IF(AND(ISNUMBER(A14),A14>0,B14<>"",COUNTIF(Listas!$A$4:$A$8,C14)=1,COUNTIF(Listas!$C$4:$C$6,D14)=1,ISNUMBER(E14),IF(D14="PROVENTO",E14>=0,E14>0),ISNUMBER(F14),F14>=0,COUNTIF(Listas!$B$4:$B$5,G14)=1,ISNUMBER(H14),H14>0,IF(G14="BRL",H14=1,TRUE),OR(I14="",AND(ISNUMBER(I14),I14>=0))),"OK","Revisar dados"))
J15: =IF(M15="","",IF(M15<>"OK","Revisar dados",IF(B15="","",IF(D15="PROVENTO",F15*H15,E15*F15*H15)))) | K15: =IF(M15="","",IF(M15<>"OK","Revisar dados",IF(B15="","",IF(D15="COMPRA",-(J15+I15),IF(D15="VENDA",J15-I15,IF(D15="PROVENTO",J15-I15,0)))))) | M15: =IF(COUNTA(A15:I15,L15)=0,"",IF(AND(ISNUMBER(A15),A15>0,B15<>"",COUNTIF(Listas!$A$4:$A$8,C15)=1,COUNTIF(Listas!$C$4:$C$6,D15)=1,ISNUMBER(E15),IF(D15="PROVENTO",E15>=0,E15>0),ISNUMBER(F15),F15>=0,COUNTIF(Listas!$B$4:$B$5,G15)=1,ISNUMBER(H15),H15>0,IF(G15="BRL",H15=1,TRUE),OR(I15="",AND(ISNUMBER(I15),I15>=0))),"OK","Revisar dados"))
J16: =IF(M16="","",IF(M16<>"OK","Revisar dados",IF(B16="","",IF(D16="PROVENTO",F16*H16,E16*F16*H16)))) | K16: =IF(M16="","",IF(M16<>"OK","Revisar dados",IF(B16="","",IF(D16="COMPRA",-(J16+I16),IF(D16="VENDA",J16-I16,IF(D16="PROVENTO",J16-I16,0)))))) | M16: =IF(COUNTA(A16:I16,L16)=0,"",IF(AND(ISNUMBER(A16),A16>0,B16<>"",COUNTIF(Listas!$A$4:$A$8,C16)=1,COUNTIF(Listas!$C$4:$C$6,D16)=1,ISNUMBER(E16),IF(D16="PROVENTO",E16>=0,E16>0),ISNUMBER(F16),F16>=0,COUNTIF(Listas!$B$4:$B$5,G16)=1,ISNUMBER(H16),H16>0,IF(G16="BRL",H16=1,TRUE),OR(I16="",AND(ISNUMBER(I16),I16>=0))),"OK","Revisar dados"))
J17: =IF(M17="","",IF(M17<>"OK","Revisar dados",IF(B17="","",IF(D17="PROVENTO",F17*H17,E17*F17*H17)))) | K17: =IF(M17="","",IF(M17<>"OK","Revisar dados",IF(B17="","",IF(D17="COMPRA",-(J17+I17),IF(D17="VENDA",J17-I17,IF(D17="PROVENTO",J17-I17,0)))))) | M17: =IF(COUNTA(A17:I17,L17)=0,"",IF(AND(ISNUMBER(A17),A17>0,B17<>"",COUNTIF(Listas!$A$4:$A$8,C17)=1,COUNTIF(Listas!$C$4:$C$6,D17)=1,ISNUMBER(E17),IF(D17="PROVENTO",E17>=0,E17>0),ISNUMBER(F17),F17>=0,COUNTIF(Listas!$B$4:$B$5,G17)=1,ISNUMBER(H17),H17>0,IF(G17="BRL",H17=1,TRUE),OR(I17="",AND(ISNUMBER(I17),I17>=0))),"OK","Revisar dados"))
J18: =IF(M18="","",IF(M18<>"OK","Revisar dados",IF(B18="","",IF(D18="PROVENTO",F18*H18,E18*F18*H18)))) | K18: =IF(M18="","",IF(M18<>"OK","Revisar dados",IF(B18="","",IF(D18="COMPRA",-(J18+I18),IF(D18="VENDA",J18-I18,IF(D18="PROVENTO",J18-I18,0)))))) | M18: =IF(COUNTA(A18:I18,L18)=0,"",IF(AND(ISNUMBER(A18),A18>0,B18<>"",COUNTIF(Listas!$A$4:$A$8,C18)=1,COUNTIF(Listas!$C$4:$C$6,D18)=1,ISNUMBER(E18),IF(D18="PROVENTO",E18>=0,E18>0),ISNUMBER(F18),F18>=0,COUNTIF(Listas!$B$4:$B$5,G18)=1,ISNUMBER(H18),H18>0,IF(G18="BRL",H18=1,TRUE),OR(I18="",AND(ISNUMBER(I18),I18>=0))),"OK","Revisar dados"))
J19: =IF(M19="","",IF(M19<>"OK","Revisar dados",IF(B19="","",IF(D19="PROVENTO",F19*H19,E19*F19*H19)))) | K19: =IF(M19="","",IF(M19<>"OK","Revisar dados",IF(B19="","",IF(D19="COMPRA",-(J19+I19),IF(D19="VENDA",J19-I19,IF(D19="PROVENTO",J19-I19,0)))))) | M19: =IF(COUNTA(A19:I19,L19)=0,"",IF(AND(ISNUMBER(A19),A19>0,B19<>"",COUNTIF(Listas!$A$4:$A$8,C19)=1,COUNTIF(Listas!$C$4:$C$6,D19)=1,ISNUMBER(E19),IF(D19="PROVENTO",E19>=0,E19>0),ISNUMBER(F19),F19>=0,COUNTIF(Listas!$B$4:$B$5,G19)=1,ISNUMBER(H19),H19>0,IF(G19="BRL",H19=1,TRUE),OR(I19="",AND(ISNUMBER(I19),I19>=0))),"OK","Revisar dados"))
J20: =IF(M20="","",IF(M20<>"OK","Revisar dados",IF(B20="","",IF(D20="PROVENTO",F20*H20,E20*F20*H20)))) | K20: =IF(M20="","",IF(M20<>"OK","Revisar dados",IF(B20="","",IF(D20="COMPRA",-(J20+I20),IF(D20="VENDA",J20-I20,IF(D20="PROVENTO",J20-I20,0)))))) | M20: =IF(COUNTA(A20:I20,L20)=0,"",IF(AND(ISNUMBER(A20),A20>0,B20<>"",COUNTIF(Listas!$A$4:$A$8,C20)=1,COUNTIF(Listas!$C$4:$C$6,D20)=1,ISNUMBER(E20),IF(D20="PROVENTO",E20>=0,E20>0),ISNUMBER(F20),F20>=0,COUNTIF(Listas!$B$4:$B$5,G20)=1,ISNUMBER(H20),H20>0,IF(G20="BRL",H20=1,TRUE),OR(I20="",AND(ISNUMBER(I20),I20>=0))),"OK","Revisar dados"))
J21: =IF(M21="","",IF(M21<>"OK","Revisar dados",IF(B21="","",IF(D21="PROVENTO",F21*H21,E21*F21*H21)))) | K21: =IF(M21="","",IF(M21<>"OK","Revisar dados",IF(B21="","",IF(D21="COMPRA",-(J21+I21),IF(D21="VENDA",J21-I21,IF(D21="PROVENTO",J21-I21,0)))))) | M21: =IF(COUNTA(A21:I21,L21)=0,"",IF(AND(ISNUMBER(A21),A21>0,B21<>"",COUNTIF(Listas!$A$4:$A$8,C21)=1,COUNTIF(Listas!$C$4:$C$6,D21)=1,ISNUMBER(E21),IF(D21="PROVENTO",E21>=0,E21>0),ISNUMBER(F21),F21>=0,COUNTIF(Listas!$B$4:$B$5,G21)=1,ISNUMBER(H21),H21>0,IF(G21="BRL",H21=1,TRUE),OR(I21="",AND(ISNUMBER(I21),I21>=0))),"OK","Revisar dados"))
J22: =IF(M22="","",IF(M22<>"OK","Revisar dados",IF(B22="","",IF(D22="PROVENTO",F22*H22,E22*F22*H22)))) | K22: =IF(M22="","",IF(M22<>"OK","Revisar dados",IF(B22="","",IF(D22="COMPRA",-(J22+I22),IF(D22="VENDA",J22-I22,IF(D22="PROVENTO",J22-I22,0)))))) | M22: =IF(COUNTA(A22:I22,L22)=0,"",IF(AND(ISNUMBER(A22),A22>0,B22<>"",COUNTIF(Listas!$A$4:$A$8,C22)=1,COUNTIF(Listas!$C$4:$C$6,D22)=1,ISNUMBER(E22),IF(D22="PROVENTO",E22>=0,E22>0),ISNUMBER(F22),F22>=0,COUNTIF(Listas!$B$4:$B$5,G22)=1,ISNUMBER(H22),H22>0,IF(G22="BRL",H22=1,TRUE),OR(I22="",AND(ISNUMBER(I22),I22>=0))),"OK","Revisar dados"))
J23: =IF(M23="","",IF(M23<>"OK","Revisar dados",IF(B23="","",IF(D23="PROVENTO",F23*H23,E23*F23*H23)))) | K23: =IF(M23="","",IF(M23<>"OK","Revisar dados",IF(B23="","",IF(D23="COMPRA",-(J23+I23),IF(D23="VENDA",J23-I23,IF(D23="PROVENTO",J23-I23,0)))))) | M23: =IF(COUNTA(A23:I23,L23)=0,"",IF(AND(ISNUMBER(A23),A23>0,B23<>"",COUNTIF(Listas!$A$4:$A$8,C23)=1,COUNTIF(Listas!$C$4:$C$6,D23)=1,ISNUMBER(E23),IF(D23="PROVENTO",E23>=0,E23>0),ISNUMBER(F23),F23>=0,COUNTIF(Listas!$B$4:$B$5,G23)=1,ISNUMBER(H23),H23>0,IF(G23="BRL",H23=1,TRUE),OR(I23="",AND(ISNUMBER(I23),I23>=0))),"OK","Revisar dados"))
J24: =IF(M24="","",IF(M24<>"OK","Revisar dados",IF(B24="","",IF(D24="PROVENTO",F24*H24,E24*F24*H24)))) | K24: =IF(M24="","",IF(M24<>"OK","Revisar dados",IF(B24="","",IF(D24="COMPRA",-(J24+I24),IF(D24="VENDA",J24-I24,IF(D24="PROVENTO",J24-I24,0)))))) | M24: =IF(COUNTA(A24:I24,L24)=0,"",IF(AND(ISNUMBER(A24),A24>0,B24<>"",COUNTIF(Listas!$A$4:$A$8,C24)=1,COUNTIF(Listas!$C$4:$C$6,D24)=1,ISNUMBER(E24),IF(D24="PROVENTO",E24>=0,E24>0),ISNUMBER(F24),F24>=0,COUNTIF(Listas!$B$4:$B$5,G24)=1,ISNUMBER(H24),H24>0,IF(G24="BRL",H24=1,TRUE),OR(I24="",AND(ISNUMBER(I24),I24>=0))),"OK","Revisar dados"))
... J204: =IF(M204="","",IF(M204<>"OK","Revisar dados",IF(B204="","",IF(D204="PROVENTO",F204*H204,E204*F204*H204)))) | K204: =IF(M204="","",IF(M204<>"OK","Revisar dados",IF(B204="","",IF(D204="COMPRA",-(J204+I204),IF(D204="VENDA",J204-I204,IF(D204="PROVENTO",J204-I204,0)))))) | M204: =IF(COUNTA(A204:I204,L204)=0,"",IF(AND(ISNUMBER(A204),A204>0,B204<>"",COUNTIF(Listas!$A$4:$A$8,C204)=1,COUNTIF(Listas!$C$4:$C$6,D204)=1,ISNUMBER(E204),IF(D204="PROVENTO",E204>=0,E204>0),ISNUMBER(F204),F204>=0,COUNTIF(Listas!$B$4:$B$5,G204)=1,ISNUMBER(H204),H204>0,IF(G204="BRL",H204=1,TRUE),OR(I204="",AND(ISNUMBER(I204),I204>=0))),"OK","Revisar dados"))

Sheet Metas
A1: METAS E PARÂMETROS DA CARTEIRA
A3: Parâmetro | B3: Valor
A4: Data-base | B4: 46289.5
A5: Câmbio USD/BRL | B5: 5.45
A6: Aporte disponível | B6: 1500
A8: ALOCAÇÃO-ALVO POR CLASSE
A9: Classe | B9: % Alvo | C9: Faixa mínima | D9: Faixa máxima | F9: Soma das metas
A10: Ações Brasil | B10: 0.3 | C10: 0.25 | D10: 0.35 | F10: =SUM(B10:B14) -> 1
A11: FIIs | B11: 0.2 | C11: 0.15 | D11: 0.25
A12: Stocks | B12: 0.2 | C12: 0.15 | D12: 0.25 | F12: Conferência metas
A13: ETFs | B13: 0.15 | C13: 0.1 | D13: 0.2 | F13: =IF(AND(COUNT(B10:B14)=5,MIN(B10:B14)>=0,MAX(B10:B14)<=1,ABS(SUM(B10:B14)-1)<1/100000000,ISNUMBER(B6),B6>=0),"OK","Revisar metas") -> OK
A14: Renda Fixa | B14: 0.15 | C14: 0.1 | D14: 0.25
A16: Edite apenas as células amarelas. As metas devem somar 100%. A planilha usa essas metas para mostrar classes abaixo ou acima do objetivo e distribuir o aporte disponível proporcionalmente entre as lacunas.

Sheet Listas
A1: LISTAS DE APOIO
A3: Classes | B3: Moedas | C3: Eventos | D3: Decisões
A4: Ações Brasil | B4: BRL | C4: COMPRA | D4: COMPRAR
A5: FIIs | B5: USD | C5: VENDA | D5: APORTE PARCIAL
A6: Stocks | C6: PROVENTO | D6: AGUARDAR
A7: ETFs | D7: NÃO APLICÁVEL
A8: Renda Fixa

Sheet Instrucoes
A1: COMO USAR ESTA PLANILHA
A3: OBJETIVO: consolidar investimentos em reais, medir rentabilidade e proventos, comparar alocação atual com metas e orientar a distribuição de um novo aporte.
A5: 1. Ajuste parâmetros | B5: Na aba Metas, informe data-base, câmbio e aporte disponível. Revise os percentuais-alvo; a soma deve ser 100%.
A6: 2. Cadastre os ativos | B6: Carteira: entradas A:G, M, S e V; automáticas H:L, N:R, T:U e W. Até 100 ativos, linhas 5:104. Movimentacoes: entradas A:I e L; J:K e M automáticas, até 200 operações, linhas 5:204.
A7: 3. Registre operações | B7: Use Movimentacoes para compras, vendas e proventos. Essa aba mantém o histórico, mas a posição consolidada continua sendo atualizada na Carteira.
A8: 4. Leia o Dashboard | B8: Confira Carteira W e Movimentacoes M: dados faltantes/negativos, classe ou moeda inválida mostram Revisar dados. Totais da carteira ficam bloqueados até corrigir. Preço atual zero explícito é aceito, mas não gera sinal COMPRAR.
